{"text_format":"1","workbook":"xlsx","n_sheets":5,"sheets":["各団体(個人）申込書記入例(必読)","男子ﾃﾞｰﾀ貼付ｼｰﾄ","【様式1-1】男子団体（個人）申込書","女子ﾃﾞｰﾀ貼付ｼｰﾄ","【様式1-2】女子団体（個人）申込書"],"not_rendered":{"charts":0,"images":3,"macros":1,"external_links":2,"defined_names":30,"comments":5,"pivot_tables":0},"unopened":[],"bounds":{"document_bytes":16777216,"sheet_cells":100000,"rows_first":2000,"rows_last":500,"rows_between":2000,"halvings":0,"cell_chars":16384,"cell_head_chars":4096},"cells_cut":0,"cells_raw":0,"read":"whole","date_system":"1900"}

{"sheet":"各団体(個人）申込書記入例(必読)","index":0,"n_rows":79,"n_cols":20,"rows_kept":79,"cut":false,"hidden":false,"merged":[[50,17,50,18],[51,5,51,12],[51,15,51,17],[53,5,53,12],[55,5,56,5],[55,13,55,17],[55,18,56,18],[55,12,56,12],[76,14,76,15],[68,14,68,15],[70,14,70,15],[72,14,72,15],[74,14,74,15],[55,0,56,0],[55,3,56,3],[55,1,55,2],[55,6,56,6],[55,11,56,11],[55,7,56,7],[55,9,56,9]]}
["競技会参加申込の入力方法"]
[]
[null,"０．","この申込ファイルはマクロを含んでいます。以下の警告が出た場合は、「コンテンツの有効化」をクリックしてください。"]
[]
[]
[]
[]
[]
[]
[]
[null,"１．","「JAAF START」 のページから、登録情報のCSVファイルを作成する。"]
[null,null,"作成したCSVデータを貼り付ける。その際、男子のデータは 「男子ﾃﾞｰﾀ貼付ｼｰﾄ」 に、女子のデータは 「女子ﾃﾞｰﾀ貼付ｼｰﾄ」 に貼り付ける。"]
[null,null,"「登録番号」 (もしくはＡ列) が昇順になるように並べ替える。 ( 「登録番号順に並び替え」 ボタンで並び替えてください。)"]
[]
[null,null,"※今年度は新潟県登録番号をまだ割り振られていない会員が多い為、登録番号が空欄のままだと先へ進めませんので、1から連番を入力してください。"]
[]
[]
[]
[]
[]
[]
[]
[]
[]
["　↓",null,null,null,null,"↓　「登録番号順に並べ替え」ボタンを押す",null,null,null,null,null,null,null,null,null,null,null,null,null,"↓"]
[]
[]
[]
[]
[]
[]
[]
[]
[null,"２．","「 【様式1-1】男子申込書」 「 【様式1-2】女子申込書」 のそれぞれに、所属名・学校名、記載責任者、電話番号などを記入する。"]
[null,null,"所属については、「 ○○大 」、「 ○○高 」 などのように、校種区分が分かるようにしておくこと。"]
[]
[null,"３．","登録ナンバーを｢県ナンバー｣列に記入する。そうすると、その右側に氏名から国籍まで、登録情報が自動入力されます。"]
[null,null,"「 県ナンバー 」 については新潟県は今年度割り振られていない会員が多いので、1から連番を入力してください。「 北ナンバー 」 は空欄にしておくこと。"]
[null,null,"なお、氏名以下を直接手入力するは、苗字と名前の間は全角文字1つ分のスペースを入れておくこと。"]
[null,null,"　　　　　　　　　　　　　　　　ﾌﾘｶﾞﾅについて、半角ｶﾀｶﾅ、ｱﾙﾌｧﾍﾞｯﾄともに半角文字で入力し、姓名の間は半角文字1つ分のスペースを入力。"]
[null,null,"　　　　　　　　　　　　　　　　さらにｱﾙﾌｧﾍﾞｯﾄについては姓は全て大文字、名は最初の１文字のみ大文字で他は小文字で入力し、"]
[null,null,"　　　　　　　　　　　　　　　　数字は半角で記入。生年月日の欄は西暦8桁を記入すること。"]
[]
[null,"４．","種目はリストから選択すること。"]
[]
[null,"５．","記録は分・秒、小数点、ｍ (ﾒｰﾄﾙ) は省略する。　　　11\"45→1145,　　　4'28\"35→42835,　　　11'35\"6→113560,　　　1m45→145,　　　48m32→4832　など"]
[]
[null,"６．","標準記録突破者は、自己最高記録の欄のみ記入。"]
[null,null,"ハンマーの左投げ、ハードル・投擲の規格外の記録、陸協推薦　に該当する場合は、「備考」 欄のリストから選んで入力すること。"]
[]
[null,null,null,null,null,null,null,null,null,null,null,null,null,null,null,null,null,"【様式1-1】"]
[null,null,null,"大会名",null,"第６７回北陸地域陸上競技選手権大会",null,null,null,null,null,null,null,null,null,"参加申込一覧表（　男子　）"]
[]
[null,null,null,"所属学校・団体名 ",null,{"$f":"IF(男子ﾃﾞｰﾀ貼付ｼｰﾄ!$U$3=\"\",\"\",男子ﾃﾞｰﾀ貼付ｼｰﾄ!$U$3)","v":""},null,null,null,null,null,null,null,{"$f":"IF(F54=\"\",\"\",男子ﾃﾞｰﾀ貼付ｼｰﾄ!X51)","v":""}]
[]
[null,"ﾅﾝﾊﾞｰ",null,"氏　名","ﾌﾘｶﾞﾅ","ｱﾙﾌｧﾍﾞｯﾄ表記","性別","学年","生年","所属","登録","国籍","種目","参加標準記録",null,null,null,null,"備考"]
[null,"北","県",null,"(半角ｶﾀｶﾅ)",null,null,null,"西暦4桁",null,"都道府県",null,null,"記録","順位","年月(4桁)","大会名","場所"]
[1,null,273,"福井 一郎","ﾌｸｲ ｲﾁﾛｳ","FUKUI Ichiro","男","1","2005","越前RC","福井","JPN","ハンマー投",4893,2,2305,"北陸選手権","西部緑地","ﾊﾝﾏｰ左投"]
[2,null,274,"大野 高志","ｵｵﾉ ﾀｶｼ","ONO Takashi","男","2","2006","越前RC","福井","JPN","100m",1045,1,2210,"国民体育大会","ｶﾝｾｷｽﾀｼﾞｱﾑ"]
[3,null,275,"敦賀 浩司","ﾂﾙｶﾞ ｺｳｼﾞ","TSURUGA Koji","男","3","2005","越前RC","福井","JPN","110mH",1484,3,2210,"第17回U18陸上競技大会","ﾆﾝｼﾞﾆｱｽﾀｼﾞｱﾑ","規格外"]
[4,null,275,"敦賀 浩司","ﾂﾙｶﾞ ｺｳｼﾞ","TSURUGA Koji","男","3","2005","越前RC","福井","JPN","三段跳",1390,2,2209,"福井県高校新人大会","敦賀"]
[5,null,276,"小浜 哲男","ｵﾊﾞﾏ ﾃﾂｵ","OBAMA Tetsuo","男","3","2005","越前RC","福井","JPN","走幅跳",688,2,2208,"県民スポーツ祭","大野"]
[6,null,277,"坂井 ルーカス","ｻｶｲ ﾙｰｶｽ","SAKAI Lucus","男","3","2005","越前RC","福井","BRA","5000m",144982,6,2305,"福井県選手権","福井"]
[7,null,273,"福井 一郎","ﾌｸｲ ｲﾁﾛｳ","FUKUI Ichiro","男","1","2005","越前RC","福井","JPN","400mR",4141,2,2305,"福井県選手権","福井"]
[8,null,274,"大野 高志","ｵｵﾉ ﾀｶｼ","ONO Takashi","男","2","2006","越前RC","福井","JPN","400mR"]
[9,null,275,"敦賀 浩司","ﾂﾙｶﾞ ｺｳｼﾞ","TSURUGA Koji","男","3","2005","越前RC","福井","JPN","400mR"]
[10,null,276,"小浜 哲男","ｵﾊﾞﾏ ﾃﾂｵ","OBAMA Tetsuo","男","3","2005","越前RC","福井","JPN","400mR"]
[]
["※記入方法について",null,null,null,null,null,null,null,null,null,null,null,null,"一般",2000,null,1,"（種目）",null,{"$f":"Q69*O69","v":2000}]
["１．ナンバーの県欄には、各県登録ナンバーを記入　北欄の記載は不要"]
["２．最高記録は2022/1/1 から 大会申込締切まで の最高記録を記入",null,null,null,null,null,null,null,null,null,null,null,null,"高校生",1500,null,5,"（種目）",null,{"$f":"Q71*O71","v":7500}]
["３．種目の年、月は記録を出した年を西暦下二けた(19or20)と月の４桁で記入"]
["４．不足する場合は、27行と68行の間の行を再表示してください。",null,null,null,null,null,null,null,null,null,null,null,null,"中学生",1000,null,null,"（種目）",null,{"$f":"Q73*O73","v":0}]
["　　それでも足りない場合は、行をコピーして挿入してください。"]
["５．申込書記入例を参考に種目等を記入してください。",null,null,null,null,null,null,null,null,null,null,null,null,"混成",3000,null,null,"（種目）",null,{"$f":"Q75*O75","v":0}]
["※","個人情報保護について",null,null,null,null,null,null,null,null,null,null,null,"　"]
[null,"ここに書かれている内容については本大会の運営だけに利用し、",null,null,null,null,null,null,null,null,null,null,null,"リレー",3000,null,1,"（種目）",null,{"$f":"Q77*O77","v":3000}]
[null,"その他、外部への情報供与は一切行いません。"]
[null,null,null,null,null,null,null,null,null,null,null,null,null,null,null,"合計",null,null,"合計",{"$f":"T69+T71+T73+T75+T77","v":12500}]

{"sheet":"男子ﾃﾞｰﾀ貼付ｼｰﾄ","index":1,"n_rows":202,"n_cols":27,"rows_kept":202,"cut":false,"hidden":false,"merged":[[1,0,1,3]]}
[null,null,null,null,"貼り付けはＥ列から→"]
["↓    この列には貼り付けないで！    ↓",null,null,null,"年度","JAAF ID","氏名\n（姓）","氏名\n（名）","登録\n番号","フリガナ\n（姓）","フリガナ\n（名）","英字\n（姓）","英字\n（名）","国籍","性別","登録都道\n府県番号","登録都道\n府県名","団体UID","団体ID","団体名","団体名\n略称1","団体名\n略称2","生年月日","旧団体\nコード","備\n考","学\n年","団体\n区分"]
[{"$f":"IF(I3=\"\",\"\",I3)","v":""},{"$f":"IF(A3=\"\",\"\",G3&\" \"&H3)","v":""},{"$f":"IF(A3=\"\",\"\",ASC(J3&\" \"&K3))","v":""},{"$f":"IF(A3=\"\",\"\",L3&\" \"&M3)","v":""}]
["","","",""]
["","","",""]
["","","",""]
["","","",""]
["","","",""]
["","","",""]
["","","",""]
["","","",""]
["","","",""]
["","","",""]
["","","",""]
["","","",""]
["","","",""]
["","","",""]
["","","",""]
["","","",""]
["","","",""]
["","","",""]
["","","",""]
["","","",""]
["","","",""]
["","","",""]
["","","",""]
["","","",""]
["","","",""]
["","","",""]
["","","",""]
["","","",""]
["","","",""]
["","","",""]
["","","",""]
[{"$f":"IF(I35=\"\",\"\",I35)","v":""},{"$f":"IF(A35=\"\",\"\",G35&\" \"&H35)","v":""},{"$f":"IF(A35=\"\",\"\",ASC(J35&\" \"&K35))","v":""},{"$f":"IF(A35=\"\",\"\",L35&\" \"&M35)","v":""}]
["","","",""]
["","","",""]
["","","",""]
["","","",""]
["","","",""]
["","","",""]
["","","",""]
["","","",""]
["","","",""]
["","","",""]
["","","",""]
["","","",""]
["","","",""]
["","","",""]
["","","",""]
["","","",""]
["","","",""]
["","","",""]
["","","",""]
["","","",""]
["","","",""]
["","","",""]
["","","",""]
["","","",""]
["","","",""]
["","","",""]
["","","",""]
["","","",""]
["","","",""]
["","","",""]
["","","",""]
[{"$f":"IF(I67=\"\",\"\",I67)","v":""},{"$f":"IF(A67=\"\",\"\",G67&\" \"&H67)","v":""},{"$f":"IF(A67=\"\",\"\",ASC(J67&\" \"&K67))","v":""},{"$f":"IF(A67=\"\",\"\",L67&\" \"&M67)","v":""}]
["","","",""]
["","","",""]
["","","",""]
["","","",""]
["","","",""]
["","","",""]
["","","",""]
["","","",""]
["","","",""]
["","","",""]
["","","",""]
["","","",""]
["","","",""]
["","","",""]
["","","",""]
["","","",""]
["","","",""]
["","","",""]
["","","",""]
["","","",""]
["","","",""]
["","","",""]
["","","",""]
["","","",""]
["","","",""]
["","","",""]
["","","",""]
["","","",""]
["","","",""]
["","","",""]
["","","",""]
[{"$f":"IF(I99=\"\",\"\",I99)","v":""},{"$f":"IF(A99=\"\",\"\",G99&\" \"&H99)","v":""},{"$f":"IF(A99=\"\",\"\",ASC(J99&\" \"&K99))","v":""},{"$f":"IF(A99=\"\",\"\",L99&\" \"&M99)","v":""}]
["","","",""]
["","","",""]
["","","",""]
["","","",""]
["","","",""]
["","","",""]
["","","",""]
["","","",""]
["","","",""]
["","","",""]
["","","",""]
["","","",""]
["","","",""]
["","","",""]
["","","",""]
["","","",""]
["","","",""]
["","","",""]
["","","",""]
["","","",""]
["","","",""]
["","","",""]
["","","",""]
["","","",""]
["","","",""]
["","","",""]
["","","",""]
["","","",""]
["","","",""]
["","","",""]
["","","",""]
[{"$f":"IF(I131=\"\",\"\",I131)","v":""},{"$f":"IF(A131=\"\",\"\",G131&\" \"&H131)","v":""},{"$f":"IF(A131=\"\",\"\",ASC(J131&\" \"&K131))","v":""},{"$f":"IF(A131=\"\",\"\",L131&\" \"&M131)","v":""}]
["","","",""]
["","","",""]
["","","",""]
["","","",""]
["","","",""]
["","","",""]
["","","",""]
["","","",""]
["","","",""]
["","","",""]
["","","",""]
["","","",""]
["","","",""]
["","","",""]
["","","",""]
["","","",""]
["","","",""]
["","","",""]
["","","",""]
["","","",""]
["","","",""]
["","","",""]
["","","",""]
["","","",""]
["","","",""]
["","","",""]
["","","",""]
["","","",""]
["","","",""]
["","","",""]
["","","",""]
[{"$f":"IF(I163=\"\",\"\",I163)","v":""},{"$f":"IF(A163=\"\",\"\",G163&\" \"&H163)","v":""},{"$f":"IF(A163=\"\",\"\",ASC(J163&\" \"&K163))","v":""},{"$f":"IF(A163=\"\",\"\",L163&\" \"&M163)","v":""}]
["","","",""]
["","","",""]
["","","",""]
["","","",""]
["","","",""]
["","","",""]
["","","",""]
["","","",""]
["","","",""]
["","","",""]
["","","",""]
["","","",""]
["","","",""]
["","","",""]
["","","",""]
["","","",""]
["","","",""]
["","","",""]
["","","",""]
["","","",""]
["","","",""]
["","","",""]
["","","",""]
["","","",""]
["","","",""]
["","","",""]
["","","",""]
["","","",""]
["","","",""]
["","","",""]
["","","",""]
[{"$f":"IF(I195=\"\",\"\",I195)","v":""},{"$f":"IF(A195=\"\",\"\",G195&\" \"&H195)","v":""},{"$f":"IF(A195=\"\",\"\",ASC(J195&\" \"&K195))","v":""},{"$f":"IF(A195=\"\",\"\",L195&\" \"&M195)","v":""}]
["","","",""]
["","","",""]
["","","",""]
["","","",""]
["","","",""]
["","","",""]
["","","",""]

{"sheet":"【様式1-1】男子団体（個人）申込書","index":2,"n_rows":88,"n_cols":21,"rows_kept":88,"cut":false,"hidden":false,"merged":[[5,0,6,0],[5,1,5,2],[5,3,6,3],[5,5,6,5],[5,6,6,6],[0,17,0,18],[86,3,86,8],[87,3,87,8],[5,12,6,12],[84,3,84,5],[85,3,85,8],[5,18,6,18],[1,15,1,17],[5,13,5,17],[81,13,81,16],[82,13,82,16],[1,5,1,12],[3,5,3,12],[5,7,6,7],[5,9,6,9],[5,11,6,11]]}
[null,null,null,null,null,null,null,null,null,null,null,null,null,null,null,null,null,"【様式1-1】"]
[null,null,null,"大会名",null,"第６７回北陸地域陸上競技選手権大会",null,null,null,null,null,null,null,null,null,"参加申込一覧表（　男子　）"]
[]
[null,null,null,"所属学校・団体名 ",null,{"$f":"IF(男子ﾃﾞｰﾀ貼付ｼｰﾄ!$U$3=\"\",\"\",男子ﾃﾞｰﾀ貼付ｼｰﾄ!$U$3)","v":""},null,null,null,null,null,null,null,{"$f":"IF(F4=\"\",\"\",男子ﾃﾞｰﾀ貼付ｼｰﾄ!X3)","v":""}]
[]
[null,"ﾅﾝﾊﾞｰ",null,"氏　名","ﾌﾘｶﾞﾅ","ｱﾙﾌｧﾍﾞｯﾄ表記","性別","学年","生年","所属","登録","国籍","種目","参加標準記録",null,null,null,null,"備考"]
[null,"北","県",null,"(半角ｶﾀｶﾅ)",null,null,null,"西暦4桁",null,"都道府県",null,null,"記録","順位","年月(4桁)","大会名","場所"]
[1,null,null,{"$f":"IF($C8=\"\",\"\",VLOOKUP($C8,男子ﾃﾞｰﾀ貼付ｼｰﾄ!$A$3:$AA$201,2))","v":""},{"$f":"IF($C8=\"\",\"\",VLOOKUP($C8,男子ﾃﾞｰﾀ貼付ｼｰﾄ!$A$3:$AA$201,3))","v":""},{"$f":"IF($C8=\"\",\"\",VLOOKUP($C8,男子ﾃﾞｰﾀ貼付ｼｰﾄ!$A$3:$AA$201,4))","v":""},"男",{"$f":"IF($C8=\"\",\"\",RIGHT(VLOOKUP($C8,男子ﾃﾞｰﾀ貼付ｼｰﾄ!$A$3:$AA$201,26),1))","v":""},{"$f":"IF($C8=\"\",\"\",TEXT(VLOOKUP($C8,男子ﾃﾞｰﾀ貼付ｼｰﾄ!$A$3:$AA$201,23),\"yyyy\"))","v":""},{"$f":"IF($C8=\"\",\"\",VLOOKUP($C8,男子ﾃﾞｰﾀ貼付ｼｰﾄ!$A$3:$AA$201,21))","v":""},{"$f":"IF($C8=\"\",\"\",VLOOKUP($C8,男子ﾃﾞｰﾀ貼付ｼｰﾄ!$A$3:$AA$201,17))","v":""},{"$f":"IF($C8=\"\",\"\",VLOOKUP($C8,男子ﾃﾞｰﾀ貼付ｼｰﾄ!$A$3:$AA$201,14))","v":""},null,null,null,null,null,null,null,{"$f":"IF(U8=\"\",\"\",TEXT(U8,\"yyyymmdd\"))","v":""},{"$f":"IF(D8=\"\",\"\",VLOOKUP(C8,男子ﾃﾞｰﾀ貼付ｼｰﾄ!$A$3:$AA$202,23))","v":""}]
[2,null,null,{"$f":"IF($C9=\"\",\"\",VLOOKUP($C9,男子ﾃﾞｰﾀ貼付ｼｰﾄ!$A$3:$AA$201,2))","v":""},{"$f":"IF($C9=\"\",\"\",VLOOKUP($C9,男子ﾃﾞｰﾀ貼付ｼｰﾄ!$A$3:$AA$201,3))","v":""},{"$f":"IF($C9=\"\",\"\",VLOOKUP($C9,男子ﾃﾞｰﾀ貼付ｼｰﾄ!$A$3:$AA$201,4))","v":""},"男",{"$f":"IF($C9=\"\",\"\",RIGHT(VLOOKUP($C9,男子ﾃﾞｰﾀ貼付ｼｰﾄ!$A$3:$AA$201,26),1))","v":""},{"$f":"IF($C9=\"\",\"\",TEXT(VLOOKUP($C9,男子ﾃﾞｰﾀ貼付ｼｰﾄ!$A$3:$AA$201,23),\"yyyy\"))","v":""},{"$f":"IF($C9=\"\",\"\",VLOOKUP($C9,男子ﾃﾞｰﾀ貼付ｼｰﾄ!$A$3:$AA$201,21))","v":""},{"$f":"IF($C9=\"\",\"\",VLOOKUP($C9,男子ﾃﾞｰﾀ貼付ｼｰﾄ!$A$3:$AA$201,17))","v":""},{"$f":"IF($C9=\"\",\"\",VLOOKUP($C9,男子ﾃﾞｰﾀ貼付ｼｰﾄ!$A$3:$AA$201,14))","v":""},null,null,null,null,null,null,null,{"$f":"IF(U9=\"\",\"\",TEXT(U9,\"yyyymmdd\"))","v":""},{"$f":"IF(D9=\"\",\"\",VLOOKUP(C9,男子ﾃﾞｰﾀ貼付ｼｰﾄ!$A$3:$AA$202,23))","v":""}]
[3,null,null,{"$f":"IF($C10=\"\",\"\",VLOOKUP($C10,男子ﾃﾞｰﾀ貼付ｼｰﾄ!$A$3:$AA$201,2))","v":""},{"$f":"IF($C10=\"\",\"\",VLOOKUP($C10,男子ﾃﾞｰﾀ貼付ｼｰﾄ!$A$3:$AA$201,3))","v":""},{"$f":"IF($C10=\"\",\"\",VLOOKUP($C10,男子ﾃﾞｰﾀ貼付ｼｰﾄ!$A$3:$AA$201,4))","v":""},"男",{"$f":"IF($C10=\"\",\"\",RIGHT(VLOOKUP($C10,男子ﾃﾞｰﾀ貼付ｼｰﾄ!$A$3:$AA$201,26),1))","v":""},{"$f":"IF($C10=\"\",\"\",TEXT(VLOOKUP($C10,男子ﾃﾞｰﾀ貼付ｼｰﾄ!$A$3:$AA$201,23),\"yyyy\"))","v":""},{"$f":"IF($C10=\"\",\"\",VLOOKUP($C10,男子ﾃﾞｰﾀ貼付ｼｰﾄ!$A$3:$AA$201,21))","v":""},{"$f":"IF($C10=\"\",\"\",VLOOKUP($C10,男子ﾃﾞｰﾀ貼付ｼｰﾄ!$A$3:$AA$201,17))","v":""},{"$f":"IF($C10=\"\",\"\",VLOOKUP($C10,男子ﾃﾞｰﾀ貼付ｼｰﾄ!$A$3:$AA$201,14))","v":""},null,null,null,null,null,null,null,"",{"$f":"IF(D10=\"\",\"\",VLOOKUP(C10,男子ﾃﾞｰﾀ貼付ｼｰﾄ!$A$3:$AA$202,23))","v":""}]
[4,null,null,{"$f":"IF($C11=\"\",\"\",VLOOKUP($C11,男子ﾃﾞｰﾀ貼付ｼｰﾄ!$A$3:$AA$201,2))","v":""},{"$f":"IF($C11=\"\",\"\",VLOOKUP($C11,男子ﾃﾞｰﾀ貼付ｼｰﾄ!$A$3:$AA$201,3))","v":""},{"$f":"IF($C11=\"\",\"\",VLOOKUP($C11,男子ﾃﾞｰﾀ貼付ｼｰﾄ!$A$3:$AA$201,4))","v":""},"男",{"$f":"IF($C11=\"\",\"\",RIGHT(VLOOKUP($C11,男子ﾃﾞｰﾀ貼付ｼｰﾄ!$A$3:$AA$201,26),1))","v":""},{"$f":"IF($C11=\"\",\"\",TEXT(VLOOKUP($C11,男子ﾃﾞｰﾀ貼付ｼｰﾄ!$A$3:$AA$201,23),\"yyyy\"))","v":""},{"$f":"IF($C11=\"\",\"\",VLOOKUP($C11,男子ﾃﾞｰﾀ貼付ｼｰﾄ!$A$3:$AA$201,21))","v":""},{"$f":"IF($C11=\"\",\"\",VLOOKUP($C11,男子ﾃﾞｰﾀ貼付ｼｰﾄ!$A$3:$AA$201,17))","v":""},{"$f":"IF($C11=\"\",\"\",VLOOKUP($C11,男子ﾃﾞｰﾀ貼付ｼｰﾄ!$A$3:$AA$201,14))","v":""},null,null,null,null,null,null,null,"",{"$f":"IF(D11=\"\",\"\",VLOOKUP(C11,男子ﾃﾞｰﾀ貼付ｼｰﾄ!$A$3:$AA$202,23))","v":""}]
[5,null,null,{"$f":"IF($C12=\"\",\"\",VLOOKUP($C12,男子ﾃﾞｰﾀ貼付ｼｰﾄ!$A$3:$AA$201,2))","v":""},{"$f":"IF($C12=\"\",\"\",VLOOKUP($C12,男子ﾃﾞｰﾀ貼付ｼｰﾄ!$A$3:$AA$201,3))","v":""},{"$f":"IF($C12=\"\",\"\",VLOOKUP($C12,男子ﾃﾞｰﾀ貼付ｼｰﾄ!$A$3:$AA$201,4))","v":""},"男",{"$f":"IF($C12=\"\",\"\",RIGHT(VLOOKUP($C12,男子ﾃﾞｰﾀ貼付ｼｰﾄ!$A$3:$AA$201,26),1))","v":""},{"$f":"IF($C12=\"\",\"\",TEXT(VLOOKUP($C12,男子ﾃﾞｰﾀ貼付ｼｰﾄ!$A$3:$AA$201,23),\"yyyy\"))","v":""},{"$f":"IF($C12=\"\",\"\",VLOOKUP($C12,男子ﾃﾞｰﾀ貼付ｼｰﾄ!$A$3:$AA$201,21))","v":""},{"$f":"IF($C12=\"\",\"\",VLOOKUP($C12,男子ﾃﾞｰﾀ貼付ｼｰﾄ!$A$3:$AA$201,17))","v":""},{"$f":"IF($C12=\"\",\"\",VLOOKUP($C12,男子ﾃﾞｰﾀ貼付ｼｰﾄ!$A$3:$AA$201,14))","v":""},null,null,null,null,null,null,null,"",{"$f":"IF(D12=\"\",\"\",VLOOKUP(C12,男子ﾃﾞｰﾀ貼付ｼｰﾄ!$A$3:$AA$202,23))","v":""}]
[6,null,null,{"$f":"IF($C13=\"\",\"\",VLOOKUP($C13,男子ﾃﾞｰﾀ貼付ｼｰﾄ!$A$3:$AA$201,2))","v":""},{"$f":"IF($C13=\"\",\"\",VLOOKUP($C13,男子ﾃﾞｰﾀ貼付ｼｰﾄ!$A$3:$AA$201,3))","v":""},{"$f":"IF($C13=\"\",\"\",VLOOKUP($C13,男子ﾃﾞｰﾀ貼付ｼｰﾄ!$A$3:$AA$201,4))","v":""},"男",{"$f":"IF($C13=\"\",\"\",RIGHT(VLOOKUP($C13,男子ﾃﾞｰﾀ貼付ｼｰﾄ!$A$3:$AA$201,26),1))","v":""},{"$f":"IF($C13=\"\",\"\",TEXT(VLOOKUP($C13,男子ﾃﾞｰﾀ貼付ｼｰﾄ!$A$3:$AA$201,23),\"yyyy\"))","v":""},{"$f":"IF($C13=\"\",\"\",VLOOKUP($C13,男子ﾃﾞｰﾀ貼付ｼｰﾄ!$A$3:$AA$201,21))","v":""},{"$f":"IF($C13=\"\",\"\",VLOOKUP($C13,男子ﾃﾞｰﾀ貼付ｼｰﾄ!$A$3:$AA$201,17))","v":""},{"$f":"IF($C13=\"\",\"\",VLOOKUP($C13,男子ﾃﾞｰﾀ貼付ｼｰﾄ!$A$3:$AA$201,14))","v":""},null,null,null,null,null,null,null,"",{"$f":"IF(D13=\"\",\"\",VLOOKUP(C13,男子ﾃﾞｰﾀ貼付ｼｰﾄ!$A$3:$AA$202,23))","v":""}]
[7,null,null,{"$f":"IF($C14=\"\",\"\",VLOOKUP($C14,男子ﾃﾞｰﾀ貼付ｼｰﾄ!$A$3:$AA$201,2))","v":""},{"$f":"IF($C14=\"\",\"\",VLOOKUP($C14,男子ﾃﾞｰﾀ貼付ｼｰﾄ!$A$3:$AA$201,3))","v":""},{"$f":"IF($C14=\"\",\"\",VLOOKUP($C14,男子ﾃﾞｰﾀ貼付ｼｰﾄ!$A$3:$AA$201,4))","v":""},"男",{"$f":"IF($C14=\"\",\"\",RIGHT(VLOOKUP($C14,男子ﾃﾞｰﾀ貼付ｼｰﾄ!$A$3:$AA$201,26),1))","v":""},{"$f":"IF($C14=\"\",\"\",TEXT(VLOOKUP($C14,男子ﾃﾞｰﾀ貼付ｼｰﾄ!$A$3:$AA$201,23),\"yyyy\"))","v":""},{"$f":"IF($C14=\"\",\"\",VLOOKUP($C14,男子ﾃﾞｰﾀ貼付ｼｰﾄ!$A$3:$AA$201,21))","v":""},{"$f":"IF($C14=\"\",\"\",VLOOKUP($C14,男子ﾃﾞｰﾀ貼付ｼｰﾄ!$A$3:$AA$201,17))","v":""},{"$f":"IF($C14=\"\",\"\",VLOOKUP($C14,男子ﾃﾞｰﾀ貼付ｼｰﾄ!$A$3:$AA$201,14))","v":""},null,null,null,null,null,null,null,"",{"$f":"IF(D14=\"\",\"\",VLOOKUP(C14,男子ﾃﾞｰﾀ貼付ｼｰﾄ!$A$3:$AA$202,23))","v":""}]
[8,null,null,{"$f":"IF($C15=\"\",\"\",VLOOKUP($C15,男子ﾃﾞｰﾀ貼付ｼｰﾄ!$A$3:$AA$201,2))","v":""},{"$f":"IF($C15=\"\",\"\",VLOOKUP($C15,男子ﾃﾞｰﾀ貼付ｼｰﾄ!$A$3:$AA$201,3))","v":""},{"$f":"IF($C15=\"\",\"\",VLOOKUP($C15,男子ﾃﾞｰﾀ貼付ｼｰﾄ!$A$3:$AA$201,4))","v":""},"男",{"$f":"IF($C15=\"\",\"\",RIGHT(VLOOKUP($C15,男子ﾃﾞｰﾀ貼付ｼｰﾄ!$A$3:$AA$201,26),1))","v":""},{"$f":"IF($C15=\"\",\"\",TEXT(VLOOKUP($C15,男子ﾃﾞｰﾀ貼付ｼｰﾄ!$A$3:$AA$201,23),\"yyyy\"))","v":""},{"$f":"IF($C15=\"\",\"\",VLOOKUP($C15,男子ﾃﾞｰﾀ貼付ｼｰﾄ!$A$3:$AA$201,21))","v":""},{"$f":"IF($C15=\"\",\"\",VLOOKUP($C15,男子ﾃﾞｰﾀ貼付ｼｰﾄ!$A$3:$AA$201,17))","v":""},{"$f":"IF($C15=\"\",\"\",VLOOKUP($C15,男子ﾃﾞｰﾀ貼付ｼｰﾄ!$A$3:$AA$201,14))","v":""},null,null,null,null,null,null,null,"",{"$f":"IF(D15=\"\",\"\",VLOOKUP(C15,男子ﾃﾞｰﾀ貼付ｼｰﾄ!$A$3:$AA$202,23))","v":""}]
[9,null,null,{"$f":"IF($C16=\"\",\"\",VLOOKUP($C16,男子ﾃﾞｰﾀ貼付ｼｰﾄ!$A$3:$AA$201,2))","v":""},{"$f":"IF($C16=\"\",\"\",VLOOKUP($C16,男子ﾃﾞｰﾀ貼付ｼｰﾄ!$A$3:$AA$201,3))","v":""},{"$f":"IF($C16=\"\",\"\",VLOOKUP($C16,男子ﾃﾞｰﾀ貼付ｼｰﾄ!$A$3:$AA$201,4))","v":""},"男",{"$f":"IF($C16=\"\",\"\",RIGHT(VLOOKUP($C16,男子ﾃﾞｰﾀ貼付ｼｰﾄ!$A$3:$AA$201,26),1))","v":""},{"$f":"IF($C16=\"\",\"\",TEXT(VLOOKUP($C16,男子ﾃﾞｰﾀ貼付ｼｰﾄ!$A$3:$AA$201,23),\"yyyy\"))","v":""},{"$f":"IF($C16=\"\",\"\",VLOOKUP($C16,男子ﾃﾞｰﾀ貼付ｼｰﾄ!$A$3:$AA$201,21))","v":""},{"$f":"IF($C16=\"\",\"\",VLOOKUP($C16,男子ﾃﾞｰﾀ貼付ｼｰﾄ!$A$3:$AA$201,17))","v":""},{"$f":"IF($C16=\"\",\"\",VLOOKUP($C16,男子ﾃﾞｰﾀ貼付ｼｰﾄ!$A$3:$AA$201,14))","v":""},null,null,null,null,null,null,null,"",{"$f":"IF(D16=\"\",\"\",VLOOKUP(C16,男子ﾃﾞｰﾀ貼付ｼｰﾄ!$A$3:$AA$202,23))","v":""}]
[10,null,null,{"$f":"IF($C17=\"\",\"\",VLOOKUP($C17,男子ﾃﾞｰﾀ貼付ｼｰﾄ!$A$3:$AA$201,2))","v":""},{"$f":"IF($C17=\"\",\"\",VLOOKUP($C17,男子ﾃﾞｰﾀ貼付ｼｰﾄ!$A$3:$AA$201,3))","v":""},{"$f":"IF($C17=\"\",\"\",VLOOKUP($C17,男子ﾃﾞｰﾀ貼付ｼｰﾄ!$A$3:$AA$201,4))","v":""},"男",{"$f":"IF($C17=\"\",\"\",RIGHT(VLOOKUP($C17,男子ﾃﾞｰﾀ貼付ｼｰﾄ!$A$3:$AA$201,26),1))","v":""},{"$f":"IF($C17=\"\",\"\",TEXT(VLOOKUP($C17,男子ﾃﾞｰﾀ貼付ｼｰﾄ!$A$3:$AA$201,23),\"yyyy\"))","v":""},{"$f":"IF($C17=\"\",\"\",VLOOKUP($C17,男子ﾃﾞｰﾀ貼付ｼｰﾄ!$A$3:$AA$201,21))","v":""},{"$f":"IF($C17=\"\",\"\",VLOOKUP($C17,男子ﾃﾞｰﾀ貼付ｼｰﾄ!$A$3:$AA$201,17))","v":""},{"$f":"IF($C17=\"\",\"\",VLOOKUP($C17,男子ﾃﾞｰﾀ貼付ｼｰﾄ!$A$3:$AA$201,14))","v":""},null,null,null,null,null,null,null,"",{"$f":"IF(D17=\"\",\"\",VLOOKUP(C17,男子ﾃﾞｰﾀ貼付ｼｰﾄ!$A$3:$AA$202,23))","v":""}]
[11,null,null,{"$f":"IF($C18=\"\",\"\",VLOOKUP($C18,男子ﾃﾞｰﾀ貼付ｼｰﾄ!$A$3:$AA$201,2))","v":""},{"$f":"IF($C18=\"\",\"\",VLOOKUP($C18,男子ﾃﾞｰﾀ貼付ｼｰﾄ!$A$3:$AA$201,3))","v":""},{"$f":"IF($C18=\"\",\"\",VLOOKUP($C18,男子ﾃﾞｰﾀ貼付ｼｰﾄ!$A$3:$AA$201,4))","v":""},"男",{"$f":"IF($C18=\"\",\"\",RIGHT(VLOOKUP($C18,男子ﾃﾞｰﾀ貼付ｼｰﾄ!$A$3:$AA$201,26),1))","v":""},{"$f":"IF($C18=\"\",\"\",TEXT(VLOOKUP($C18,男子ﾃﾞｰﾀ貼付ｼｰﾄ!$A$3:$AA$201,23),\"yyyy\"))","v":""},{"$f":"IF($C18=\"\",\"\",VLOOKUP($C18,男子ﾃﾞｰﾀ貼付ｼｰﾄ!$A$3:$AA$201,21))","v":""},{"$f":"IF($C18=\"\",\"\",VLOOKUP($C18,男子ﾃﾞｰﾀ貼付ｼｰﾄ!$A$3:$AA$201,17))","v":""},{"$f":"IF($C18=\"\",\"\",VLOOKUP($C18,男子ﾃﾞｰﾀ貼付ｼｰﾄ!$A$3:$AA$201,14))","v":""},null,null,null,null,null,null,null,"",{"$f":"IF(D18=\"\",\"\",VLOOKUP(C18,男子ﾃﾞｰﾀ貼付ｼｰﾄ!$A$3:$AA$202,23))","v":""}]
[12,null,null,{"$f":"IF($C19=\"\",\"\",VLOOKUP($C19,男子ﾃﾞｰﾀ貼付ｼｰﾄ!$A$3:$AA$201,2))","v":""},{"$f":"IF($C19=\"\",\"\",VLOOKUP($C19,男子ﾃﾞｰﾀ貼付ｼｰﾄ!$A$3:$AA$201,3))","v":""},{"$f":"IF($C19=\"\",\"\",VLOOKUP($C19,男子ﾃﾞｰﾀ貼付ｼｰﾄ!$A$3:$AA$201,4))","v":""},"男",{"$f":"IF($C19=\"\",\"\",RIGHT(VLOOKUP($C19,男子ﾃﾞｰﾀ貼付ｼｰﾄ!$A$3:$AA$201,26),1))","v":""},{"$f":"IF($C19=\"\",\"\",TEXT(VLOOKUP($C19,男子ﾃﾞｰﾀ貼付ｼｰﾄ!$A$3:$AA$201,23),\"yyyy\"))","v":""},{"$f":"IF($C19=\"\",\"\",VLOOKUP($C19,男子ﾃﾞｰﾀ貼付ｼｰﾄ!$A$3:$AA$201,21))","v":""},{"$f":"IF($C19=\"\",\"\",VLOOKUP($C19,男子ﾃﾞｰﾀ貼付ｼｰﾄ!$A$3:$AA$201,17))","v":""},{"$f":"IF($C19=\"\",\"\",VLOOKUP($C19,男子ﾃﾞｰﾀ貼付ｼｰﾄ!$A$3:$AA$201,14))","v":""},null,null,null,null,null,null,null,"",{"$f":"IF(D19=\"\",\"\",VLOOKUP(C19,男子ﾃﾞｰﾀ貼付ｼｰﾄ!$A$3:$AA$202,23))","v":""}]
[13,null,null,{"$f":"IF($C20=\"\",\"\",VLOOKUP($C20,男子ﾃﾞｰﾀ貼付ｼｰﾄ!$A$3:$AA$201,2))","v":""},{"$f":"IF($C20=\"\",\"\",VLOOKUP($C20,男子ﾃﾞｰﾀ貼付ｼｰﾄ!$A$3:$AA$201,3))","v":""},{"$f":"IF($C20=\"\",\"\",VLOOKUP($C20,男子ﾃﾞｰﾀ貼付ｼｰﾄ!$A$3:$AA$201,4))","v":""},"男",{"$f":"IF($C20=\"\",\"\",RIGHT(VLOOKUP($C20,男子ﾃﾞｰﾀ貼付ｼｰﾄ!$A$3:$AA$201,26),1))","v":""},{"$f":"IF($C20=\"\",\"\",TEXT(VLOOKUP($C20,男子ﾃﾞｰﾀ貼付ｼｰﾄ!$A$3:$AA$201,23),\"yyyy\"))","v":""},{"$f":"IF($C20=\"\",\"\",VLOOKUP($C20,男子ﾃﾞｰﾀ貼付ｼｰﾄ!$A$3:$AA$201,21))","v":""},{"$f":"IF($C20=\"\",\"\",VLOOKUP($C20,男子ﾃﾞｰﾀ貼付ｼｰﾄ!$A$3:$AA$201,17))","v":""},{"$f":"IF($C20=\"\",\"\",VLOOKUP($C20,男子ﾃﾞｰﾀ貼付ｼｰﾄ!$A$3:$AA$201,14))","v":""},null,null,null,null,null,null,null,"",{"$f":"IF(D20=\"\",\"\",VLOOKUP(C20,男子ﾃﾞｰﾀ貼付ｼｰﾄ!$A$3:$AA$202,23))","v":""}]
[14,null,null,{"$f":"IF($C21=\"\",\"\",VLOOKUP($C21,男子ﾃﾞｰﾀ貼付ｼｰﾄ!$A$3:$AA$201,2))","v":""},{"$f":"IF($C21=\"\",\"\",VLOOKUP($C21,男子ﾃﾞｰﾀ貼付ｼｰﾄ!$A$3:$AA$201,3))","v":""},{"$f":"IF($C21=\"\",\"\",VLOOKUP($C21,男子ﾃﾞｰﾀ貼付ｼｰﾄ!$A$3:$AA$201,4))","v":""},"男",{"$f":"IF($C21=\"\",\"\",RIGHT(VLOOKUP($C21,男子ﾃﾞｰﾀ貼付ｼｰﾄ!$A$3:$AA$201,26),1))","v":""},{"$f":"IF($C21=\"\",\"\",TEXT(VLOOKUP($C21,男子ﾃﾞｰﾀ貼付ｼｰﾄ!$A$3:$AA$201,23),\"yyyy\"))","v":""},{"$f":"IF($C21=\"\",\"\",VLOOKUP($C21,男子ﾃﾞｰﾀ貼付ｼｰﾄ!$A$3:$AA$201,21))","v":""},{"$f":"IF($C21=\"\",\"\",VLOOKUP($C21,男子ﾃﾞｰﾀ貼付ｼｰﾄ!$A$3:$AA$201,17))","v":""},{"$f":"IF($C21=\"\",\"\",VLOOKUP($C21,男子ﾃﾞｰﾀ貼付ｼｰﾄ!$A$3:$AA$201,14))","v":""},null,null,null,null,null,null,null,"",{"$f":"IF(D21=\"\",\"\",VLOOKUP(C21,男子ﾃﾞｰﾀ貼付ｼｰﾄ!$A$3:$AA$202,23))","v":""}]
[15,null,null,{"$f":"IF($C22=\"\",\"\",VLOOKUP($C22,男子ﾃﾞｰﾀ貼付ｼｰﾄ!$A$3:$AA$201,2))","v":""},{"$f":"IF($C22=\"\",\"\",VLOOKUP($C22,男子ﾃﾞｰﾀ貼付ｼｰﾄ!$A$3:$AA$201,3))","v":""},{"$f":"IF($C22=\"\",\"\",VLOOKUP($C22,男子ﾃﾞｰﾀ貼付ｼｰﾄ!$A$3:$AA$201,4))","v":""},"男",{"$f":"IF($C22=\"\",\"\",RIGHT(VLOOKUP($C22,男子ﾃﾞｰﾀ貼付ｼｰﾄ!$A$3:$AA$201,26),1))","v":""},{"$f":"IF($C22=\"\",\"\",TEXT(VLOOKUP($C22,男子ﾃﾞｰﾀ貼付ｼｰﾄ!$A$3:$AA$201,23),\"yyyy\"))","v":""},{"$f":"IF($C22=\"\",\"\",VLOOKUP($C22,男子ﾃﾞｰﾀ貼付ｼｰﾄ!$A$3:$AA$201,21))","v":""},{"$f":"IF($C22=\"\",\"\",VLOOKUP($C22,男子ﾃﾞｰﾀ貼付ｼｰﾄ!$A$3:$AA$201,17))","v":""},{"$f":"IF($C22=\"\",\"\",VLOOKUP($C22,男子ﾃﾞｰﾀ貼付ｼｰﾄ!$A$3:$AA$201,14))","v":""},null,null,null,null,null,null,null,"",{"$f":"IF(D22=\"\",\"\",VLOOKUP(C22,男子ﾃﾞｰﾀ貼付ｼｰﾄ!$A$3:$AA$202,23))","v":""}]
[16,null,null,{"$f":"IF($C23=\"\",\"\",VLOOKUP($C23,男子ﾃﾞｰﾀ貼付ｼｰﾄ!$A$3:$AA$201,2))","v":""},{"$f":"IF($C23=\"\",\"\",VLOOKUP($C23,男子ﾃﾞｰﾀ貼付ｼｰﾄ!$A$3:$AA$201,3))","v":""},{"$f":"IF($C23=\"\",\"\",VLOOKUP($C23,男子ﾃﾞｰﾀ貼付ｼｰﾄ!$A$3:$AA$201,4))","v":""},"男",{"$f":"IF($C23=\"\",\"\",RIGHT(VLOOKUP($C23,男子ﾃﾞｰﾀ貼付ｼｰﾄ!$A$3:$AA$201,26),1))","v":""},{"$f":"IF($C23=\"\",\"\",TEXT(VLOOKUP($C23,男子ﾃﾞｰﾀ貼付ｼｰﾄ!$A$3:$AA$201,23),\"yyyy\"))","v":""},{"$f":"IF($C23=\"\",\"\",VLOOKUP($C23,男子ﾃﾞｰﾀ貼付ｼｰﾄ!$A$3:$AA$201,21))","v":""},{"$f":"IF($C23=\"\",\"\",VLOOKUP($C23,男子ﾃﾞｰﾀ貼付ｼｰﾄ!$A$3:$AA$201,17))","v":""},{"$f":"IF($C23=\"\",\"\",VLOOKUP($C23,男子ﾃﾞｰﾀ貼付ｼｰﾄ!$A$3:$AA$201,14))","v":""},null,null,null,null,null,null,null,"",{"$f":"IF(D23=\"\",\"\",VLOOKUP(C23,男子ﾃﾞｰﾀ貼付ｼｰﾄ!$A$3:$AA$202,23))","v":""}]
[17,null,null,{"$f":"IF($C24=\"\",\"\",VLOOKUP($C24,男子ﾃﾞｰﾀ貼付ｼｰﾄ!$A$3:$AA$201,2))","v":""},{"$f":"IF($C24=\"\",\"\",VLOOKUP($C24,男子ﾃﾞｰﾀ貼付ｼｰﾄ!$A$3:$AA$201,3))","v":""},{"$f":"IF($C24=\"\",\"\",VLOOKUP($C24,男子ﾃﾞｰﾀ貼付ｼｰﾄ!$A$3:$AA$201,4))","v":""},"男",{"$f":"IF($C24=\"\",\"\",RIGHT(VLOOKUP($C24,男子ﾃﾞｰﾀ貼付ｼｰﾄ!$A$3:$AA$201,26),1))","v":""},{"$f":"IF($C24=\"\",\"\",TEXT(VLOOKUP($C24,男子ﾃﾞｰﾀ貼付ｼｰﾄ!$A$3:$AA$201,23),\"yyyy\"))","v":""},{"$f":"IF($C24=\"\",\"\",VLOOKUP($C24,男子ﾃﾞｰﾀ貼付ｼｰﾄ!$A$3:$AA$201,21))","v":""},{"$f":"IF($C24=\"\",\"\",VLOOKUP($C24,男子ﾃﾞｰﾀ貼付ｼｰﾄ!$A$3:$AA$201,17))","v":""},{"$f":"IF($C24=\"\",\"\",VLOOKUP($C24,男子ﾃﾞｰﾀ貼付ｼｰﾄ!$A$3:$AA$201,14))","v":""},null,null,null,null,null,null,null,"",{"$f":"IF(D24=\"\",\"\",VLOOKUP(C24,男子ﾃﾞｰﾀ貼付ｼｰﾄ!$A$3:$AA$202,23))","v":""}]
[18,null,null,{"$f":"IF($C25=\"\",\"\",VLOOKUP($C25,男子ﾃﾞｰﾀ貼付ｼｰﾄ!$A$3:$AA$201,2))","v":""},{"$f":"IF($C25=\"\",\"\",VLOOKUP($C25,男子ﾃﾞｰﾀ貼付ｼｰﾄ!$A$3:$AA$201,3))","v":""},{"$f":"IF($C25=\"\",\"\",VLOOKUP($C25,男子ﾃﾞｰﾀ貼付ｼｰﾄ!$A$3:$AA$201,4))","v":""},"男",{"$f":"IF($C25=\"\",\"\",RIGHT(VLOOKUP($C25,男子ﾃﾞｰﾀ貼付ｼｰﾄ!$A$3:$AA$201,26),1))","v":""},{"$f":"IF($C25=\"\",\"\",TEXT(VLOOKUP($C25,男子ﾃﾞｰﾀ貼付ｼｰﾄ!$A$3:$AA$201,23),\"yyyy\"))","v":""},{"$f":"IF($C25=\"\",\"\",VLOOKUP($C25,男子ﾃﾞｰﾀ貼付ｼｰﾄ!$A$3:$AA$201,21))","v":""},{"$f":"IF($C25=\"\",\"\",VLOOKUP($C25,男子ﾃﾞｰﾀ貼付ｼｰﾄ!$A$3:$AA$201,17))","v":""},{"$f":"IF($C25=\"\",\"\",VLOOKUP($C25,男子ﾃﾞｰﾀ貼付ｼｰﾄ!$A$3:$AA$201,14))","v":""},null,null,null,null,null,null,null,"",{"$f":"IF(D25=\"\",\"\",VLOOKUP(C25,男子ﾃﾞｰﾀ貼付ｼｰﾄ!$A$3:$AA$202,23))","v":""}]
[19,null,null,{"$f":"IF($C26=\"\",\"\",VLOOKUP($C26,男子ﾃﾞｰﾀ貼付ｼｰﾄ!$A$3:$AA$201,2))","v":""},{"$f":"IF($C26=\"\",\"\",VLOOKUP($C26,男子ﾃﾞｰﾀ貼付ｼｰﾄ!$A$3:$AA$201,3))","v":""},{"$f":"IF($C26=\"\",\"\",VLOOKUP($C26,男子ﾃﾞｰﾀ貼付ｼｰﾄ!$A$3:$AA$201,4))","v":""},"男",{"$f":"IF($C26=\"\",\"\",RIGHT(VLOOKUP($C26,男子ﾃﾞｰﾀ貼付ｼｰﾄ!$A$3:$AA$201,26),1))","v":""},{"$f":"IF($C26=\"\",\"\",TEXT(VLOOKUP($C26,男子ﾃﾞｰﾀ貼付ｼｰﾄ!$A$3:$AA$201,23),\"yyyy\"))","v":""},{"$f":"IF($C26=\"\",\"\",VLOOKUP($C26,男子ﾃﾞｰﾀ貼付ｼｰﾄ!$A$3:$AA$201,21))","v":""},{"$f":"IF($C26=\"\",\"\",VLOOKUP($C26,男子ﾃﾞｰﾀ貼付ｼｰﾄ!$A$3:$AA$201,17))","v":""},{"$f":"IF($C26=\"\",\"\",VLOOKUP($C26,男子ﾃﾞｰﾀ貼付ｼｰﾄ!$A$3:$AA$201,14))","v":""},null,null,null,null,null,null,null,"",{"$f":"IF(D26=\"\",\"\",VLOOKUP(C26,男子ﾃﾞｰﾀ貼付ｼｰﾄ!$A$3:$AA$202,23))","v":""}]
[20,null,null,{"$f":"IF($C27=\"\",\"\",VLOOKUP($C27,男子ﾃﾞｰﾀ貼付ｼｰﾄ!$A$3:$AA$201,2))","v":""},{"$f":"IF($C27=\"\",\"\",VLOOKUP($C27,男子ﾃﾞｰﾀ貼付ｼｰﾄ!$A$3:$AA$201,3))","v":""},{"$f":"IF($C27=\"\",\"\",VLOOKUP($C27,男子ﾃﾞｰﾀ貼付ｼｰﾄ!$A$3:$AA$201,4))","v":""},"男",{"$f":"IF($C27=\"\",\"\",RIGHT(VLOOKUP($C27,男子ﾃﾞｰﾀ貼付ｼｰﾄ!$A$3:$AA$201,26),1))","v":""},{"$f":"IF($C27=\"\",\"\",TEXT(VLOOKUP($C27,男子ﾃﾞｰﾀ貼付ｼｰﾄ!$A$3:$AA$201,23),\"yyyy\"))","v":""},{"$f":"IF($C27=\"\",\"\",VLOOKUP($C27,男子ﾃﾞｰﾀ貼付ｼｰﾄ!$A$3:$AA$201,21))","v":""},{"$f":"IF($C27=\"\",\"\",VLOOKUP($C27,男子ﾃﾞｰﾀ貼付ｼｰﾄ!$A$3:$AA$201,17))","v":""},{"$f":"IF($C27=\"\",\"\",VLOOKUP($C27,男子ﾃﾞｰﾀ貼付ｼｰﾄ!$A$3:$AA$201,14))","v":""},null,null,null,null,null,null,null,"",{"$f":"IF(D27=\"\",\"\",VLOOKUP(C27,男子ﾃﾞｰﾀ貼付ｼｰﾄ!$A$3:$AA$202,23))","v":""}]
[21,null,null,{"$f":"IF($C28=\"\",\"\",VLOOKUP($C28,男子ﾃﾞｰﾀ貼付ｼｰﾄ!$A$3:$AA$201,2))","v":""},{"$f":"IF($C28=\"\",\"\",VLOOKUP($C28,男子ﾃﾞｰﾀ貼付ｼｰﾄ!$A$3:$AA$201,3))","v":""},{"$f":"IF($C28=\"\",\"\",VLOOKUP($C28,男子ﾃﾞｰﾀ貼付ｼｰﾄ!$A$3:$AA$201,4))","v":""},"男",{"$f":"IF($C28=\"\",\"\",RIGHT(VLOOKUP($C28,男子ﾃﾞｰﾀ貼付ｼｰﾄ!$A$3:$AA$201,26),1))","v":""},{"$f":"IF($C28=\"\",\"\",TEXT(VLOOKUP($C28,男子ﾃﾞｰﾀ貼付ｼｰﾄ!$A$3:$AA$201,23),\"yyyy\"))","v":""},{"$f":"IF($C28=\"\",\"\",VLOOKUP($C28,男子ﾃﾞｰﾀ貼付ｼｰﾄ!$A$3:$AA$201,21))","v":""},{"$f":"IF($C28=\"\",\"\",VLOOKUP($C28,男子ﾃﾞｰﾀ貼付ｼｰﾄ!$A$3:$AA$201,17))","v":""},{"$f":"IF($C28=\"\",\"\",VLOOKUP($C28,男子ﾃﾞｰﾀ貼付ｼｰﾄ!$A$3:$AA$201,14))","v":""},null,null,null,null,null,null,null,"",{"$f":"IF(D28=\"\",\"\",VLOOKUP(C28,男子ﾃﾞｰﾀ貼付ｼｰﾄ!$A$3:$AA$202,23))","v":""}]
[22,null,null,{"$f":"IF($C29=\"\",\"\",VLOOKUP($C29,男子ﾃﾞｰﾀ貼付ｼｰﾄ!$A$3:$AA$201,2))","v":""},{"$f":"IF($C29=\"\",\"\",VLOOKUP($C29,男子ﾃﾞｰﾀ貼付ｼｰﾄ!$A$3:$AA$201,3))","v":""},{"$f":"IF($C29=\"\",\"\",VLOOKUP($C29,男子ﾃﾞｰﾀ貼付ｼｰﾄ!$A$3:$AA$201,4))","v":""},"男",{"$f":"IF($C29=\"\",\"\",RIGHT(VLOOKUP($C29,男子ﾃﾞｰﾀ貼付ｼｰﾄ!$A$3:$AA$201,26),1))","v":""},{"$f":"IF($C29=\"\",\"\",TEXT(VLOOKUP($C29,男子ﾃﾞｰﾀ貼付ｼｰﾄ!$A$3:$AA$201,23),\"yyyy\"))","v":""},{"$f":"IF($C29=\"\",\"\",VLOOKUP($C29,男子ﾃﾞｰﾀ貼付ｼｰﾄ!$A$3:$AA$201,21))","v":""},{"$f":"IF($C29=\"\",\"\",VLOOKUP($C29,男子ﾃﾞｰﾀ貼付ｼｰﾄ!$A$3:$AA$201,17))","v":""},{"$f":"IF($C29=\"\",\"\",VLOOKUP($C29,男子ﾃﾞｰﾀ貼付ｼｰﾄ!$A$3:$AA$201,14))","v":""},null,null,null,null,null,null,null,"",{"$f":"IF(D29=\"\",\"\",VLOOKUP(C29,男子ﾃﾞｰﾀ貼付ｼｰﾄ!$A$3:$AA$202,23))","v":""}]
[23,null,null,{"$f":"IF($C30=\"\",\"\",VLOOKUP($C30,男子ﾃﾞｰﾀ貼付ｼｰﾄ!$A$3:$AA$201,2))","v":""},{"$f":"IF($C30=\"\",\"\",VLOOKUP($C30,男子ﾃﾞｰﾀ貼付ｼｰﾄ!$A$3:$AA$201,3))","v":""},{"$f":"IF($C30=\"\",\"\",VLOOKUP($C30,男子ﾃﾞｰﾀ貼付ｼｰﾄ!$A$3:$AA$201,4))","v":""},"男",{"$f":"IF($C30=\"\",\"\",RIGHT(VLOOKUP($C30,男子ﾃﾞｰﾀ貼付ｼｰﾄ!$A$3:$AA$201,26),1))","v":""},{"$f":"IF($C30=\"\",\"\",TEXT(VLOOKUP($C30,男子ﾃﾞｰﾀ貼付ｼｰﾄ!$A$3:$AA$201,23),\"yyyy\"))","v":""},{"$f":"IF($C30=\"\",\"\",VLOOKUP($C30,男子ﾃﾞｰﾀ貼付ｼｰﾄ!$A$3:$AA$201,21))","v":""},{"$f":"IF($C30=\"\",\"\",VLOOKUP($C30,男子ﾃﾞｰﾀ貼付ｼｰﾄ!$A$3:$AA$201,17))","v":""},{"$f":"IF($C30=\"\",\"\",VLOOKUP($C30,男子ﾃﾞｰﾀ貼付ｼｰﾄ!$A$3:$AA$201,14))","v":""},null,null,null,null,null,null,null,"",{"$f":"IF(D30=\"\",\"\",VLOOKUP(C30,男子ﾃﾞｰﾀ貼付ｼｰﾄ!$A$3:$AA$202,23))","v":""}]
[24,null,null,{"$f":"IF($C31=\"\",\"\",VLOOKUP($C31,男子ﾃﾞｰﾀ貼付ｼｰﾄ!$A$3:$AA$201,2))","v":""},{"$f":"IF($C31=\"\",\"\",VLOOKUP($C31,男子ﾃﾞｰﾀ貼付ｼｰﾄ!$A$3:$AA$201,3))","v":""},{"$f":"IF($C31=\"\",\"\",VLOOKUP($C31,男子ﾃﾞｰﾀ貼付ｼｰﾄ!$A$3:$AA$201,4))","v":""},"男",{"$f":"IF($C31=\"\",\"\",RIGHT(VLOOKUP($C31,男子ﾃﾞｰﾀ貼付ｼｰﾄ!$A$3:$AA$201,26),1))","v":""},{"$f":"IF($C31=\"\",\"\",TEXT(VLOOKUP($C31,男子ﾃﾞｰﾀ貼付ｼｰﾄ!$A$3:$AA$201,23),\"yyyy\"))","v":""},{"$f":"IF($C31=\"\",\"\",VLOOKUP($C31,男子ﾃﾞｰﾀ貼付ｼｰﾄ!$A$3:$AA$201,21))","v":""},{"$f":"IF($C31=\"\",\"\",VLOOKUP($C31,男子ﾃﾞｰﾀ貼付ｼｰﾄ!$A$3:$AA$201,17))","v":""},{"$f":"IF($C31=\"\",\"\",VLOOKUP($C31,男子ﾃﾞｰﾀ貼付ｼｰﾄ!$A$3:$AA$201,14))","v":""},null,null,null,null,null,null,null,"",{"$f":"IF(D31=\"\",\"\",VLOOKUP(C31,男子ﾃﾞｰﾀ貼付ｼｰﾄ!$A$3:$AA$202,23))","v":""}]
[25,null,null,{"$f":"IF($C32=\"\",\"\",VLOOKUP($C32,男子ﾃﾞｰﾀ貼付ｼｰﾄ!$A$3:$AA$201,2))","v":""},{"$f":"IF($C32=\"\",\"\",VLOOKUP($C32,男子ﾃﾞｰﾀ貼付ｼｰﾄ!$A$3:$AA$201,3))","v":""},{"$f":"IF($C32=\"\",\"\",VLOOKUP($C32,男子ﾃﾞｰﾀ貼付ｼｰﾄ!$A$3:$AA$201,4))","v":""},"男",{"$f":"IF($C32=\"\",\"\",RIGHT(VLOOKUP($C32,男子ﾃﾞｰﾀ貼付ｼｰﾄ!$A$3:$AA$201,26),1))","v":""},{"$f":"IF($C32=\"\",\"\",TEXT(VLOOKUP($C32,男子ﾃﾞｰﾀ貼付ｼｰﾄ!$A$3:$AA$201,23),\"yyyy\"))","v":""},{"$f":"IF($C32=\"\",\"\",VLOOKUP($C32,男子ﾃﾞｰﾀ貼付ｼｰﾄ!$A$3:$AA$201,21))","v":""},{"$f":"IF($C32=\"\",\"\",VLOOKUP($C32,男子ﾃﾞｰﾀ貼付ｼｰﾄ!$A$3:$AA$201,17))","v":""},{"$f":"IF($C32=\"\",\"\",VLOOKUP($C32,男子ﾃﾞｰﾀ貼付ｼｰﾄ!$A$3:$AA$201,14))","v":""},null,null,null,null,null,null,null,"",{"$f":"IF(D32=\"\",\"\",VLOOKUP(C32,男子ﾃﾞｰﾀ貼付ｼｰﾄ!$A$3:$AA$202,23))","v":""}]
[26,null,null,{"$f":"IF($C33=\"\",\"\",VLOOKUP($C33,男子ﾃﾞｰﾀ貼付ｼｰﾄ!$A$3:$AA$201,2))","v":""},{"$f":"IF($C33=\"\",\"\",VLOOKUP($C33,男子ﾃﾞｰﾀ貼付ｼｰﾄ!$A$3:$AA$201,3))","v":""},{"$f":"IF($C33=\"\",\"\",VLOOKUP($C33,男子ﾃﾞｰﾀ貼付ｼｰﾄ!$A$3:$AA$201,4))","v":""},"男",{"$f":"IF($C33=\"\",\"\",RIGHT(VLOOKUP($C33,男子ﾃﾞｰﾀ貼付ｼｰﾄ!$A$3:$AA$201,26),1))","v":""},{"$f":"IF($C33=\"\",\"\",TEXT(VLOOKUP($C33,男子ﾃﾞｰﾀ貼付ｼｰﾄ!$A$3:$AA$201,23),\"yyyy\"))","v":""},{"$f":"IF($C33=\"\",\"\",VLOOKUP($C33,男子ﾃﾞｰﾀ貼付ｼｰﾄ!$A$3:$AA$201,21))","v":""},{"$f":"IF($C33=\"\",\"\",VLOOKUP($C33,男子ﾃﾞｰﾀ貼付ｼｰﾄ!$A$3:$AA$201,17))","v":""},{"$f":"IF($C33=\"\",\"\",VLOOKUP($C33,男子ﾃﾞｰﾀ貼付ｼｰﾄ!$A$3:$AA$201,14))","v":""},null,null,null,null,null,null,null,"",{"$f":"IF(D33=\"\",\"\",VLOOKUP(C33,男子ﾃﾞｰﾀ貼付ｼｰﾄ!$A$3:$AA$202,23))","v":""}]
[27,null,null,{"$f":"IF($C34=\"\",\"\",VLOOKUP($C34,男子ﾃﾞｰﾀ貼付ｼｰﾄ!$A$3:$AA$201,2))","v":""},{"$f":"IF($C34=\"\",\"\",VLOOKUP($C34,男子ﾃﾞｰﾀ貼付ｼｰﾄ!$A$3:$AA$201,3))","v":""},{"$f":"IF($C34=\"\",\"\",VLOOKUP($C34,男子ﾃﾞｰﾀ貼付ｼｰﾄ!$A$3:$AA$201,4))","v":""},"男",{"$f":"IF($C34=\"\",\"\",RIGHT(VLOOKUP($C34,男子ﾃﾞｰﾀ貼付ｼｰﾄ!$A$3:$AA$201,26),1))","v":""},{"$f":"IF($C34=\"\",\"\",TEXT(VLOOKUP($C34,男子ﾃﾞｰﾀ貼付ｼｰﾄ!$A$3:$AA$201,23),\"yyyy\"))","v":""},{"$f":"IF($C34=\"\",\"\",VLOOKUP($C34,男子ﾃﾞｰﾀ貼付ｼｰﾄ!$A$3:$AA$201,21))","v":""},{"$f":"IF($C34=\"\",\"\",VLOOKUP($C34,男子ﾃﾞｰﾀ貼付ｼｰﾄ!$A$3:$AA$201,17))","v":""},{"$f":"IF($C34=\"\",\"\",VLOOKUP($C34,男子ﾃﾞｰﾀ貼付ｼｰﾄ!$A$3:$AA$201,14))","v":""},null,null,null,null,null,null,null,"",{"$f":"IF(D34=\"\",\"\",VLOOKUP(C34,男子ﾃﾞｰﾀ貼付ｼｰﾄ!$A$3:$AA$202,23))","v":""}]
[28,null,null,{"$f":"IF($C35=\"\",\"\",VLOOKUP($C35,男子ﾃﾞｰﾀ貼付ｼｰﾄ!$A$3:$AA$201,2))","v":""},{"$f":"IF($C35=\"\",\"\",VLOOKUP($C35,男子ﾃﾞｰﾀ貼付ｼｰﾄ!$A$3:$AA$201,3))","v":""},{"$f":"IF($C35=\"\",\"\",VLOOKUP($C35,男子ﾃﾞｰﾀ貼付ｼｰﾄ!$A$3:$AA$201,4))","v":""},"男",{"$f":"IF($C35=\"\",\"\",RIGHT(VLOOKUP($C35,男子ﾃﾞｰﾀ貼付ｼｰﾄ!$A$3:$AA$201,26),1))","v":""},{"$f":"IF($C35=\"\",\"\",TEXT(VLOOKUP($C35,男子ﾃﾞｰﾀ貼付ｼｰﾄ!$A$3:$AA$201,23),\"yyyy\"))","v":""},{"$f":"IF($C35=\"\",\"\",VLOOKUP($C35,男子ﾃﾞｰﾀ貼付ｼｰﾄ!$A$3:$AA$201,21))","v":""},{"$f":"IF($C35=\"\",\"\",VLOOKUP($C35,男子ﾃﾞｰﾀ貼付ｼｰﾄ!$A$3:$AA$201,17))","v":""},{"$f":"IF($C35=\"\",\"\",VLOOKUP($C35,男子ﾃﾞｰﾀ貼付ｼｰﾄ!$A$3:$AA$201,14))","v":""},null,null,null,null,null,null,null,"",{"$f":"IF(D35=\"\",\"\",VLOOKUP(C35,男子ﾃﾞｰﾀ貼付ｼｰﾄ!$A$3:$AA$202,23))","v":""}]
[29,null,null,{"$f":"IF($C36=\"\",\"\",VLOOKUP($C36,男子ﾃﾞｰﾀ貼付ｼｰﾄ!$A$3:$AA$201,2))","v":""},{"$f":"IF($C36=\"\",\"\",VLOOKUP($C36,男子ﾃﾞｰﾀ貼付ｼｰﾄ!$A$3:$AA$201,3))","v":""},{"$f":"IF($C36=\"\",\"\",VLOOKUP($C36,男子ﾃﾞｰﾀ貼付ｼｰﾄ!$A$3:$AA$201,4))","v":""},"男",{"$f":"IF($C36=\"\",\"\",RIGHT(VLOOKUP($C36,男子ﾃﾞｰﾀ貼付ｼｰﾄ!$A$3:$AA$201,26),1))","v":""},{"$f":"IF($C36=\"\",\"\",TEXT(VLOOKUP($C36,男子ﾃﾞｰﾀ貼付ｼｰﾄ!$A$3:$AA$201,23),\"yyyy\"))","v":""},{"$f":"IF($C36=\"\",\"\",VLOOKUP($C36,男子ﾃﾞｰﾀ貼付ｼｰﾄ!$A$3:$AA$201,21))","v":""},{"$f":"IF($C36=\"\",\"\",VLOOKUP($C36,男子ﾃﾞｰﾀ貼付ｼｰﾄ!$A$3:$AA$201,17))","v":""},{"$f":"IF($C36=\"\",\"\",VLOOKUP($C36,男子ﾃﾞｰﾀ貼付ｼｰﾄ!$A$3:$AA$201,14))","v":""},null,null,null,null,null,null,null,"",{"$f":"IF(D36=\"\",\"\",VLOOKUP(C36,男子ﾃﾞｰﾀ貼付ｼｰﾄ!$A$3:$AA$202,23))","v":""}]
[30,null,null,{"$f":"IF($C37=\"\",\"\",VLOOKUP($C37,男子ﾃﾞｰﾀ貼付ｼｰﾄ!$A$3:$AA$201,2))","v":""},{"$f":"IF($C37=\"\",\"\",VLOOKUP($C37,男子ﾃﾞｰﾀ貼付ｼｰﾄ!$A$3:$AA$201,3))","v":""},{"$f":"IF($C37=\"\",\"\",VLOOKUP($C37,男子ﾃﾞｰﾀ貼付ｼｰﾄ!$A$3:$AA$201,4))","v":""},"男",{"$f":"IF($C37=\"\",\"\",RIGHT(VLOOKUP($C37,男子ﾃﾞｰﾀ貼付ｼｰﾄ!$A$3:$AA$201,26),1))","v":""},{"$f":"IF($C37=\"\",\"\",TEXT(VLOOKUP($C37,男子ﾃﾞｰﾀ貼付ｼｰﾄ!$A$3:$AA$201,23),\"yyyy\"))","v":""},{"$f":"IF($C37=\"\",\"\",VLOOKUP($C37,男子ﾃﾞｰﾀ貼付ｼｰﾄ!$A$3:$AA$201,21))","v":""},{"$f":"IF($C37=\"\",\"\",VLOOKUP($C37,男子ﾃﾞｰﾀ貼付ｼｰﾄ!$A$3:$AA$201,17))","v":""},{"$f":"IF($C37=\"\",\"\",VLOOKUP($C37,男子ﾃﾞｰﾀ貼付ｼｰﾄ!$A$3:$AA$201,14))","v":""},null,null,null,null,null,null,null,"",{"$f":"IF(D37=\"\",\"\",VLOOKUP(C37,男子ﾃﾞｰﾀ貼付ｼｰﾄ!$A$3:$AA$202,23))","v":""}]
[31,null,null,{"$f":"IF($C38=\"\",\"\",VLOOKUP($C38,男子ﾃﾞｰﾀ貼付ｼｰﾄ!$A$3:$AA$201,2))","v":""},{"$f":"IF($C38=\"\",\"\",VLOOKUP($C38,男子ﾃﾞｰﾀ貼付ｼｰﾄ!$A$3:$AA$201,3))","v":""},{"$f":"IF($C38=\"\",\"\",VLOOKUP($C38,男子ﾃﾞｰﾀ貼付ｼｰﾄ!$A$3:$AA$201,4))","v":""},"男",{"$f":"IF($C38=\"\",\"\",RIGHT(VLOOKUP($C38,男子ﾃﾞｰﾀ貼付ｼｰﾄ!$A$3:$AA$201,26),1))","v":""},{"$f":"IF($C38=\"\",\"\",TEXT(VLOOKUP($C38,男子ﾃﾞｰﾀ貼付ｼｰﾄ!$A$3:$AA$201,23),\"yyyy\"))","v":""},{"$f":"IF($C38=\"\",\"\",VLOOKUP($C38,男子ﾃﾞｰﾀ貼付ｼｰﾄ!$A$3:$AA$201,21))","v":""},{"$f":"IF($C38=\"\",\"\",VLOOKUP($C38,男子ﾃﾞｰﾀ貼付ｼｰﾄ!$A$3:$AA$201,17))","v":""},{"$f":"IF($C38=\"\",\"\",VLOOKUP($C38,男子ﾃﾞｰﾀ貼付ｼｰﾄ!$A$3:$AA$201,14))","v":""},null,null,null,null,null,null,null,"",{"$f":"IF(D38=\"\",\"\",VLOOKUP(C38,男子ﾃﾞｰﾀ貼付ｼｰﾄ!$A$3:$AA$202,23))","v":""}]
[32,null,null,{"$f":"IF($C39=\"\",\"\",VLOOKUP($C39,男子ﾃﾞｰﾀ貼付ｼｰﾄ!$A$3:$AA$201,2))","v":""},{"$f":"IF($C39=\"\",\"\",VLOOKUP($C39,男子ﾃﾞｰﾀ貼付ｼｰﾄ!$A$3:$AA$201,3))","v":""},{"$f":"IF($C39=\"\",\"\",VLOOKUP($C39,男子ﾃﾞｰﾀ貼付ｼｰﾄ!$A$3:$AA$201,4))","v":""},"男",{"$f":"IF($C39=\"\",\"\",RIGHT(VLOOKUP($C39,男子ﾃﾞｰﾀ貼付ｼｰﾄ!$A$3:$AA$201,26),1))","v":""},{"$f":"IF($C39=\"\",\"\",TEXT(VLOOKUP($C39,男子ﾃﾞｰﾀ貼付ｼｰﾄ!$A$3:$AA$201,23),\"yyyy\"))","v":""},{"$f":"IF($C39=\"\",\"\",VLOOKUP($C39,男子ﾃﾞｰﾀ貼付ｼｰﾄ!$A$3:$AA$201,21))","v":""},{"$f":"IF($C39=\"\",\"\",VLOOKUP($C39,男子ﾃﾞｰﾀ貼付ｼｰﾄ!$A$3:$AA$201,17))","v":""},{"$f":"IF($C39=\"\",\"\",VLOOKUP($C39,男子ﾃﾞｰﾀ貼付ｼｰﾄ!$A$3:$AA$201,14))","v":""},null,null,null,null,null,null,null,"",{"$f":"IF(D39=\"\",\"\",VLOOKUP(C39,男子ﾃﾞｰﾀ貼付ｼｰﾄ!$A$3:$AA$202,23))","v":""}]
[33,null,null,{"$f":"IF($C40=\"\",\"\",VLOOKUP($C40,男子ﾃﾞｰﾀ貼付ｼｰﾄ!$A$3:$AA$201,2))","v":""},{"$f":"IF($C40=\"\",\"\",VLOOKUP($C40,男子ﾃﾞｰﾀ貼付ｼｰﾄ!$A$3:$AA$201,3))","v":""},{"$f":"IF($C40=\"\",\"\",VLOOKUP($C40,男子ﾃﾞｰﾀ貼付ｼｰﾄ!$A$3:$AA$201,4))","v":""},"男",{"$f":"IF($C40=\"\",\"\",RIGHT(VLOOKUP($C40,男子ﾃﾞｰﾀ貼付ｼｰﾄ!$A$3:$AA$201,26),1))","v":""},{"$f":"IF($C40=\"\",\"\",TEXT(VLOOKUP($C40,男子ﾃﾞｰﾀ貼付ｼｰﾄ!$A$3:$AA$201,23),\"yyyy\"))","v":""},{"$f":"IF($C40=\"\",\"\",VLOOKUP($C40,男子ﾃﾞｰﾀ貼付ｼｰﾄ!$A$3:$AA$201,21))","v":""},{"$f":"IF($C40=\"\",\"\",VLOOKUP($C40,男子ﾃﾞｰﾀ貼付ｼｰﾄ!$A$3:$AA$201,17))","v":""},{"$f":"IF($C40=\"\",\"\",VLOOKUP($C40,男子ﾃﾞｰﾀ貼付ｼｰﾄ!$A$3:$AA$201,14))","v":""},null,null,null,null,null,null,null,"",{"$f":"IF(D40=\"\",\"\",VLOOKUP(C40,男子ﾃﾞｰﾀ貼付ｼｰﾄ!$A$3:$AA$202,23))","v":""}]
[34,null,null,{"$f":"IF($C41=\"\",\"\",VLOOKUP($C41,男子ﾃﾞｰﾀ貼付ｼｰﾄ!$A$3:$AA$201,2))","v":""},{"$f":"IF($C41=\"\",\"\",VLOOKUP($C41,男子ﾃﾞｰﾀ貼付ｼｰﾄ!$A$3:$AA$201,3))","v":""},{"$f":"IF($C41=\"\",\"\",VLOOKUP($C41,男子ﾃﾞｰﾀ貼付ｼｰﾄ!$A$3:$AA$201,4))","v":""},"男",{"$f":"IF($C41=\"\",\"\",RIGHT(VLOOKUP($C41,男子ﾃﾞｰﾀ貼付ｼｰﾄ!$A$3:$AA$201,26),1))","v":""},{"$f":"IF($C41=\"\",\"\",TEXT(VLOOKUP($C41,男子ﾃﾞｰﾀ貼付ｼｰﾄ!$A$3:$AA$201,23),\"yyyy\"))","v":""},{"$f":"IF($C41=\"\",\"\",VLOOKUP($C41,男子ﾃﾞｰﾀ貼付ｼｰﾄ!$A$3:$AA$201,21))","v":""},{"$f":"IF($C41=\"\",\"\",VLOOKUP($C41,男子ﾃﾞｰﾀ貼付ｼｰﾄ!$A$3:$AA$201,17))","v":""},{"$f":"IF($C41=\"\",\"\",VLOOKUP($C41,男子ﾃﾞｰﾀ貼付ｼｰﾄ!$A$3:$AA$201,14))","v":""},null,null,null,null,null,null,null,"",{"$f":"IF(D41=\"\",\"\",VLOOKUP(C41,男子ﾃﾞｰﾀ貼付ｼｰﾄ!$A$3:$AA$202,23))","v":""}]
[35,null,null,{"$f":"IF($C42=\"\",\"\",VLOOKUP($C42,男子ﾃﾞｰﾀ貼付ｼｰﾄ!$A$3:$AA$201,2))","v":""},{"$f":"IF($C42=\"\",\"\",VLOOKUP($C42,男子ﾃﾞｰﾀ貼付ｼｰﾄ!$A$3:$AA$201,3))","v":""},{"$f":"IF($C42=\"\",\"\",VLOOKUP($C42,男子ﾃﾞｰﾀ貼付ｼｰﾄ!$A$3:$AA$201,4))","v":""},"男",{"$f":"IF($C42=\"\",\"\",RIGHT(VLOOKUP($C42,男子ﾃﾞｰﾀ貼付ｼｰﾄ!$A$3:$AA$201,26),1))","v":""},{"$f":"IF($C42=\"\",\"\",TEXT(VLOOKUP($C42,男子ﾃﾞｰﾀ貼付ｼｰﾄ!$A$3:$AA$201,23),\"yyyy\"))","v":""},{"$f":"IF($C42=\"\",\"\",VLOOKUP($C42,男子ﾃﾞｰﾀ貼付ｼｰﾄ!$A$3:$AA$201,21))","v":""},{"$f":"IF($C42=\"\",\"\",VLOOKUP($C42,男子ﾃﾞｰﾀ貼付ｼｰﾄ!$A$3:$AA$201,17))","v":""},{"$f":"IF($C42=\"\",\"\",VLOOKUP($C42,男子ﾃﾞｰﾀ貼付ｼｰﾄ!$A$3:$AA$201,14))","v":""},null,null,null,null,null,null,null,"",{"$f":"IF(D42=\"\",\"\",VLOOKUP(C42,男子ﾃﾞｰﾀ貼付ｼｰﾄ!$A$3:$AA$202,23))","v":""}]
[36,null,null,{"$f":"IF($C43=\"\",\"\",VLOOKUP($C43,男子ﾃﾞｰﾀ貼付ｼｰﾄ!$A$3:$AA$201,2))","v":""},{"$f":"IF($C43=\"\",\"\",VLOOKUP($C43,男子ﾃﾞｰﾀ貼付ｼｰﾄ!$A$3:$AA$201,3))","v":""},{"$f":"IF($C43=\"\",\"\",VLOOKUP($C43,男子ﾃﾞｰﾀ貼付ｼｰﾄ!$A$3:$AA$201,4))","v":""},"男",{"$f":"IF($C43=\"\",\"\",RIGHT(VLOOKUP($C43,男子ﾃﾞｰﾀ貼付ｼｰﾄ!$A$3:$AA$201,26),1))","v":""},{"$f":"IF($C43=\"\",\"\",TEXT(VLOOKUP($C43,男子ﾃﾞｰﾀ貼付ｼｰﾄ!$A$3:$AA$201,23),\"yyyy\"))","v":""},{"$f":"IF($C43=\"\",\"\",VLOOKUP($C43,男子ﾃﾞｰﾀ貼付ｼｰﾄ!$A$3:$AA$201,21))","v":""},{"$f":"IF($C43=\"\",\"\",VLOOKUP($C43,男子ﾃﾞｰﾀ貼付ｼｰﾄ!$A$3:$AA$201,17))","v":""},{"$f":"IF($C43=\"\",\"\",VLOOKUP($C43,男子ﾃﾞｰﾀ貼付ｼｰﾄ!$A$3:$AA$201,14))","v":""},null,null,null,null,null,null,null,"",{"$f":"IF(D43=\"\",\"\",VLOOKUP(C43,男子ﾃﾞｰﾀ貼付ｼｰﾄ!$A$3:$AA$202,23))","v":""}]
[37,null,null,{"$f":"IF($C44=\"\",\"\",VLOOKUP($C44,男子ﾃﾞｰﾀ貼付ｼｰﾄ!$A$3:$AA$201,2))","v":""},{"$f":"IF($C44=\"\",\"\",VLOOKUP($C44,男子ﾃﾞｰﾀ貼付ｼｰﾄ!$A$3:$AA$201,3))","v":""},{"$f":"IF($C44=\"\",\"\",VLOOKUP($C44,男子ﾃﾞｰﾀ貼付ｼｰﾄ!$A$3:$AA$201,4))","v":""},"男",{"$f":"IF($C44=\"\",\"\",RIGHT(VLOOKUP($C44,男子ﾃﾞｰﾀ貼付ｼｰﾄ!$A$3:$AA$201,26),1))","v":""},{"$f":"IF($C44=\"\",\"\",TEXT(VLOOKUP($C44,男子ﾃﾞｰﾀ貼付ｼｰﾄ!$A$3:$AA$201,23),\"yyyy\"))","v":""},{"$f":"IF($C44=\"\",\"\",VLOOKUP($C44,男子ﾃﾞｰﾀ貼付ｼｰﾄ!$A$3:$AA$201,21))","v":""},{"$f":"IF($C44=\"\",\"\",VLOOKUP($C44,男子ﾃﾞｰﾀ貼付ｼｰﾄ!$A$3:$AA$201,17))","v":""},{"$f":"IF($C44=\"\",\"\",VLOOKUP($C44,男子ﾃﾞｰﾀ貼付ｼｰﾄ!$A$3:$AA$201,14))","v":""},null,null,null,null,null,null,null,"",{"$f":"IF(D44=\"\",\"\",VLOOKUP(C44,男子ﾃﾞｰﾀ貼付ｼｰﾄ!$A$3:$AA$202,23))","v":""}]
[38,null,null,{"$f":"IF($C45=\"\",\"\",VLOOKUP($C45,男子ﾃﾞｰﾀ貼付ｼｰﾄ!$A$3:$AA$201,2))","v":""},{"$f":"IF($C45=\"\",\"\",VLOOKUP($C45,男子ﾃﾞｰﾀ貼付ｼｰﾄ!$A$3:$AA$201,3))","v":""},{"$f":"IF($C45=\"\",\"\",VLOOKUP($C45,男子ﾃﾞｰﾀ貼付ｼｰﾄ!$A$3:$AA$201,4))","v":""},"男",{"$f":"IF($C45=\"\",\"\",RIGHT(VLOOKUP($C45,男子ﾃﾞｰﾀ貼付ｼｰﾄ!$A$3:$AA$201,26),1))","v":""},{"$f":"IF($C45=\"\",\"\",TEXT(VLOOKUP($C45,男子ﾃﾞｰﾀ貼付ｼｰﾄ!$A$3:$AA$201,23),\"yyyy\"))","v":""},{"$f":"IF($C45=\"\",\"\",VLOOKUP($C45,男子ﾃﾞｰﾀ貼付ｼｰﾄ!$A$3:$AA$201,21))","v":""},{"$f":"IF($C45=\"\",\"\",VLOOKUP($C45,男子ﾃﾞｰﾀ貼付ｼｰﾄ!$A$3:$AA$201,17))","v":""},{"$f":"IF($C45=\"\",\"\",VLOOKUP($C45,男子ﾃﾞｰﾀ貼付ｼｰﾄ!$A$3:$AA$201,14))","v":""},null,null,null,null,null,null,null,"",{"$f":"IF(D45=\"\",\"\",VLOOKUP(C45,男子ﾃﾞｰﾀ貼付ｼｰﾄ!$A$3:$AA$202,23))","v":""}]
[39,null,null,{"$f":"IF($C46=\"\",\"\",VLOOKUP($C46,男子ﾃﾞｰﾀ貼付ｼｰﾄ!$A$3:$AA$201,2))","v":""},{"$f":"IF($C46=\"\",\"\",VLOOKUP($C46,男子ﾃﾞｰﾀ貼付ｼｰﾄ!$A$3:$AA$201,3))","v":""},{"$f":"IF($C46=\"\",\"\",VLOOKUP($C46,男子ﾃﾞｰﾀ貼付ｼｰﾄ!$A$3:$AA$201,4))","v":""},"男",{"$f":"IF($C46=\"\",\"\",RIGHT(VLOOKUP($C46,男子ﾃﾞｰﾀ貼付ｼｰﾄ!$A$3:$AA$201,26),1))","v":""},{"$f":"IF($C46=\"\",\"\",TEXT(VLOOKUP($C46,男子ﾃﾞｰﾀ貼付ｼｰﾄ!$A$3:$AA$201,23),\"yyyy\"))","v":""},{"$f":"IF($C46=\"\",\"\",VLOOKUP($C46,男子ﾃﾞｰﾀ貼付ｼｰﾄ!$A$3:$AA$201,21))","v":""},{"$f":"IF($C46=\"\",\"\",VLOOKUP($C46,男子ﾃﾞｰﾀ貼付ｼｰﾄ!$A$3:$AA$201,17))","v":""},{"$f":"IF($C46=\"\",\"\",VLOOKUP($C46,男子ﾃﾞｰﾀ貼付ｼｰﾄ!$A$3:$AA$201,14))","v":""},null,null,null,null,null,null,null,"",{"$f":"IF(D46=\"\",\"\",VLOOKUP(C46,男子ﾃﾞｰﾀ貼付ｼｰﾄ!$A$3:$AA$202,23))","v":""}]
[40,null,null,{"$f":"IF($C47=\"\",\"\",VLOOKUP($C47,男子ﾃﾞｰﾀ貼付ｼｰﾄ!$A$3:$AA$201,2))","v":""},{"$f":"IF($C47=\"\",\"\",VLOOKUP($C47,男子ﾃﾞｰﾀ貼付ｼｰﾄ!$A$3:$AA$201,3))","v":""},{"$f":"IF($C47=\"\",\"\",VLOOKUP($C47,男子ﾃﾞｰﾀ貼付ｼｰﾄ!$A$3:$AA$201,4))","v":""},"男",{"$f":"IF($C47=\"\",\"\",RIGHT(VLOOKUP($C47,男子ﾃﾞｰﾀ貼付ｼｰﾄ!$A$3:$AA$201,26),1))","v":""},{"$f":"IF($C47=\"\",\"\",TEXT(VLOOKUP($C47,男子ﾃﾞｰﾀ貼付ｼｰﾄ!$A$3:$AA$201,23),\"yyyy\"))","v":""},{"$f":"IF($C47=\"\",\"\",VLOOKUP($C47,男子ﾃﾞｰﾀ貼付ｼｰﾄ!$A$3:$AA$201,21))","v":""},{"$f":"IF($C47=\"\",\"\",VLOOKUP($C47,男子ﾃﾞｰﾀ貼付ｼｰﾄ!$A$3:$AA$201,17))","v":""},{"$f":"IF($C47=\"\",\"\",VLOOKUP($C47,男子ﾃﾞｰﾀ貼付ｼｰﾄ!$A$3:$AA$201,14))","v":""},null,null,null,null,null,null,null,"",{"$f":"IF(D47=\"\",\"\",VLOOKUP(C47,男子ﾃﾞｰﾀ貼付ｼｰﾄ!$A$3:$AA$202,23))","v":""}]
[41,null,null,{"$f":"IF($C48=\"\",\"\",VLOOKUP($C48,男子ﾃﾞｰﾀ貼付ｼｰﾄ!$A$3:$AA$201,2))","v":""},{"$f":"IF($C48=\"\",\"\",VLOOKUP($C48,男子ﾃﾞｰﾀ貼付ｼｰﾄ!$A$3:$AA$201,3))","v":""},{"$f":"IF($C48=\"\",\"\",VLOOKUP($C48,男子ﾃﾞｰﾀ貼付ｼｰﾄ!$A$3:$AA$201,4))","v":""},"男",{"$f":"IF($C48=\"\",\"\",RIGHT(VLOOKUP($C48,男子ﾃﾞｰﾀ貼付ｼｰﾄ!$A$3:$AA$201,26),1))","v":""},{"$f":"IF($C48=\"\",\"\",TEXT(VLOOKUP($C48,男子ﾃﾞｰﾀ貼付ｼｰﾄ!$A$3:$AA$201,23),\"yyyy\"))","v":""},{"$f":"IF($C48=\"\",\"\",VLOOKUP($C48,男子ﾃﾞｰﾀ貼付ｼｰﾄ!$A$3:$AA$201,21))","v":""},{"$f":"IF($C48=\"\",\"\",VLOOKUP($C48,男子ﾃﾞｰﾀ貼付ｼｰﾄ!$A$3:$AA$201,17))","v":""},{"$f":"IF($C48=\"\",\"\",VLOOKUP($C48,男子ﾃﾞｰﾀ貼付ｼｰﾄ!$A$3:$AA$201,14))","v":""},null,null,null,null,null,null,null,"",{"$f":"IF(D48=\"\",\"\",VLOOKUP(C48,男子ﾃﾞｰﾀ貼付ｼｰﾄ!$A$3:$AA$202,23))","v":""}]
[42,null,null,{"$f":"IF($C49=\"\",\"\",VLOOKUP($C49,男子ﾃﾞｰﾀ貼付ｼｰﾄ!$A$3:$AA$201,2))","v":""},{"$f":"IF($C49=\"\",\"\",VLOOKUP($C49,男子ﾃﾞｰﾀ貼付ｼｰﾄ!$A$3:$AA$201,3))","v":""},{"$f":"IF($C49=\"\",\"\",VLOOKUP($C49,男子ﾃﾞｰﾀ貼付ｼｰﾄ!$A$3:$AA$201,4))","v":""},"男",{"$f":"IF($C49=\"\",\"\",RIGHT(VLOOKUP($C49,男子ﾃﾞｰﾀ貼付ｼｰﾄ!$A$3:$AA$201,26),1))","v":""},{"$f":"IF($C49=\"\",\"\",TEXT(VLOOKUP($C49,男子ﾃﾞｰﾀ貼付ｼｰﾄ!$A$3:$AA$201,23),\"yyyy\"))","v":""},{"$f":"IF($C49=\"\",\"\",VLOOKUP($C49,男子ﾃﾞｰﾀ貼付ｼｰﾄ!$A$3:$AA$201,21))","v":""},{"$f":"IF($C49=\"\",\"\",VLOOKUP($C49,男子ﾃﾞｰﾀ貼付ｼｰﾄ!$A$3:$AA$201,17))","v":""},{"$f":"IF($C49=\"\",\"\",VLOOKUP($C49,男子ﾃﾞｰﾀ貼付ｼｰﾄ!$A$3:$AA$201,14))","v":""},null,null,null,null,null,null,null,"",{"$f":"IF(D49=\"\",\"\",VLOOKUP(C49,男子ﾃﾞｰﾀ貼付ｼｰﾄ!$A$3:$AA$202,23))","v":""}]
[43,null,null,{"$f":"IF($C50=\"\",\"\",VLOOKUP($C50,男子ﾃﾞｰﾀ貼付ｼｰﾄ!$A$3:$AA$201,2))","v":""},{"$f":"IF($C50=\"\",\"\",VLOOKUP($C50,男子ﾃﾞｰﾀ貼付ｼｰﾄ!$A$3:$AA$201,3))","v":""},{"$f":"IF($C50=\"\",\"\",VLOOKUP($C50,男子ﾃﾞｰﾀ貼付ｼｰﾄ!$A$3:$AA$201,4))","v":""},"男",{"$f":"IF($C50=\"\",\"\",RIGHT(VLOOKUP($C50,男子ﾃﾞｰﾀ貼付ｼｰﾄ!$A$3:$AA$201,26),1))","v":""},{"$f":"IF($C50=\"\",\"\",TEXT(VLOOKUP($C50,男子ﾃﾞｰﾀ貼付ｼｰﾄ!$A$3:$AA$201,23),\"yyyy\"))","v":""},{"$f":"IF($C50=\"\",\"\",VLOOKUP($C50,男子ﾃﾞｰﾀ貼付ｼｰﾄ!$A$3:$AA$201,21))","v":""},{"$f":"IF($C50=\"\",\"\",VLOOKUP($C50,男子ﾃﾞｰﾀ貼付ｼｰﾄ!$A$3:$AA$201,17))","v":""},{"$f":"IF($C50=\"\",\"\",VLOOKUP($C50,男子ﾃﾞｰﾀ貼付ｼｰﾄ!$A$3:$AA$201,14))","v":""},null,null,null,null,null,null,null,"",{"$f":"IF(D50=\"\",\"\",VLOOKUP(C50,男子ﾃﾞｰﾀ貼付ｼｰﾄ!$A$3:$AA$202,23))","v":""}]
[44,null,null,{"$f":"IF($C51=\"\",\"\",VLOOKUP($C51,男子ﾃﾞｰﾀ貼付ｼｰﾄ!$A$3:$AA$201,2))","v":""},{"$f":"IF($C51=\"\",\"\",VLOOKUP($C51,男子ﾃﾞｰﾀ貼付ｼｰﾄ!$A$3:$AA$201,3))","v":""},{"$f":"IF($C51=\"\",\"\",VLOOKUP($C51,男子ﾃﾞｰﾀ貼付ｼｰﾄ!$A$3:$AA$201,4))","v":""},"男",{"$f":"IF($C51=\"\",\"\",RIGHT(VLOOKUP($C51,男子ﾃﾞｰﾀ貼付ｼｰﾄ!$A$3:$AA$201,26),1))","v":""},{"$f":"IF($C51=\"\",\"\",TEXT(VLOOKUP($C51,男子ﾃﾞｰﾀ貼付ｼｰﾄ!$A$3:$AA$201,23),\"yyyy\"))","v":""},{"$f":"IF($C51=\"\",\"\",VLOOKUP($C51,男子ﾃﾞｰﾀ貼付ｼｰﾄ!$A$3:$AA$201,21))","v":""},{"$f":"IF($C51=\"\",\"\",VLOOKUP($C51,男子ﾃﾞｰﾀ貼付ｼｰﾄ!$A$3:$AA$201,17))","v":""},{"$f":"IF($C51=\"\",\"\",VLOOKUP($C51,男子ﾃﾞｰﾀ貼付ｼｰﾄ!$A$3:$AA$201,14))","v":""},null,null,null,null,null,null,null,"",{"$f":"IF(D51=\"\",\"\",VLOOKUP(C51,男子ﾃﾞｰﾀ貼付ｼｰﾄ!$A$3:$AA$202,23))","v":""}]
[45,null,null,{"$f":"IF($C52=\"\",\"\",VLOOKUP($C52,男子ﾃﾞｰﾀ貼付ｼｰﾄ!$A$3:$AA$201,2))","v":""},{"$f":"IF($C52=\"\",\"\",VLOOKUP($C52,男子ﾃﾞｰﾀ貼付ｼｰﾄ!$A$3:$AA$201,3))","v":""},{"$f":"IF($C52=\"\",\"\",VLOOKUP($C52,男子ﾃﾞｰﾀ貼付ｼｰﾄ!$A$3:$AA$201,4))","v":""},"男",{"$f":"IF($C52=\"\",\"\",RIGHT(VLOOKUP($C52,男子ﾃﾞｰﾀ貼付ｼｰﾄ!$A$3:$AA$201,26),1))","v":""},{"$f":"IF($C52=\"\",\"\",TEXT(VLOOKUP($C52,男子ﾃﾞｰﾀ貼付ｼｰﾄ!$A$3:$AA$201,23),\"yyyy\"))","v":""},{"$f":"IF($C52=\"\",\"\",VLOOKUP($C52,男子ﾃﾞｰﾀ貼付ｼｰﾄ!$A$3:$AA$201,21))","v":""},{"$f":"IF($C52=\"\",\"\",VLOOKUP($C52,男子ﾃﾞｰﾀ貼付ｼｰﾄ!$A$3:$AA$201,17))","v":""},{"$f":"IF($C52=\"\",\"\",VLOOKUP($C52,男子ﾃﾞｰﾀ貼付ｼｰﾄ!$A$3:$AA$201,14))","v":""},null,null,null,null,null,null,null,"",{"$f":"IF(D52=\"\",\"\",VLOOKUP(C52,男子ﾃﾞｰﾀ貼付ｼｰﾄ!$A$3:$AA$202,23))","v":""}]
[46,null,null,{"$f":"IF($C53=\"\",\"\",VLOOKUP($C53,男子ﾃﾞｰﾀ貼付ｼｰﾄ!$A$3:$AA$201,2))","v":""},{"$f":"IF($C53=\"\",\"\",VLOOKUP($C53,男子ﾃﾞｰﾀ貼付ｼｰﾄ!$A$3:$AA$201,3))","v":""},{"$f":"IF($C53=\"\",\"\",VLOOKUP($C53,男子ﾃﾞｰﾀ貼付ｼｰﾄ!$A$3:$AA$201,4))","v":""},"男",{"$f":"IF($C53=\"\",\"\",RIGHT(VLOOKUP($C53,男子ﾃﾞｰﾀ貼付ｼｰﾄ!$A$3:$AA$201,26),1))","v":""},{"$f":"IF($C53=\"\",\"\",TEXT(VLOOKUP($C53,男子ﾃﾞｰﾀ貼付ｼｰﾄ!$A$3:$AA$201,23),\"yyyy\"))","v":""},{"$f":"IF($C53=\"\",\"\",VLOOKUP($C53,男子ﾃﾞｰﾀ貼付ｼｰﾄ!$A$3:$AA$201,21))","v":""},{"$f":"IF($C53=\"\",\"\",VLOOKUP($C53,男子ﾃﾞｰﾀ貼付ｼｰﾄ!$A$3:$AA$201,17))","v":""},{"$f":"IF($C53=\"\",\"\",VLOOKUP($C53,男子ﾃﾞｰﾀ貼付ｼｰﾄ!$A$3:$AA$201,14))","v":""},null,null,null,null,null,null,null,"",{"$f":"IF(D53=\"\",\"\",VLOOKUP(C53,男子ﾃﾞｰﾀ貼付ｼｰﾄ!$A$3:$AA$202,23))","v":""}]
[47,null,null,{"$f":"IF($C54=\"\",\"\",VLOOKUP($C54,男子ﾃﾞｰﾀ貼付ｼｰﾄ!$A$3:$AA$201,2))","v":""},{"$f":"IF($C54=\"\",\"\",VLOOKUP($C54,男子ﾃﾞｰﾀ貼付ｼｰﾄ!$A$3:$AA$201,3))","v":""},{"$f":"IF($C54=\"\",\"\",VLOOKUP($C54,男子ﾃﾞｰﾀ貼付ｼｰﾄ!$A$3:$AA$201,4))","v":""},"男",{"$f":"IF($C54=\"\",\"\",RIGHT(VLOOKUP($C54,男子ﾃﾞｰﾀ貼付ｼｰﾄ!$A$3:$AA$201,26),1))","v":""},{"$f":"IF($C54=\"\",\"\",TEXT(VLOOKUP($C54,男子ﾃﾞｰﾀ貼付ｼｰﾄ!$A$3:$AA$201,23),\"yyyy\"))","v":""},{"$f":"IF($C54=\"\",\"\",VLOOKUP($C54,男子ﾃﾞｰﾀ貼付ｼｰﾄ!$A$3:$AA$201,21))","v":""},{"$f":"IF($C54=\"\",\"\",VLOOKUP($C54,男子ﾃﾞｰﾀ貼付ｼｰﾄ!$A$3:$AA$201,17))","v":""},{"$f":"IF($C54=\"\",\"\",VLOOKUP($C54,男子ﾃﾞｰﾀ貼付ｼｰﾄ!$A$3:$AA$201,14))","v":""},null,null,null,null,null,null,null,"",{"$f":"IF(D54=\"\",\"\",VLOOKUP(C54,男子ﾃﾞｰﾀ貼付ｼｰﾄ!$A$3:$AA$202,23))","v":""}]
[48,null,null,{"$f":"IF($C55=\"\",\"\",VLOOKUP($C55,男子ﾃﾞｰﾀ貼付ｼｰﾄ!$A$3:$AA$201,2))","v":""},{"$f":"IF($C55=\"\",\"\",VLOOKUP($C55,男子ﾃﾞｰﾀ貼付ｼｰﾄ!$A$3:$AA$201,3))","v":""},{"$f":"IF($C55=\"\",\"\",VLOOKUP($C55,男子ﾃﾞｰﾀ貼付ｼｰﾄ!$A$3:$AA$201,4))","v":""},"男",{"$f":"IF($C55=\"\",\"\",RIGHT(VLOOKUP($C55,男子ﾃﾞｰﾀ貼付ｼｰﾄ!$A$3:$AA$201,26),1))","v":""},{"$f":"IF($C55=\"\",\"\",TEXT(VLOOKUP($C55,男子ﾃﾞｰﾀ貼付ｼｰﾄ!$A$3:$AA$201,23),\"yyyy\"))","v":""},{"$f":"IF($C55=\"\",\"\",VLOOKUP($C55,男子ﾃﾞｰﾀ貼付ｼｰﾄ!$A$3:$AA$201,21))","v":""},{"$f":"IF($C55=\"\",\"\",VLOOKUP($C55,男子ﾃﾞｰﾀ貼付ｼｰﾄ!$A$3:$AA$201,17))","v":""},{"$f":"IF($C55=\"\",\"\",VLOOKUP($C55,男子ﾃﾞｰﾀ貼付ｼｰﾄ!$A$3:$AA$201,14))","v":""},null,null,null,null,null,null,null,"",{"$f":"IF(D55=\"\",\"\",VLOOKUP(C55,男子ﾃﾞｰﾀ貼付ｼｰﾄ!$A$3:$AA$202,23))","v":""}]
[49,null,null,{"$f":"IF($C56=\"\",\"\",VLOOKUP($C56,男子ﾃﾞｰﾀ貼付ｼｰﾄ!$A$3:$AA$201,2))","v":""},{"$f":"IF($C56=\"\",\"\",VLOOKUP($C56,男子ﾃﾞｰﾀ貼付ｼｰﾄ!$A$3:$AA$201,3))","v":""},{"$f":"IF($C56=\"\",\"\",VLOOKUP($C56,男子ﾃﾞｰﾀ貼付ｼｰﾄ!$A$3:$AA$201,4))","v":""},"男",{"$f":"IF($C56=\"\",\"\",RIGHT(VLOOKUP($C56,男子ﾃﾞｰﾀ貼付ｼｰﾄ!$A$3:$AA$201,26),1))","v":""},{"$f":"IF($C56=\"\",\"\",TEXT(VLOOKUP($C56,男子ﾃﾞｰﾀ貼付ｼｰﾄ!$A$3:$AA$201,23),\"yyyy\"))","v":""},{"$f":"IF($C56=\"\",\"\",VLOOKUP($C56,男子ﾃﾞｰﾀ貼付ｼｰﾄ!$A$3:$AA$201,21))","v":""},{"$f":"IF($C56=\"\",\"\",VLOOKUP($C56,男子ﾃﾞｰﾀ貼付ｼｰﾄ!$A$3:$AA$201,17))","v":""},{"$f":"IF($C56=\"\",\"\",VLOOKUP($C56,男子ﾃﾞｰﾀ貼付ｼｰﾄ!$A$3:$AA$201,14))","v":""},null,null,null,null,null,null,null,"",{"$f":"IF(D56=\"\",\"\",VLOOKUP(C56,男子ﾃﾞｰﾀ貼付ｼｰﾄ!$A$3:$AA$202,23))","v":""}]
[50,null,null,{"$f":"IF($C57=\"\",\"\",VLOOKUP($C57,男子ﾃﾞｰﾀ貼付ｼｰﾄ!$A$3:$AA$201,2))","v":""},{"$f":"IF($C57=\"\",\"\",VLOOKUP($C57,男子ﾃﾞｰﾀ貼付ｼｰﾄ!$A$3:$AA$201,3))","v":""},{"$f":"IF($C57=\"\",\"\",VLOOKUP($C57,男子ﾃﾞｰﾀ貼付ｼｰﾄ!$A$3:$AA$201,4))","v":""},"男",{"$f":"IF($C57=\"\",\"\",RIGHT(VLOOKUP($C57,男子ﾃﾞｰﾀ貼付ｼｰﾄ!$A$3:$AA$201,26),1))","v":""},{"$f":"IF($C57=\"\",\"\",TEXT(VLOOKUP($C57,男子ﾃﾞｰﾀ貼付ｼｰﾄ!$A$3:$AA$201,23),\"yyyy\"))","v":""},{"$f":"IF($C57=\"\",\"\",VLOOKUP($C57,男子ﾃﾞｰﾀ貼付ｼｰﾄ!$A$3:$AA$201,21))","v":""},{"$f":"IF($C57=\"\",\"\",VLOOKUP($C57,男子ﾃﾞｰﾀ貼付ｼｰﾄ!$A$3:$AA$201,17))","v":""},{"$f":"IF($C57=\"\",\"\",VLOOKUP($C57,男子ﾃﾞｰﾀ貼付ｼｰﾄ!$A$3:$AA$201,14))","v":""},null,null,null,null,null,null,null,"",{"$f":"IF(D57=\"\",\"\",VLOOKUP(C57,男子ﾃﾞｰﾀ貼付ｼｰﾄ!$A$3:$AA$202,23))","v":""}]
[51,null,null,{"$f":"IF($C58=\"\",\"\",VLOOKUP($C58,男子ﾃﾞｰﾀ貼付ｼｰﾄ!$A$3:$AA$201,2))","v":""},{"$f":"IF($C58=\"\",\"\",VLOOKUP($C58,男子ﾃﾞｰﾀ貼付ｼｰﾄ!$A$3:$AA$201,3))","v":""},{"$f":"IF($C58=\"\",\"\",VLOOKUP($C58,男子ﾃﾞｰﾀ貼付ｼｰﾄ!$A$3:$AA$201,4))","v":""},"男",{"$f":"IF($C58=\"\",\"\",RIGHT(VLOOKUP($C58,男子ﾃﾞｰﾀ貼付ｼｰﾄ!$A$3:$AA$201,26),1))","v":""},{"$f":"IF($C58=\"\",\"\",TEXT(VLOOKUP($C58,男子ﾃﾞｰﾀ貼付ｼｰﾄ!$A$3:$AA$201,23),\"yyyy\"))","v":""},{"$f":"IF($C58=\"\",\"\",VLOOKUP($C58,男子ﾃﾞｰﾀ貼付ｼｰﾄ!$A$3:$AA$201,21))","v":""},{"$f":"IF($C58=\"\",\"\",VLOOKUP($C58,男子ﾃﾞｰﾀ貼付ｼｰﾄ!$A$3:$AA$201,17))","v":""},{"$f":"IF($C58=\"\",\"\",VLOOKUP($C58,男子ﾃﾞｰﾀ貼付ｼｰﾄ!$A$3:$AA$201,14))","v":""},null,null,null,null,null,null,null,"",{"$f":"IF(D58=\"\",\"\",VLOOKUP(C58,男子ﾃﾞｰﾀ貼付ｼｰﾄ!$A$3:$AA$202,23))","v":""}]
[52,null,null,{"$f":"IF($C59=\"\",\"\",VLOOKUP($C59,男子ﾃﾞｰﾀ貼付ｼｰﾄ!$A$3:$AA$201,2))","v":""},{"$f":"IF($C59=\"\",\"\",VLOOKUP($C59,男子ﾃﾞｰﾀ貼付ｼｰﾄ!$A$3:$AA$201,3))","v":""},{"$f":"IF($C59=\"\",\"\",VLOOKUP($C59,男子ﾃﾞｰﾀ貼付ｼｰﾄ!$A$3:$AA$201,4))","v":""},"男",{"$f":"IF($C59=\"\",\"\",RIGHT(VLOOKUP($C59,男子ﾃﾞｰﾀ貼付ｼｰﾄ!$A$3:$AA$201,26),1))","v":""},{"$f":"IF($C59=\"\",\"\",TEXT(VLOOKUP($C59,男子ﾃﾞｰﾀ貼付ｼｰﾄ!$A$3:$AA$201,23),\"yyyy\"))","v":""},{"$f":"IF($C59=\"\",\"\",VLOOKUP($C59,男子ﾃﾞｰﾀ貼付ｼｰﾄ!$A$3:$AA$201,21))","v":""},{"$f":"IF($C59=\"\",\"\",VLOOKUP($C59,男子ﾃﾞｰﾀ貼付ｼｰﾄ!$A$3:$AA$201,17))","v":""},{"$f":"IF($C59=\"\",\"\",VLOOKUP($C59,男子ﾃﾞｰﾀ貼付ｼｰﾄ!$A$3:$AA$201,14))","v":""},null,null,null,null,null,null,null,"",{"$f":"IF(D59=\"\",\"\",VLOOKUP(C59,男子ﾃﾞｰﾀ貼付ｼｰﾄ!$A$3:$AA$202,23))","v":""}]
[53,null,null,{"$f":"IF($C60=\"\",\"\",VLOOKUP($C60,男子ﾃﾞｰﾀ貼付ｼｰﾄ!$A$3:$AA$201,2))","v":""},{"$f":"IF($C60=\"\",\"\",VLOOKUP($C60,男子ﾃﾞｰﾀ貼付ｼｰﾄ!$A$3:$AA$201,3))","v":""},{"$f":"IF($C60=\"\",\"\",VLOOKUP($C60,男子ﾃﾞｰﾀ貼付ｼｰﾄ!$A$3:$AA$201,4))","v":""},"男",{"$f":"IF($C60=\"\",\"\",RIGHT(VLOOKUP($C60,男子ﾃﾞｰﾀ貼付ｼｰﾄ!$A$3:$AA$201,26),1))","v":""},{"$f":"IF($C60=\"\",\"\",TEXT(VLOOKUP($C60,男子ﾃﾞｰﾀ貼付ｼｰﾄ!$A$3:$AA$201,23),\"yyyy\"))","v":""},{"$f":"IF($C60=\"\",\"\",VLOOKUP($C60,男子ﾃﾞｰﾀ貼付ｼｰﾄ!$A$3:$AA$201,21))","v":""},{"$f":"IF($C60=\"\",\"\",VLOOKUP($C60,男子ﾃﾞｰﾀ貼付ｼｰﾄ!$A$3:$AA$201,17))","v":""},{"$f":"IF($C60=\"\",\"\",VLOOKUP($C60,男子ﾃﾞｰﾀ貼付ｼｰﾄ!$A$3:$AA$201,14))","v":""},null,null,null,null,null,null,null,"",{"$f":"IF(D60=\"\",\"\",VLOOKUP(C60,男子ﾃﾞｰﾀ貼付ｼｰﾄ!$A$3:$AA$202,23))","v":""}]
[54,null,null,{"$f":"IF($C61=\"\",\"\",VLOOKUP($C61,男子ﾃﾞｰﾀ貼付ｼｰﾄ!$A$3:$AA$201,2))","v":""},{"$f":"IF($C61=\"\",\"\",VLOOKUP($C61,男子ﾃﾞｰﾀ貼付ｼｰﾄ!$A$3:$AA$201,3))","v":""},{"$f":"IF($C61=\"\",\"\",VLOOKUP($C61,男子ﾃﾞｰﾀ貼付ｼｰﾄ!$A$3:$AA$201,4))","v":""},"男",{"$f":"IF($C61=\"\",\"\",RIGHT(VLOOKUP($C61,男子ﾃﾞｰﾀ貼付ｼｰﾄ!$A$3:$AA$201,26),1))","v":""},{"$f":"IF($C61=\"\",\"\",TEXT(VLOOKUP($C61,男子ﾃﾞｰﾀ貼付ｼｰﾄ!$A$3:$AA$201,23),\"yyyy\"))","v":""},{"$f":"IF($C61=\"\",\"\",VLOOKUP($C61,男子ﾃﾞｰﾀ貼付ｼｰﾄ!$A$3:$AA$201,21))","v":""},{"$f":"IF($C61=\"\",\"\",VLOOKUP($C61,男子ﾃﾞｰﾀ貼付ｼｰﾄ!$A$3:$AA$201,17))","v":""},{"$f":"IF($C61=\"\",\"\",VLOOKUP($C61,男子ﾃﾞｰﾀ貼付ｼｰﾄ!$A$3:$AA$201,14))","v":""},null,null,null,null,null,null,null,"",{"$f":"IF(D61=\"\",\"\",VLOOKUP(C61,男子ﾃﾞｰﾀ貼付ｼｰﾄ!$A$3:$AA$202,23))","v":""}]
[55,null,null,{"$f":"IF($C62=\"\",\"\",VLOOKUP($C62,男子ﾃﾞｰﾀ貼付ｼｰﾄ!$A$3:$AA$201,2))","v":""},{"$f":"IF($C62=\"\",\"\",VLOOKUP($C62,男子ﾃﾞｰﾀ貼付ｼｰﾄ!$A$3:$AA$201,3))","v":""},{"$f":"IF($C62=\"\",\"\",VLOOKUP($C62,男子ﾃﾞｰﾀ貼付ｼｰﾄ!$A$3:$AA$201,4))","v":""},"男",{"$f":"IF($C62=\"\",\"\",RIGHT(VLOOKUP($C62,男子ﾃﾞｰﾀ貼付ｼｰﾄ!$A$3:$AA$201,26),1))","v":""},{"$f":"IF($C62=\"\",\"\",TEXT(VLOOKUP($C62,男子ﾃﾞｰﾀ貼付ｼｰﾄ!$A$3:$AA$201,23),\"yyyy\"))","v":""},{"$f":"IF($C62=\"\",\"\",VLOOKUP($C62,男子ﾃﾞｰﾀ貼付ｼｰﾄ!$A$3:$AA$201,21))","v":""},{"$f":"IF($C62=\"\",\"\",VLOOKUP($C62,男子ﾃﾞｰﾀ貼付ｼｰﾄ!$A$3:$AA$201,17))","v":""},{"$f":"IF($C62=\"\",\"\",VLOOKUP($C62,男子ﾃﾞｰﾀ貼付ｼｰﾄ!$A$3:$AA$201,14))","v":""},null,null,null,null,null,null,null,"",{"$f":"IF(D62=\"\",\"\",VLOOKUP(C62,男子ﾃﾞｰﾀ貼付ｼｰﾄ!$A$3:$AA$202,23))","v":""}]
[56,null,null,{"$f":"IF($C63=\"\",\"\",VLOOKUP($C63,男子ﾃﾞｰﾀ貼付ｼｰﾄ!$A$3:$AA$201,2))","v":""},{"$f":"IF($C63=\"\",\"\",VLOOKUP($C63,男子ﾃﾞｰﾀ貼付ｼｰﾄ!$A$3:$AA$201,3))","v":""},{"$f":"IF($C63=\"\",\"\",VLOOKUP($C63,男子ﾃﾞｰﾀ貼付ｼｰﾄ!$A$3:$AA$201,4))","v":""},"男",{"$f":"IF($C63=\"\",\"\",RIGHT(VLOOKUP($C63,男子ﾃﾞｰﾀ貼付ｼｰﾄ!$A$3:$AA$201,26),1))","v":""},{"$f":"IF($C63=\"\",\"\",TEXT(VLOOKUP($C63,男子ﾃﾞｰﾀ貼付ｼｰﾄ!$A$3:$AA$201,23),\"yyyy\"))","v":""},{"$f":"IF($C63=\"\",\"\",VLOOKUP($C63,男子ﾃﾞｰﾀ貼付ｼｰﾄ!$A$3:$AA$201,21))","v":""},{"$f":"IF($C63=\"\",\"\",VLOOKUP($C63,男子ﾃﾞｰﾀ貼付ｼｰﾄ!$A$3:$AA$201,17))","v":""},{"$f":"IF($C63=\"\",\"\",VLOOKUP($C63,男子ﾃﾞｰﾀ貼付ｼｰﾄ!$A$3:$AA$201,14))","v":""},null,null,null,null,null,null,null,"",{"$f":"IF(D63=\"\",\"\",VLOOKUP(C63,男子ﾃﾞｰﾀ貼付ｼｰﾄ!$A$3:$AA$202,23))","v":""}]
[57,null,null,{"$f":"IF($C64=\"\",\"\",VLOOKUP($C64,男子ﾃﾞｰﾀ貼付ｼｰﾄ!$A$3:$AA$201,2))","v":""},{"$f":"IF($C64=\"\",\"\",VLOOKUP($C64,男子ﾃﾞｰﾀ貼付ｼｰﾄ!$A$3:$AA$201,3))","v":""},{"$f":"IF($C64=\"\",\"\",VLOOKUP($C64,男子ﾃﾞｰﾀ貼付ｼｰﾄ!$A$3:$AA$201,4))","v":""},"男",{"$f":"IF($C64=\"\",\"\",RIGHT(VLOOKUP($C64,男子ﾃﾞｰﾀ貼付ｼｰﾄ!$A$3:$AA$201,26),1))","v":""},{"$f":"IF($C64=\"\",\"\",TEXT(VLOOKUP($C64,男子ﾃﾞｰﾀ貼付ｼｰﾄ!$A$3:$AA$201,23),\"yyyy\"))","v":""},{"$f":"IF($C64=\"\",\"\",VLOOKUP($C64,男子ﾃﾞｰﾀ貼付ｼｰﾄ!$A$3:$AA$201,21))","v":""},{"$f":"IF($C64=\"\",\"\",VLOOKUP($C64,男子ﾃﾞｰﾀ貼付ｼｰﾄ!$A$3:$AA$201,17))","v":""},{"$f":"IF($C64=\"\",\"\",VLOOKUP($C64,男子ﾃﾞｰﾀ貼付ｼｰﾄ!$A$3:$AA$201,14))","v":""},null,null,null,null,null,null,null,"",{"$f":"IF(D64=\"\",\"\",VLOOKUP(C64,男子ﾃﾞｰﾀ貼付ｼｰﾄ!$A$3:$AA$202,23))","v":""}]
[58,null,null,{"$f":"IF($C65=\"\",\"\",VLOOKUP($C65,男子ﾃﾞｰﾀ貼付ｼｰﾄ!$A$3:$AA$201,2))","v":""},{"$f":"IF($C65=\"\",\"\",VLOOKUP($C65,男子ﾃﾞｰﾀ貼付ｼｰﾄ!$A$3:$AA$201,3))","v":""},{"$f":"IF($C65=\"\",\"\",VLOOKUP($C65,男子ﾃﾞｰﾀ貼付ｼｰﾄ!$A$3:$AA$201,4))","v":""},"男",{"$f":"IF($C65=\"\",\"\",RIGHT(VLOOKUP($C65,男子ﾃﾞｰﾀ貼付ｼｰﾄ!$A$3:$AA$201,26),1))","v":""},{"$f":"IF($C65=\"\",\"\",TEXT(VLOOKUP($C65,男子ﾃﾞｰﾀ貼付ｼｰﾄ!$A$3:$AA$201,23),\"yyyy\"))","v":""},{"$f":"IF($C65=\"\",\"\",VLOOKUP($C65,男子ﾃﾞｰﾀ貼付ｼｰﾄ!$A$3:$AA$201,21))","v":""},{"$f":"IF($C65=\"\",\"\",VLOOKUP($C65,男子ﾃﾞｰﾀ貼付ｼｰﾄ!$A$3:$AA$201,17))","v":""},{"$f":"IF($C65=\"\",\"\",VLOOKUP($C65,男子ﾃﾞｰﾀ貼付ｼｰﾄ!$A$3:$AA$201,14))","v":""},null,null,null,null,null,null,null,"",{"$f":"IF(D65=\"\",\"\",VLOOKUP(C65,男子ﾃﾞｰﾀ貼付ｼｰﾄ!$A$3:$AA$202,23))","v":""}]
[59,null,null,{"$f":"IF($C66=\"\",\"\",VLOOKUP($C66,男子ﾃﾞｰﾀ貼付ｼｰﾄ!$A$3:$AA$201,2))","v":""},{"$f":"IF($C66=\"\",\"\",VLOOKUP($C66,男子ﾃﾞｰﾀ貼付ｼｰﾄ!$A$3:$AA$201,3))","v":""},{"$f":"IF($C66=\"\",\"\",VLOOKUP($C66,男子ﾃﾞｰﾀ貼付ｼｰﾄ!$A$3:$AA$201,4))","v":""},"男",{"$f":"IF($C66=\"\",\"\",RIGHT(VLOOKUP($C66,男子ﾃﾞｰﾀ貼付ｼｰﾄ!$A$3:$AA$201,26),1))","v":""},{"$f":"IF($C66=\"\",\"\",TEXT(VLOOKUP($C66,男子ﾃﾞｰﾀ貼付ｼｰﾄ!$A$3:$AA$201,23),\"yyyy\"))","v":""},{"$f":"IF($C66=\"\",\"\",VLOOKUP($C66,男子ﾃﾞｰﾀ貼付ｼｰﾄ!$A$3:$AA$201,21))","v":""},{"$f":"IF($C66=\"\",\"\",VLOOKUP($C66,男子ﾃﾞｰﾀ貼付ｼｰﾄ!$A$3:$AA$201,17))","v":""},{"$f":"IF($C66=\"\",\"\",VLOOKUP($C66,男子ﾃﾞｰﾀ貼付ｼｰﾄ!$A$3:$AA$201,14))","v":""},null,null,null,null,null,null,null,"",{"$f":"IF(D66=\"\",\"\",VLOOKUP(C66,男子ﾃﾞｰﾀ貼付ｼｰﾄ!$A$3:$AA$202,23))","v":""}]
[60,null,null,{"$f":"IF($C67=\"\",\"\",VLOOKUP($C67,男子ﾃﾞｰﾀ貼付ｼｰﾄ!$A$3:$AA$201,2))","v":""},{"$f":"IF($C67=\"\",\"\",VLOOKUP($C67,男子ﾃﾞｰﾀ貼付ｼｰﾄ!$A$3:$AA$201,3))","v":""},{"$f":"IF($C67=\"\",\"\",VLOOKUP($C67,男子ﾃﾞｰﾀ貼付ｼｰﾄ!$A$3:$AA$201,4))","v":""},"男",{"$f":"IF($C67=\"\",\"\",RIGHT(VLOOKUP($C67,男子ﾃﾞｰﾀ貼付ｼｰﾄ!$A$3:$AA$201,26),1))","v":""},{"$f":"IF($C67=\"\",\"\",TEXT(VLOOKUP($C67,男子ﾃﾞｰﾀ貼付ｼｰﾄ!$A$3:$AA$201,23),\"yyyy\"))","v":""},{"$f":"IF($C67=\"\",\"\",VLOOKUP($C67,男子ﾃﾞｰﾀ貼付ｼｰﾄ!$A$3:$AA$201,21))","v":""},{"$f":"IF($C67=\"\",\"\",VLOOKUP($C67,男子ﾃﾞｰﾀ貼付ｼｰﾄ!$A$3:$AA$201,17))","v":""},{"$f":"IF($C67=\"\",\"\",VLOOKUP($C67,男子ﾃﾞｰﾀ貼付ｼｰﾄ!$A$3:$AA$201,14))","v":""},null,null,null,null,null,null,null,"",{"$f":"IF(D67=\"\",\"\",VLOOKUP(C67,男子ﾃﾞｰﾀ貼付ｼｰﾄ!$A$3:$AA$202,23))","v":""}]
[]
["※記入方法について",null,null,null,null,null,null,null,null,null,null,null,"中学生",null,"（種目）",null,{"$f":"N69*1000","v":0}]
["１．ナンバーの県欄には、各県登録ナンバーを記入　北欄の記載は不要"]
["２．最高記録は2022/1/1 から 大会申込締切まで の最高記録を記入",null,null,null,null,null,null,null,null,null,null,null,"高校生",null,"（種目）",null,{"$f":"N71*1500","v":0}]
["３．種目の年、月は記録を出した年を西暦下二けた(19or20)と月の４桁で記入"]
["４．不足する場合は、27行と68行の間の行を再表示してください。",null,null,null,null,null,null,null,null,null,null,null,"大学・一般",null,"（種目）",null,{"$f":"N73*2000","v":0}]
["　　それでも足りない場合は、行をコピーして挿入してください。"]
["５．申込書記入例を参考に種目等を記入してください。",null,null,null,null,null,null,null,null,null,null,null,"混成",null,"（種目）",null,{"$f":"N75*3000","v":0}]
["※","個人情報保護について"]
[null,"ここに書かれている内容については本大会の運営だけに利用し、その他、外部への情報供与は一切行いません。",null,null,null,null,null,null,null,null,null,null,"リレー",null,"（種目）",null,{"$f":"N77*3000","v":0}]
[]
[null,null,null,null,null,null,null,null,null,null,null,null,null,null,null,"合計",{"$f":"Q69+Q71+Q73+Q75+Q77","v":0}]
[]
[null,null,null,null,null,null,null,null,null,null,null,null,"記載責任者（携帯電話番号）"]
[null,"所属団体",null,null,null,null,null,null,null,null,null,null,"氏名"]
[null,null,null,null,null,null,null,null,null,null,null,null,"（",null,null,null,null,"）"]
[]
[null,"住所","〒",null,null,null,null,null,null,null,null,null,"学校の場合は、学校長出場承認印"]
[]
[null,"電話",null,null,null,null,null,null,null,null,null,null,null,null,null,null,null,"印"]
[null,"FAX"]

{"sheet":"女子ﾃﾞｰﾀ貼付ｼｰﾄ","index":3,"n_rows":202,"n_cols":27,"rows_kept":202,"cut":false,"hidden":false,"merged":[[1,0,1,3]]}
[null,null,null,null,"貼り付けはＥ列から→"]
["↓    この列には貼り付けないで！    ↓",null,null,null,"年度","JAAF ID","氏名\n（姓）","氏名\n（名）","登録\n番号","フリガナ\n（姓）","フリガナ\n（名）","英字\n（姓）","英字\n（名）","国籍","性別","登録都道\n府県番号","登録都道\n府県名","団体UID","団体ID","団体名","団体名\n略称1","団体名\n略称2","生年月日","旧団体\nコード","備\n考","学\n年","団体\n区分"]
[{"$f":"IF(I3=\"\",\"\",I3)","v":""},{"$f":"IF(A3=\"\",\"\",G3&\" \"&H3)","v":""},{"$f":"IF(A3=\"\",\"\",ASC(J3&\" \"&K3))","v":""},{"$f":"IF(A3=\"\",\"\",L3&\" \"&M3)","v":""}]
["","","",""]
["","","",""]
["","","",""]
["","","",""]
["","","",""]
["","","",""]
["","","",""]
["","","",""]
["","","",""]
["","","",""]
["","","",""]
["","","",""]
["","","",""]
["","","",""]
["","","",""]
["","","",""]
["","","",""]
["","","",""]
["","","",""]
["","","",""]
["","","",""]
["","","",""]
["","","",""]
["","","",""]
["","","",""]
["","","",""]
["","","",""]
["","","",""]
["","","",""]
["","","",""]
["","","",""]
[{"$f":"IF(I35=\"\",\"\",I35)","v":""},{"$f":"IF(A35=\"\",\"\",G35&\" \"&H35)","v":""},{"$f":"IF(A35=\"\",\"\",ASC(J35&\" \"&K35))","v":""},{"$f":"IF(A35=\"\",\"\",L35&\" \"&M35)","v":""}]
["","","",""]
["","","",""]
["","","",""]
["","","",""]
["","","",""]
["","","",""]
["","","",""]
["","","",""]
["","","",""]
["","","",""]
["","","",""]
["","","",""]
["","","",""]
["","","",""]
["","","",""]
["","","",""]
["","","",""]
["","","",""]
["","","",""]
["","","",""]
["","","",""]
["","","",""]
["","","",""]
["","","",""]
["","","",""]
["","","",""]
["","","",""]
["","","",""]
["","","",""]
["","","",""]
["","","",""]
[{"$f":"IF(I67=\"\",\"\",I67)","v":""},{"$f":"IF(A67=\"\",\"\",G67&\" \"&H67)","v":""},{"$f":"IF(A67=\"\",\"\",ASC(J67&\" \"&K67))","v":""},{"$f":"IF(A67=\"\",\"\",L67&\" \"&M67)","v":""}]
["","","",""]
["","","",""]
["","","",""]
["","","",""]
["","","",""]
["","","",""]
["","","",""]
["","","",""]
["","","",""]
["","","",""]
["","","",""]
["","","",""]
["","","",""]
["","","",""]
["","","",""]
["","","",""]
["","","",""]
["","","",""]
["","","",""]
["","","",""]
["","","",""]
["","","",""]
["","","",""]
["","","",""]
["","","",""]
["","","",""]
["","","",""]
["","","",""]
["","","",""]
["","","",""]
["","","",""]
[{"$f":"IF(I99=\"\",\"\",I99)","v":""},{"$f":"IF(A99=\"\",\"\",G99&\" \"&H99)","v":""},{"$f":"IF(A99=\"\",\"\",ASC(J99&\" \"&K99))","v":""},{"$f":"IF(A99=\"\",\"\",L99&\" \"&M99)","v":""}]
["","","",""]
["","","",""]
["","","",""]
["","","",""]
["","","",""]
["","","",""]
["","","",""]
["","","",""]
["","","",""]
["","","",""]
["","","",""]
["","","",""]
["","","",""]
["","","",""]
["","","",""]
["","","",""]
["","","",""]
["","","",""]
["","","",""]
["","","",""]
["","","",""]
["","","",""]
["","","",""]
["","","",""]
["","","",""]
["","","",""]
["","","",""]
["","","",""]
["","","",""]
["","","",""]
["","","",""]
[{"$f":"IF(I131=\"\",\"\",I131)","v":""},{"$f":"IF(A131=\"\",\"\",G131&\" \"&H131)","v":""},{"$f":"IF(A131=\"\",\"\",ASC(J131&\" \"&K131))","v":""},{"$f":"IF(A131=\"\",\"\",L131&\" \"&M131)","v":""}]
["","","",""]
["","","",""]
["","","",""]
["","","",""]
["","","",""]
["","","",""]
["","","",""]
["","","",""]
["","","",""]
["","","",""]
["","","",""]
["","","",""]
["","","",""]
["","","",""]
["","","",""]
["","","",""]
["","","",""]
["","","",""]
["","","",""]
["","","",""]
["","","",""]
["","","",""]
["","","",""]
["","","",""]
["","","",""]
["","","",""]
["","","",""]
["","","",""]
["","","",""]
["","","",""]
["","","",""]
[{"$f":"IF(I163=\"\",\"\",I163)","v":""},{"$f":"IF(A163=\"\",\"\",G163&\" \"&H163)","v":""},{"$f":"IF(A163=\"\",\"\",ASC(J163&\" \"&K163))","v":""},{"$f":"IF(A163=\"\",\"\",L163&\" \"&M163)","v":""}]
["","","",""]
["","","",""]
["","","",""]
["","","",""]
["","","",""]
["","","",""]
["","","",""]
["","","",""]
["","","",""]
["","","",""]
["","","",""]
["","","",""]
["","","",""]
["","","",""]
["","","",""]
["","","",""]
["","","",""]
["","","",""]
["","","",""]
["","","",""]
["","","",""]
["","","",""]
["","","",""]
["","","",""]
["","","",""]
["","","",""]
["","","",""]
["","","",""]
["","","",""]
["","","",""]
["","","",""]
[{"$f":"IF(I195=\"\",\"\",I195)","v":""},{"$f":"IF(A195=\"\",\"\",G195&\" \"&H195)","v":""},{"$f":"IF(A195=\"\",\"\",ASC(J195&\" \"&K195))","v":""},{"$f":"IF(A195=\"\",\"\",L195&\" \"&M195)","v":""}]
["","","",""]
["","","",""]
["","","",""]
["","","",""]
["","","",""]
["","","",""]
["","","",""]

{"sheet":"【様式1-2】女子団体（個人）申込書","index":4,"n_rows":87,"n_cols":21,"rows_kept":87,"cut":false,"hidden":false,"merged":[[81,13,81,16],[82,13,82,16],[85,3,85,8],[1,5,1,12],[3,5,3,12],[86,3,86,8],[5,12,6,12],[83,3,83,4],[84,3,84,8],[5,5,6,5],[5,11,6,11],[5,7,6,7],[5,9,6,9],[0,17,0,18],[5,18,6,18],[5,0,6,0],[5,1,5,2],[5,3,6,3],[5,6,6,6],[1,15,1,17],[5,13,5,17]]}
[null,null,null,null,null,null,null,null,null,null,null,null,null,null,null,null,null,"【様式1-2】"]
[null,null,null,"大会名",null,"第６７回北陸地域陸上競技選手権大会",null,null,null,null,null,null,null,null,null,"参加申込一覧表（　女子　）"]
[]
[null,null,null,"所属学校・団体名 ",null,{"$f":"IF(女子ﾃﾞｰﾀ貼付ｼｰﾄ!U3=\"\",\"\",女子ﾃﾞｰﾀ貼付ｼｰﾄ!U3)","v":""},null,null,null,null,null,null,null,{"$f":"IF(F4=\"\",\"\",女子ﾃﾞｰﾀ貼付ｼｰﾄ!X3)","v":""}]
[]
[null,"ﾅﾝﾊﾞｰ",null,"氏　名","ﾌﾘｶﾞﾅ","ｱﾙﾌｧﾍﾞｯﾄ表記","性別","学年","生年","所属","登録","国籍","種目","参加標準記録",null,null,null,null,"備考"]
[null,"北","県",null,"(半角ｶﾀｶﾅ)",null,null,null,"西暦4桁",null,"都道府県",null,null,"記録","順位","年月(4桁)","大会名","場所"]
[1,null,null,{"$f":"IF($C8=\"\",\"\",VLOOKUP($C8,女子ﾃﾞｰﾀ貼付ｼｰﾄ!$A$3:$AA$34,2))","v":""},{"$f":"IF($C8=\"\",\"\",VLOOKUP($C8,女子ﾃﾞｰﾀ貼付ｼｰﾄ!$A$3:$AA$34,3))","v":""},{"$f":"IF($C8=\"\",\"\",VLOOKUP($C8,女子ﾃﾞｰﾀ貼付ｼｰﾄ!$A$3:$AA$34,4))","v":""},"女",{"$f":"IF($C8=\"\",\"\",RIGHT(VLOOKUP($C8,女子ﾃﾞｰﾀ貼付ｼｰﾄ!$A$3:$AA$34,26),1))","v":""},{"$f":"IF($C8=\"\",\"\",TEXT(VLOOKUP($C8,女子ﾃﾞｰﾀ貼付ｼｰﾄ!$A$3:$AA$34,23),\"yyyy\"))","v":""},{"$f":"IF($C8=\"\",\"\",VLOOKUP($C8,女子ﾃﾞｰﾀ貼付ｼｰﾄ!$A$3:$AA$34,21))","v":""},{"$f":"IF($C8=\"\",\"\",VLOOKUP($C8,女子ﾃﾞｰﾀ貼付ｼｰﾄ!$A$3:$AA$34,17))","v":""},{"$f":"IF($C8=\"\",\"\",VLOOKUP($C8,女子ﾃﾞｰﾀ貼付ｼｰﾄ!$A$3:$AA$34,14))","v":""},null,null,null,null,null,null,null,{"$f":"IF(U8=\"\",\"\",TEXT(U8,\"yyyymmdd\"))","v":""},{"$f":"IF(D8=\"\",\"\",VLOOKUP(C8,女子ﾃﾞｰﾀ貼付ｼｰﾄ!$A$3:$AA$202,23))","v":""}]
[2,null,null,{"$f":"IF($C9=\"\",\"\",VLOOKUP($C9,女子ﾃﾞｰﾀ貼付ｼｰﾄ!$A$3:$AA$34,2))","v":""},{"$f":"IF($C9=\"\",\"\",VLOOKUP($C9,女子ﾃﾞｰﾀ貼付ｼｰﾄ!$A$3:$AA$34,3))","v":""},{"$f":"IF($C9=\"\",\"\",VLOOKUP($C9,女子ﾃﾞｰﾀ貼付ｼｰﾄ!$A$3:$AA$34,4))","v":""},"女",{"$f":"IF($C9=\"\",\"\",RIGHT(VLOOKUP($C9,女子ﾃﾞｰﾀ貼付ｼｰﾄ!$A$3:$AA$34,26),1))","v":""},{"$f":"IF($C9=\"\",\"\",TEXT(VLOOKUP($C9,女子ﾃﾞｰﾀ貼付ｼｰﾄ!$A$3:$AA$34,23),\"yyyy\"))","v":""},{"$f":"IF($C9=\"\",\"\",VLOOKUP($C9,女子ﾃﾞｰﾀ貼付ｼｰﾄ!$A$3:$AA$34,21))","v":""},{"$f":"IF($C9=\"\",\"\",VLOOKUP($C9,女子ﾃﾞｰﾀ貼付ｼｰﾄ!$A$3:$AA$34,17))","v":""},{"$f":"IF($C9=\"\",\"\",VLOOKUP($C9,女子ﾃﾞｰﾀ貼付ｼｰﾄ!$A$3:$AA$34,14))","v":""},null,null,null,null,null,null,null,{"$f":"IF(U9=\"\",\"\",TEXT(U9,\"yyyymmdd\"))","v":""},{"$f":"IF(D9=\"\",\"\",VLOOKUP(C9,女子ﾃﾞｰﾀ貼付ｼｰﾄ!$A$3:$AA$202,23))","v":""}]
[3,null,null,{"$f":"IF($C10=\"\",\"\",VLOOKUP($C10,女子ﾃﾞｰﾀ貼付ｼｰﾄ!$A$3:$AA$34,2))","v":""},{"$f":"IF($C10=\"\",\"\",VLOOKUP($C10,女子ﾃﾞｰﾀ貼付ｼｰﾄ!$A$3:$AA$34,3))","v":""},{"$f":"IF($C10=\"\",\"\",VLOOKUP($C10,女子ﾃﾞｰﾀ貼付ｼｰﾄ!$A$3:$AA$34,4))","v":""},"女",{"$f":"IF($C10=\"\",\"\",RIGHT(VLOOKUP($C10,女子ﾃﾞｰﾀ貼付ｼｰﾄ!$A$3:$AA$34,26),1))","v":""},{"$f":"IF($C10=\"\",\"\",TEXT(VLOOKUP($C10,女子ﾃﾞｰﾀ貼付ｼｰﾄ!$A$3:$AA$34,23),\"yyyy\"))","v":""},{"$f":"IF($C10=\"\",\"\",VLOOKUP($C10,女子ﾃﾞｰﾀ貼付ｼｰﾄ!$A$3:$AA$34,21))","v":""},{"$f":"IF($C10=\"\",\"\",VLOOKUP($C10,女子ﾃﾞｰﾀ貼付ｼｰﾄ!$A$3:$AA$34,17))","v":""},{"$f":"IF($C10=\"\",\"\",VLOOKUP($C10,女子ﾃﾞｰﾀ貼付ｼｰﾄ!$A$3:$AA$34,14))","v":""},null,null,null,null,null,null,null,"",{"$f":"IF(D10=\"\",\"\",VLOOKUP(C10,女子ﾃﾞｰﾀ貼付ｼｰﾄ!$A$3:$AA$202,23))","v":""}]
[4,null,null,{"$f":"IF($C11=\"\",\"\",VLOOKUP($C11,女子ﾃﾞｰﾀ貼付ｼｰﾄ!$A$3:$AA$34,2))","v":""},{"$f":"IF($C11=\"\",\"\",VLOOKUP($C11,女子ﾃﾞｰﾀ貼付ｼｰﾄ!$A$3:$AA$34,3))","v":""},{"$f":"IF($C11=\"\",\"\",VLOOKUP($C11,女子ﾃﾞｰﾀ貼付ｼｰﾄ!$A$3:$AA$34,4))","v":""},"女",{"$f":"IF($C11=\"\",\"\",RIGHT(VLOOKUP($C11,女子ﾃﾞｰﾀ貼付ｼｰﾄ!$A$3:$AA$34,26),1))","v":""},{"$f":"IF($C11=\"\",\"\",TEXT(VLOOKUP($C11,女子ﾃﾞｰﾀ貼付ｼｰﾄ!$A$3:$AA$34,23),\"yyyy\"))","v":""},{"$f":"IF($C11=\"\",\"\",VLOOKUP($C11,女子ﾃﾞｰﾀ貼付ｼｰﾄ!$A$3:$AA$34,21))","v":""},{"$f":"IF($C11=\"\",\"\",VLOOKUP($C11,女子ﾃﾞｰﾀ貼付ｼｰﾄ!$A$3:$AA$34,17))","v":""},{"$f":"IF($C11=\"\",\"\",VLOOKUP($C11,女子ﾃﾞｰﾀ貼付ｼｰﾄ!$A$3:$AA$34,14))","v":""},null,null,null,null,null,null,null,"",{"$f":"IF(D11=\"\",\"\",VLOOKUP(C11,女子ﾃﾞｰﾀ貼付ｼｰﾄ!$A$3:$AA$202,23))","v":""}]
[5,null,null,{"$f":"IF($C12=\"\",\"\",VLOOKUP($C12,女子ﾃﾞｰﾀ貼付ｼｰﾄ!$A$3:$AA$34,2))","v":""},{"$f":"IF($C12=\"\",\"\",VLOOKUP($C12,女子ﾃﾞｰﾀ貼付ｼｰﾄ!$A$3:$AA$34,3))","v":""},{"$f":"IF($C12=\"\",\"\",VLOOKUP($C12,女子ﾃﾞｰﾀ貼付ｼｰﾄ!$A$3:$AA$34,4))","v":""},"女",{"$f":"IF($C12=\"\",\"\",RIGHT(VLOOKUP($C12,女子ﾃﾞｰﾀ貼付ｼｰﾄ!$A$3:$AA$34,26),1))","v":""},{"$f":"IF($C12=\"\",\"\",TEXT(VLOOKUP($C12,女子ﾃﾞｰﾀ貼付ｼｰﾄ!$A$3:$AA$34,23),\"yyyy\"))","v":""},{"$f":"IF($C12=\"\",\"\",VLOOKUP($C12,女子ﾃﾞｰﾀ貼付ｼｰﾄ!$A$3:$AA$34,21))","v":""},{"$f":"IF($C12=\"\",\"\",VLOOKUP($C12,女子ﾃﾞｰﾀ貼付ｼｰﾄ!$A$3:$AA$34,17))","v":""},{"$f":"IF($C12=\"\",\"\",VLOOKUP($C12,女子ﾃﾞｰﾀ貼付ｼｰﾄ!$A$3:$AA$34,14))","v":""},null,null,null,null,null,null,null,"",{"$f":"IF(D12=\"\",\"\",VLOOKUP(C12,女子ﾃﾞｰﾀ貼付ｼｰﾄ!$A$3:$AA$202,23))","v":""}]
[6,null,null,{"$f":"IF($C13=\"\",\"\",VLOOKUP($C13,女子ﾃﾞｰﾀ貼付ｼｰﾄ!$A$3:$AA$34,2))","v":""},{"$f":"IF($C13=\"\",\"\",VLOOKUP($C13,女子ﾃﾞｰﾀ貼付ｼｰﾄ!$A$3:$AA$34,3))","v":""},{"$f":"IF($C13=\"\",\"\",VLOOKUP($C13,女子ﾃﾞｰﾀ貼付ｼｰﾄ!$A$3:$AA$34,4))","v":""},"女",{"$f":"IF($C13=\"\",\"\",RIGHT(VLOOKUP($C13,女子ﾃﾞｰﾀ貼付ｼｰﾄ!$A$3:$AA$34,26),1))","v":""},{"$f":"IF($C13=\"\",\"\",TEXT(VLOOKUP($C13,女子ﾃﾞｰﾀ貼付ｼｰﾄ!$A$3:$AA$34,23),\"yyyy\"))","v":""},{"$f":"IF($C13=\"\",\"\",VLOOKUP($C13,女子ﾃﾞｰﾀ貼付ｼｰﾄ!$A$3:$AA$34,21))","v":""},{"$f":"IF($C13=\"\",\"\",VLOOKUP($C13,女子ﾃﾞｰﾀ貼付ｼｰﾄ!$A$3:$AA$34,17))","v":""},{"$f":"IF($C13=\"\",\"\",VLOOKUP($C13,女子ﾃﾞｰﾀ貼付ｼｰﾄ!$A$3:$AA$34,14))","v":""},null,null,null,null,null,null,null,"",{"$f":"IF(D13=\"\",\"\",VLOOKUP(C13,女子ﾃﾞｰﾀ貼付ｼｰﾄ!$A$3:$AA$202,23))","v":""}]
[7,null,null,{"$f":"IF($C14=\"\",\"\",VLOOKUP($C14,女子ﾃﾞｰﾀ貼付ｼｰﾄ!$A$3:$AA$34,2))","v":""},{"$f":"IF($C14=\"\",\"\",VLOOKUP($C14,女子ﾃﾞｰﾀ貼付ｼｰﾄ!$A$3:$AA$34,3))","v":""},{"$f":"IF($C14=\"\",\"\",VLOOKUP($C14,女子ﾃﾞｰﾀ貼付ｼｰﾄ!$A$3:$AA$34,4))","v":""},"女",{"$f":"IF($C14=\"\",\"\",RIGHT(VLOOKUP($C14,女子ﾃﾞｰﾀ貼付ｼｰﾄ!$A$3:$AA$34,26),1))","v":""},{"$f":"IF($C14=\"\",\"\",TEXT(VLOOKUP($C14,女子ﾃﾞｰﾀ貼付ｼｰﾄ!$A$3:$AA$34,23),\"yyyy\"))","v":""},{"$f":"IF($C14=\"\",\"\",VLOOKUP($C14,女子ﾃﾞｰﾀ貼付ｼｰﾄ!$A$3:$AA$34,21))","v":""},{"$f":"IF($C14=\"\",\"\",VLOOKUP($C14,女子ﾃﾞｰﾀ貼付ｼｰﾄ!$A$3:$AA$34,17))","v":""},{"$f":"IF($C14=\"\",\"\",VLOOKUP($C14,女子ﾃﾞｰﾀ貼付ｼｰﾄ!$A$3:$AA$34,14))","v":""},null,null,null,null,null,null,null,"",{"$f":"IF(D14=\"\",\"\",VLOOKUP(C14,女子ﾃﾞｰﾀ貼付ｼｰﾄ!$A$3:$AA$202,23))","v":""}]
[8,null,null,{"$f":"IF($C15=\"\",\"\",VLOOKUP($C15,女子ﾃﾞｰﾀ貼付ｼｰﾄ!$A$3:$AA$34,2))","v":""},{"$f":"IF($C15=\"\",\"\",VLOOKUP($C15,女子ﾃﾞｰﾀ貼付ｼｰﾄ!$A$3:$AA$34,3))","v":""},{"$f":"IF($C15=\"\",\"\",VLOOKUP($C15,女子ﾃﾞｰﾀ貼付ｼｰﾄ!$A$3:$AA$34,4))","v":""},"女",{"$f":"IF($C15=\"\",\"\",RIGHT(VLOOKUP($C15,女子ﾃﾞｰﾀ貼付ｼｰﾄ!$A$3:$AA$34,26),1))","v":""},{"$f":"IF($C15=\"\",\"\",TEXT(VLOOKUP($C15,女子ﾃﾞｰﾀ貼付ｼｰﾄ!$A$3:$AA$34,23),\"yyyy\"))","v":""},{"$f":"IF($C15=\"\",\"\",VLOOKUP($C15,女子ﾃﾞｰﾀ貼付ｼｰﾄ!$A$3:$AA$34,21))","v":""},{"$f":"IF($C15=\"\",\"\",VLOOKUP($C15,女子ﾃﾞｰﾀ貼付ｼｰﾄ!$A$3:$AA$34,17))","v":""},{"$f":"IF($C15=\"\",\"\",VLOOKUP($C15,女子ﾃﾞｰﾀ貼付ｼｰﾄ!$A$3:$AA$34,14))","v":""},null,null,null,null,null,null,null,"",{"$f":"IF(D15=\"\",\"\",VLOOKUP(C15,女子ﾃﾞｰﾀ貼付ｼｰﾄ!$A$3:$AA$202,23))","v":""}]
[9,null,null,{"$f":"IF($C16=\"\",\"\",VLOOKUP($C16,女子ﾃﾞｰﾀ貼付ｼｰﾄ!$A$3:$AA$34,2))","v":""},{"$f":"IF($C16=\"\",\"\",VLOOKUP($C16,女子ﾃﾞｰﾀ貼付ｼｰﾄ!$A$3:$AA$34,3))","v":""},{"$f":"IF($C16=\"\",\"\",VLOOKUP($C16,女子ﾃﾞｰﾀ貼付ｼｰﾄ!$A$3:$AA$34,4))","v":""},"女",{"$f":"IF($C16=\"\",\"\",RIGHT(VLOOKUP($C16,女子ﾃﾞｰﾀ貼付ｼｰﾄ!$A$3:$AA$34,26),1))","v":""},{"$f":"IF($C16=\"\",\"\",TEXT(VLOOKUP($C16,女子ﾃﾞｰﾀ貼付ｼｰﾄ!$A$3:$AA$34,23),\"yyyy\"))","v":""},{"$f":"IF($C16=\"\",\"\",VLOOKUP($C16,女子ﾃﾞｰﾀ貼付ｼｰﾄ!$A$3:$AA$34,21))","v":""},{"$f":"IF($C16=\"\",\"\",VLOOKUP($C16,女子ﾃﾞｰﾀ貼付ｼｰﾄ!$A$3:$AA$34,17))","v":""},{"$f":"IF($C16=\"\",\"\",VLOOKUP($C16,女子ﾃﾞｰﾀ貼付ｼｰﾄ!$A$3:$AA$34,14))","v":""},null,null,null,null,null,null,null,"",{"$f":"IF(D16=\"\",\"\",VLOOKUP(C16,女子ﾃﾞｰﾀ貼付ｼｰﾄ!$A$3:$AA$202,23))","v":""}]
[10,null,null,{"$f":"IF($C17=\"\",\"\",VLOOKUP($C17,女子ﾃﾞｰﾀ貼付ｼｰﾄ!$A$3:$AA$34,2))","v":""},{"$f":"IF($C17=\"\",\"\",VLOOKUP($C17,女子ﾃﾞｰﾀ貼付ｼｰﾄ!$A$3:$AA$34,3))","v":""},{"$f":"IF($C17=\"\",\"\",VLOOKUP($C17,女子ﾃﾞｰﾀ貼付ｼｰﾄ!$A$3:$AA$34,4))","v":""},"女",{"$f":"IF($C17=\"\",\"\",RIGHT(VLOOKUP($C17,女子ﾃﾞｰﾀ貼付ｼｰﾄ!$A$3:$AA$34,26),1))","v":""},{"$f":"IF($C17=\"\",\"\",TEXT(VLOOKUP($C17,女子ﾃﾞｰﾀ貼付ｼｰﾄ!$A$3:$AA$34,23),\"yyyy\"))","v":""},{"$f":"IF($C17=\"\",\"\",VLOOKUP($C17,女子ﾃﾞｰﾀ貼付ｼｰﾄ!$A$3:$AA$34,21))","v":""},{"$f":"IF($C17=\"\",\"\",VLOOKUP($C17,女子ﾃﾞｰﾀ貼付ｼｰﾄ!$A$3:$AA$34,17))","v":""},{"$f":"IF($C17=\"\",\"\",VLOOKUP($C17,女子ﾃﾞｰﾀ貼付ｼｰﾄ!$A$3:$AA$34,14))","v":""},null,null,null,null,null,null,null,"",{"$f":"IF(D17=\"\",\"\",VLOOKUP(C17,女子ﾃﾞｰﾀ貼付ｼｰﾄ!$A$3:$AA$202,23))","v":""}]
[11,null,null,{"$f":"IF($C18=\"\",\"\",VLOOKUP($C18,女子ﾃﾞｰﾀ貼付ｼｰﾄ!$A$3:$AA$34,2))","v":""},{"$f":"IF($C18=\"\",\"\",VLOOKUP($C18,女子ﾃﾞｰﾀ貼付ｼｰﾄ!$A$3:$AA$34,3))","v":""},{"$f":"IF($C18=\"\",\"\",VLOOKUP($C18,女子ﾃﾞｰﾀ貼付ｼｰﾄ!$A$3:$AA$34,4))","v":""},"女",{"$f":"IF($C18=\"\",\"\",RIGHT(VLOOKUP($C18,女子ﾃﾞｰﾀ貼付ｼｰﾄ!$A$3:$AA$34,26),1))","v":""},{"$f":"IF($C18=\"\",\"\",TEXT(VLOOKUP($C18,女子ﾃﾞｰﾀ貼付ｼｰﾄ!$A$3:$AA$34,23),\"yyyy\"))","v":""},{"$f":"IF($C18=\"\",\"\",VLOOKUP($C18,女子ﾃﾞｰﾀ貼付ｼｰﾄ!$A$3:$AA$34,21))","v":""},{"$f":"IF($C18=\"\",\"\",VLOOKUP($C18,女子ﾃﾞｰﾀ貼付ｼｰﾄ!$A$3:$AA$34,17))","v":""},{"$f":"IF($C18=\"\",\"\",VLOOKUP($C18,女子ﾃﾞｰﾀ貼付ｼｰﾄ!$A$3:$AA$34,14))","v":""},null,null,null,null,null,null,null,"",{"$f":"IF(D18=\"\",\"\",VLOOKUP(C18,女子ﾃﾞｰﾀ貼付ｼｰﾄ!$A$3:$AA$202,23))","v":""}]
[12,null,null,{"$f":"IF($C19=\"\",\"\",VLOOKUP($C19,女子ﾃﾞｰﾀ貼付ｼｰﾄ!$A$3:$AA$34,2))","v":""},{"$f":"IF($C19=\"\",\"\",VLOOKUP($C19,女子ﾃﾞｰﾀ貼付ｼｰﾄ!$A$3:$AA$34,3))","v":""},{"$f":"IF($C19=\"\",\"\",VLOOKUP($C19,女子ﾃﾞｰﾀ貼付ｼｰﾄ!$A$3:$AA$34,4))","v":""},"女",{"$f":"IF($C19=\"\",\"\",RIGHT(VLOOKUP($C19,女子ﾃﾞｰﾀ貼付ｼｰﾄ!$A$3:$AA$34,26),1))","v":""},{"$f":"IF($C19=\"\",\"\",TEXT(VLOOKUP($C19,女子ﾃﾞｰﾀ貼付ｼｰﾄ!$A$3:$AA$34,23),\"yyyy\"))","v":""},{"$f":"IF($C19=\"\",\"\",VLOOKUP($C19,女子ﾃﾞｰﾀ貼付ｼｰﾄ!$A$3:$AA$34,21))","v":""},{"$f":"IF($C19=\"\",\"\",VLOOKUP($C19,女子ﾃﾞｰﾀ貼付ｼｰﾄ!$A$3:$AA$34,17))","v":""},{"$f":"IF($C19=\"\",\"\",VLOOKUP($C19,女子ﾃﾞｰﾀ貼付ｼｰﾄ!$A$3:$AA$34,14))","v":""},null,null,null,null,null,null,null,"",{"$f":"IF(D19=\"\",\"\",VLOOKUP(C19,女子ﾃﾞｰﾀ貼付ｼｰﾄ!$A$3:$AA$202,23))","v":""}]
[13,null,null,{"$f":"IF($C20=\"\",\"\",VLOOKUP($C20,女子ﾃﾞｰﾀ貼付ｼｰﾄ!$A$3:$AA$34,2))","v":""},{"$f":"IF($C20=\"\",\"\",VLOOKUP($C20,女子ﾃﾞｰﾀ貼付ｼｰﾄ!$A$3:$AA$34,3))","v":""},{"$f":"IF($C20=\"\",\"\",VLOOKUP($C20,女子ﾃﾞｰﾀ貼付ｼｰﾄ!$A$3:$AA$34,4))","v":""},"女",{"$f":"IF($C20=\"\",\"\",RIGHT(VLOOKUP($C20,女子ﾃﾞｰﾀ貼付ｼｰﾄ!$A$3:$AA$34,26),1))","v":""},{"$f":"IF($C20=\"\",\"\",TEXT(VLOOKUP($C20,女子ﾃﾞｰﾀ貼付ｼｰﾄ!$A$3:$AA$34,23),\"yyyy\"))","v":""},{"$f":"IF($C20=\"\",\"\",VLOOKUP($C20,女子ﾃﾞｰﾀ貼付ｼｰﾄ!$A$3:$AA$34,21))","v":""},{"$f":"IF($C20=\"\",\"\",VLOOKUP($C20,女子ﾃﾞｰﾀ貼付ｼｰﾄ!$A$3:$AA$34,17))","v":""},{"$f":"IF($C20=\"\",\"\",VLOOKUP($C20,女子ﾃﾞｰﾀ貼付ｼｰﾄ!$A$3:$AA$34,14))","v":""},null,null,null,null,null,null,null,"",{"$f":"IF(D20=\"\",\"\",VLOOKUP(C20,女子ﾃﾞｰﾀ貼付ｼｰﾄ!$A$3:$AA$202,23))","v":""}]
[14,null,null,{"$f":"IF($C21=\"\",\"\",VLOOKUP($C21,女子ﾃﾞｰﾀ貼付ｼｰﾄ!$A$3:$AA$34,2))","v":""},{"$f":"IF($C21=\"\",\"\",VLOOKUP($C21,女子ﾃﾞｰﾀ貼付ｼｰﾄ!$A$3:$AA$34,3))","v":""},{"$f":"IF($C21=\"\",\"\",VLOOKUP($C21,女子ﾃﾞｰﾀ貼付ｼｰﾄ!$A$3:$AA$34,4))","v":""},"女",{"$f":"IF($C21=\"\",\"\",RIGHT(VLOOKUP($C21,女子ﾃﾞｰﾀ貼付ｼｰﾄ!$A$3:$AA$34,26),1))","v":""},{"$f":"IF($C21=\"\",\"\",TEXT(VLOOKUP($C21,女子ﾃﾞｰﾀ貼付ｼｰﾄ!$A$3:$AA$34,23),\"yyyy\"))","v":""},{"$f":"IF($C21=\"\",\"\",VLOOKUP($C21,女子ﾃﾞｰﾀ貼付ｼｰﾄ!$A$3:$AA$34,21))","v":""},{"$f":"IF($C21=\"\",\"\",VLOOKUP($C21,女子ﾃﾞｰﾀ貼付ｼｰﾄ!$A$3:$AA$34,17))","v":""},{"$f":"IF($C21=\"\",\"\",VLOOKUP($C21,女子ﾃﾞｰﾀ貼付ｼｰﾄ!$A$3:$AA$34,14))","v":""},null,null,null,null,null,null,null,"",{"$f":"IF(D21=\"\",\"\",VLOOKUP(C21,女子ﾃﾞｰﾀ貼付ｼｰﾄ!$A$3:$AA$202,23))","v":""}]
[15,null,null,{"$f":"IF($C22=\"\",\"\",VLOOKUP($C22,女子ﾃﾞｰﾀ貼付ｼｰﾄ!$A$3:$AA$34,2))","v":""},{"$f":"IF($C22=\"\",\"\",VLOOKUP($C22,女子ﾃﾞｰﾀ貼付ｼｰﾄ!$A$3:$AA$34,3))","v":""},{"$f":"IF($C22=\"\",\"\",VLOOKUP($C22,女子ﾃﾞｰﾀ貼付ｼｰﾄ!$A$3:$AA$34,4))","v":""},"女",{"$f":"IF($C22=\"\",\"\",RIGHT(VLOOKUP($C22,女子ﾃﾞｰﾀ貼付ｼｰﾄ!$A$3:$AA$34,26),1))","v":""},{"$f":"IF($C22=\"\",\"\",TEXT(VLOOKUP($C22,女子ﾃﾞｰﾀ貼付ｼｰﾄ!$A$3:$AA$34,23),\"yyyy\"))","v":""},{"$f":"IF($C22=\"\",\"\",VLOOKUP($C22,女子ﾃﾞｰﾀ貼付ｼｰﾄ!$A$3:$AA$34,21))","v":""},{"$f":"IF($C22=\"\",\"\",VLOOKUP($C22,女子ﾃﾞｰﾀ貼付ｼｰﾄ!$A$3:$AA$34,17))","v":""},{"$f":"IF($C22=\"\",\"\",VLOOKUP($C22,女子ﾃﾞｰﾀ貼付ｼｰﾄ!$A$3:$AA$34,14))","v":""},null,null,null,null,null,null,null,"",{"$f":"IF(D22=\"\",\"\",VLOOKUP(C22,女子ﾃﾞｰﾀ貼付ｼｰﾄ!$A$3:$AA$202,23))","v":""}]
[16,null,null,{"$f":"IF($C23=\"\",\"\",VLOOKUP($C23,女子ﾃﾞｰﾀ貼付ｼｰﾄ!$A$3:$AA$34,2))","v":""},{"$f":"IF($C23=\"\",\"\",VLOOKUP($C23,女子ﾃﾞｰﾀ貼付ｼｰﾄ!$A$3:$AA$34,3))","v":""},{"$f":"IF($C23=\"\",\"\",VLOOKUP($C23,女子ﾃﾞｰﾀ貼付ｼｰﾄ!$A$3:$AA$34,4))","v":""},"女",{"$f":"IF($C23=\"\",\"\",RIGHT(VLOOKUP($C23,女子ﾃﾞｰﾀ貼付ｼｰﾄ!$A$3:$AA$34,26),1))","v":""},{"$f":"IF($C23=\"\",\"\",TEXT(VLOOKUP($C23,女子ﾃﾞｰﾀ貼付ｼｰﾄ!$A$3:$AA$34,23),\"yyyy\"))","v":""},{"$f":"IF($C23=\"\",\"\",VLOOKUP($C23,女子ﾃﾞｰﾀ貼付ｼｰﾄ!$A$3:$AA$34,21))","v":""},{"$f":"IF($C23=\"\",\"\",VLOOKUP($C23,女子ﾃﾞｰﾀ貼付ｼｰﾄ!$A$3:$AA$34,17))","v":""},{"$f":"IF($C23=\"\",\"\",VLOOKUP($C23,女子ﾃﾞｰﾀ貼付ｼｰﾄ!$A$3:$AA$34,14))","v":""},null,null,null,null,null,null,null,"",{"$f":"IF(D23=\"\",\"\",VLOOKUP(C23,女子ﾃﾞｰﾀ貼付ｼｰﾄ!$A$3:$AA$202,23))","v":""}]
[17,null,null,{"$f":"IF($C24=\"\",\"\",VLOOKUP($C24,女子ﾃﾞｰﾀ貼付ｼｰﾄ!$A$3:$AA$34,2))","v":""},{"$f":"IF($C24=\"\",\"\",VLOOKUP($C24,女子ﾃﾞｰﾀ貼付ｼｰﾄ!$A$3:$AA$34,3))","v":""},{"$f":"IF($C24=\"\",\"\",VLOOKUP($C24,女子ﾃﾞｰﾀ貼付ｼｰﾄ!$A$3:$AA$34,4))","v":""},"女",{"$f":"IF($C24=\"\",\"\",RIGHT(VLOOKUP($C24,女子ﾃﾞｰﾀ貼付ｼｰﾄ!$A$3:$AA$34,26),1))","v":""},{"$f":"IF($C24=\"\",\"\",TEXT(VLOOKUP($C24,女子ﾃﾞｰﾀ貼付ｼｰﾄ!$A$3:$AA$34,23),\"yyyy\"))","v":""},{"$f":"IF($C24=\"\",\"\",VLOOKUP($C24,女子ﾃﾞｰﾀ貼付ｼｰﾄ!$A$3:$AA$34,21))","v":""},{"$f":"IF($C24=\"\",\"\",VLOOKUP($C24,女子ﾃﾞｰﾀ貼付ｼｰﾄ!$A$3:$AA$34,17))","v":""},{"$f":"IF($C24=\"\",\"\",VLOOKUP($C24,女子ﾃﾞｰﾀ貼付ｼｰﾄ!$A$3:$AA$34,14))","v":""},null,null,null,null,null,null,null,"",{"$f":"IF(D24=\"\",\"\",VLOOKUP(C24,女子ﾃﾞｰﾀ貼付ｼｰﾄ!$A$3:$AA$202,23))","v":""}]
[18,null,null,{"$f":"IF($C25=\"\",\"\",VLOOKUP($C25,女子ﾃﾞｰﾀ貼付ｼｰﾄ!$A$3:$AA$34,2))","v":""},{"$f":"IF($C25=\"\",\"\",VLOOKUP($C25,女子ﾃﾞｰﾀ貼付ｼｰﾄ!$A$3:$AA$34,3))","v":""},{"$f":"IF($C25=\"\",\"\",VLOOKUP($C25,女子ﾃﾞｰﾀ貼付ｼｰﾄ!$A$3:$AA$34,4))","v":""},"女",{"$f":"IF($C25=\"\",\"\",RIGHT(VLOOKUP($C25,女子ﾃﾞｰﾀ貼付ｼｰﾄ!$A$3:$AA$34,26),1))","v":""},{"$f":"IF($C25=\"\",\"\",TEXT(VLOOKUP($C25,女子ﾃﾞｰﾀ貼付ｼｰﾄ!$A$3:$AA$34,23),\"yyyy\"))","v":""},{"$f":"IF($C25=\"\",\"\",VLOOKUP($C25,女子ﾃﾞｰﾀ貼付ｼｰﾄ!$A$3:$AA$34,21))","v":""},{"$f":"IF($C25=\"\",\"\",VLOOKUP($C25,女子ﾃﾞｰﾀ貼付ｼｰﾄ!$A$3:$AA$34,17))","v":""},{"$f":"IF($C25=\"\",\"\",VLOOKUP($C25,女子ﾃﾞｰﾀ貼付ｼｰﾄ!$A$3:$AA$34,14))","v":""},null,null,null,null,null,null,null,"",{"$f":"IF(D25=\"\",\"\",VLOOKUP(C25,女子ﾃﾞｰﾀ貼付ｼｰﾄ!$A$3:$AA$202,23))","v":""}]
[19,null,null,{"$f":"IF($C26=\"\",\"\",VLOOKUP($C26,女子ﾃﾞｰﾀ貼付ｼｰﾄ!$A$3:$AA$34,2))","v":""},{"$f":"IF($C26=\"\",\"\",VLOOKUP($C26,女子ﾃﾞｰﾀ貼付ｼｰﾄ!$A$3:$AA$34,3))","v":""},{"$f":"IF($C26=\"\",\"\",VLOOKUP($C26,女子ﾃﾞｰﾀ貼付ｼｰﾄ!$A$3:$AA$34,4))","v":""},"女",{"$f":"IF($C26=\"\",\"\",RIGHT(VLOOKUP($C26,女子ﾃﾞｰﾀ貼付ｼｰﾄ!$A$3:$AA$34,26),1))","v":""},{"$f":"IF($C26=\"\",\"\",TEXT(VLOOKUP($C26,女子ﾃﾞｰﾀ貼付ｼｰﾄ!$A$3:$AA$34,23),\"yyyy\"))","v":""},{"$f":"IF($C26=\"\",\"\",VLOOKUP($C26,女子ﾃﾞｰﾀ貼付ｼｰﾄ!$A$3:$AA$34,21))","v":""},{"$f":"IF($C26=\"\",\"\",VLOOKUP($C26,女子ﾃﾞｰﾀ貼付ｼｰﾄ!$A$3:$AA$34,17))","v":""},{"$f":"IF($C26=\"\",\"\",VLOOKUP($C26,女子ﾃﾞｰﾀ貼付ｼｰﾄ!$A$3:$AA$34,14))","v":""},null,null,null,null,null,null,null,"",{"$f":"IF(D26=\"\",\"\",VLOOKUP(C26,女子ﾃﾞｰﾀ貼付ｼｰﾄ!$A$3:$AA$202,23))","v":""}]
[20,null,null,{"$f":"IF($C27=\"\",\"\",VLOOKUP($C27,女子ﾃﾞｰﾀ貼付ｼｰﾄ!$A$3:$AA$34,2))","v":""},{"$f":"IF($C27=\"\",\"\",VLOOKUP($C27,女子ﾃﾞｰﾀ貼付ｼｰﾄ!$A$3:$AA$34,3))","v":""},{"$f":"IF($C27=\"\",\"\",VLOOKUP($C27,女子ﾃﾞｰﾀ貼付ｼｰﾄ!$A$3:$AA$34,4))","v":""},"女",{"$f":"IF($C27=\"\",\"\",RIGHT(VLOOKUP($C27,女子ﾃﾞｰﾀ貼付ｼｰﾄ!$A$3:$AA$34,26),1))","v":""},{"$f":"IF($C27=\"\",\"\",TEXT(VLOOKUP($C27,女子ﾃﾞｰﾀ貼付ｼｰﾄ!$A$3:$AA$34,23),\"yyyy\"))","v":""},{"$f":"IF($C27=\"\",\"\",VLOOKUP($C27,女子ﾃﾞｰﾀ貼付ｼｰﾄ!$A$3:$AA$34,21))","v":""},{"$f":"IF($C27=\"\",\"\",VLOOKUP($C27,女子ﾃﾞｰﾀ貼付ｼｰﾄ!$A$3:$AA$34,17))","v":""},{"$f":"IF($C27=\"\",\"\",VLOOKUP($C27,女子ﾃﾞｰﾀ貼付ｼｰﾄ!$A$3:$AA$34,14))","v":""},null,null,null,null,null,null,null,"",{"$f":"IF(D27=\"\",\"\",VLOOKUP(C27,女子ﾃﾞｰﾀ貼付ｼｰﾄ!$A$3:$AA$202,23))","v":""}]
[21,null,null,{"$f":"IF($C28=\"\",\"\",VLOOKUP($C28,女子ﾃﾞｰﾀ貼付ｼｰﾄ!$A$3:$AA$34,2))","v":""},{"$f":"IF($C28=\"\",\"\",VLOOKUP($C28,女子ﾃﾞｰﾀ貼付ｼｰﾄ!$A$3:$AA$34,3))","v":""},{"$f":"IF($C28=\"\",\"\",VLOOKUP($C28,女子ﾃﾞｰﾀ貼付ｼｰﾄ!$A$3:$AA$34,4))","v":""},"女",{"$f":"IF($C28=\"\",\"\",RIGHT(VLOOKUP($C28,女子ﾃﾞｰﾀ貼付ｼｰﾄ!$A$3:$AA$34,26),1))","v":""},{"$f":"IF($C28=\"\",\"\",TEXT(VLOOKUP($C28,女子ﾃﾞｰﾀ貼付ｼｰﾄ!$A$3:$AA$34,23),\"yyyy\"))","v":""},{"$f":"IF($C28=\"\",\"\",VLOOKUP($C28,女子ﾃﾞｰﾀ貼付ｼｰﾄ!$A$3:$AA$34,21))","v":""},{"$f":"IF($C28=\"\",\"\",VLOOKUP($C28,女子ﾃﾞｰﾀ貼付ｼｰﾄ!$A$3:$AA$34,17))","v":""},{"$f":"IF($C28=\"\",\"\",VLOOKUP($C28,女子ﾃﾞｰﾀ貼付ｼｰﾄ!$A$3:$AA$34,14))","v":""},null,null,null,null,null,null,null,"",{"$f":"IF(D28=\"\",\"\",VLOOKUP(C28,女子ﾃﾞｰﾀ貼付ｼｰﾄ!$A$3:$AA$202,23))","v":""}]
[22,null,null,{"$f":"IF($C29=\"\",\"\",VLOOKUP($C29,女子ﾃﾞｰﾀ貼付ｼｰﾄ!$A$3:$AA$34,2))","v":""},{"$f":"IF($C29=\"\",\"\",VLOOKUP($C29,女子ﾃﾞｰﾀ貼付ｼｰﾄ!$A$3:$AA$34,3))","v":""},{"$f":"IF($C29=\"\",\"\",VLOOKUP($C29,女子ﾃﾞｰﾀ貼付ｼｰﾄ!$A$3:$AA$34,4))","v":""},"女",{"$f":"IF($C29=\"\",\"\",RIGHT(VLOOKUP($C29,女子ﾃﾞｰﾀ貼付ｼｰﾄ!$A$3:$AA$34,26),1))","v":""},{"$f":"IF($C29=\"\",\"\",TEXT(VLOOKUP($C29,女子ﾃﾞｰﾀ貼付ｼｰﾄ!$A$3:$AA$34,23),\"yyyy\"))","v":""},{"$f":"IF($C29=\"\",\"\",VLOOKUP($C29,女子ﾃﾞｰﾀ貼付ｼｰﾄ!$A$3:$AA$34,21))","v":""},{"$f":"IF($C29=\"\",\"\",VLOOKUP($C29,女子ﾃﾞｰﾀ貼付ｼｰﾄ!$A$3:$AA$34,17))","v":""},{"$f":"IF($C29=\"\",\"\",VLOOKUP($C29,女子ﾃﾞｰﾀ貼付ｼｰﾄ!$A$3:$AA$34,14))","v":""},null,null,null,null,null,null,null,"",{"$f":"IF(D29=\"\",\"\",VLOOKUP(C29,女子ﾃﾞｰﾀ貼付ｼｰﾄ!$A$3:$AA$202,23))","v":""}]
[23,null,null,{"$f":"IF($C30=\"\",\"\",VLOOKUP($C30,女子ﾃﾞｰﾀ貼付ｼｰﾄ!$A$3:$AA$34,2))","v":""},{"$f":"IF($C30=\"\",\"\",VLOOKUP($C30,女子ﾃﾞｰﾀ貼付ｼｰﾄ!$A$3:$AA$34,3))","v":""},{"$f":"IF($C30=\"\",\"\",VLOOKUP($C30,女子ﾃﾞｰﾀ貼付ｼｰﾄ!$A$3:$AA$34,4))","v":""},"女",{"$f":"IF($C30=\"\",\"\",RIGHT(VLOOKUP($C30,女子ﾃﾞｰﾀ貼付ｼｰﾄ!$A$3:$AA$34,26),1))","v":""},{"$f":"IF($C30=\"\",\"\",TEXT(VLOOKUP($C30,女子ﾃﾞｰﾀ貼付ｼｰﾄ!$A$3:$AA$34,23),\"yyyy\"))","v":""},{"$f":"IF($C30=\"\",\"\",VLOOKUP($C30,女子ﾃﾞｰﾀ貼付ｼｰﾄ!$A$3:$AA$34,21))","v":""},{"$f":"IF($C30=\"\",\"\",VLOOKUP($C30,女子ﾃﾞｰﾀ貼付ｼｰﾄ!$A$3:$AA$34,17))","v":""},{"$f":"IF($C30=\"\",\"\",VLOOKUP($C30,女子ﾃﾞｰﾀ貼付ｼｰﾄ!$A$3:$AA$34,14))","v":""},null,null,null,null,null,null,null,"",{"$f":"IF(D30=\"\",\"\",VLOOKUP(C30,女子ﾃﾞｰﾀ貼付ｼｰﾄ!$A$3:$AA$202,23))","v":""}]
[24,null,null,{"$f":"IF($C31=\"\",\"\",VLOOKUP($C31,女子ﾃﾞｰﾀ貼付ｼｰﾄ!$A$3:$AA$34,2))","v":""},{"$f":"IF($C31=\"\",\"\",VLOOKUP($C31,女子ﾃﾞｰﾀ貼付ｼｰﾄ!$A$3:$AA$34,3))","v":""},{"$f":"IF($C31=\"\",\"\",VLOOKUP($C31,女子ﾃﾞｰﾀ貼付ｼｰﾄ!$A$3:$AA$34,4))","v":""},"女",{"$f":"IF($C31=\"\",\"\",RIGHT(VLOOKUP($C31,女子ﾃﾞｰﾀ貼付ｼｰﾄ!$A$3:$AA$34,26),1))","v":""},{"$f":"IF($C31=\"\",\"\",TEXT(VLOOKUP($C31,女子ﾃﾞｰﾀ貼付ｼｰﾄ!$A$3:$AA$34,23),\"yyyy\"))","v":""},{"$f":"IF($C31=\"\",\"\",VLOOKUP($C31,女子ﾃﾞｰﾀ貼付ｼｰﾄ!$A$3:$AA$34,21))","v":""},{"$f":"IF($C31=\"\",\"\",VLOOKUP($C31,女子ﾃﾞｰﾀ貼付ｼｰﾄ!$A$3:$AA$34,17))","v":""},{"$f":"IF($C31=\"\",\"\",VLOOKUP($C31,女子ﾃﾞｰﾀ貼付ｼｰﾄ!$A$3:$AA$34,14))","v":""},null,null,null,null,null,null,null,"",{"$f":"IF(D31=\"\",\"\",VLOOKUP(C31,女子ﾃﾞｰﾀ貼付ｼｰﾄ!$A$3:$AA$202,23))","v":""}]
[25,null,null,{"$f":"IF($C32=\"\",\"\",VLOOKUP($C32,女子ﾃﾞｰﾀ貼付ｼｰﾄ!$A$3:$AA$34,2))","v":""},{"$f":"IF($C32=\"\",\"\",VLOOKUP($C32,女子ﾃﾞｰﾀ貼付ｼｰﾄ!$A$3:$AA$34,3))","v":""},{"$f":"IF($C32=\"\",\"\",VLOOKUP($C32,女子ﾃﾞｰﾀ貼付ｼｰﾄ!$A$3:$AA$34,4))","v":""},"女",{"$f":"IF($C32=\"\",\"\",RIGHT(VLOOKUP($C32,女子ﾃﾞｰﾀ貼付ｼｰﾄ!$A$3:$AA$34,26),1))","v":""},{"$f":"IF($C32=\"\",\"\",TEXT(VLOOKUP($C32,女子ﾃﾞｰﾀ貼付ｼｰﾄ!$A$3:$AA$34,23),\"yyyy\"))","v":""},{"$f":"IF($C32=\"\",\"\",VLOOKUP($C32,女子ﾃﾞｰﾀ貼付ｼｰﾄ!$A$3:$AA$34,21))","v":""},{"$f":"IF($C32=\"\",\"\",VLOOKUP($C32,女子ﾃﾞｰﾀ貼付ｼｰﾄ!$A$3:$AA$34,17))","v":""},{"$f":"IF($C32=\"\",\"\",VLOOKUP($C32,女子ﾃﾞｰﾀ貼付ｼｰﾄ!$A$3:$AA$34,14))","v":""},null,null,null,null,null,null,null,"",{"$f":"IF(D32=\"\",\"\",VLOOKUP(C32,女子ﾃﾞｰﾀ貼付ｼｰﾄ!$A$3:$AA$202,23))","v":""}]
[26,null,null,{"$f":"IF($C33=\"\",\"\",VLOOKUP($C33,女子ﾃﾞｰﾀ貼付ｼｰﾄ!$A$3:$AA$34,2))","v":""},{"$f":"IF($C33=\"\",\"\",VLOOKUP($C33,女子ﾃﾞｰﾀ貼付ｼｰﾄ!$A$3:$AA$34,3))","v":""},{"$f":"IF($C33=\"\",\"\",VLOOKUP($C33,女子ﾃﾞｰﾀ貼付ｼｰﾄ!$A$3:$AA$34,4))","v":""},"女",{"$f":"IF($C33=\"\",\"\",RIGHT(VLOOKUP($C33,女子ﾃﾞｰﾀ貼付ｼｰﾄ!$A$3:$AA$34,26),1))","v":""},{"$f":"IF($C33=\"\",\"\",TEXT(VLOOKUP($C33,女子ﾃﾞｰﾀ貼付ｼｰﾄ!$A$3:$AA$34,23),\"yyyy\"))","v":""},{"$f":"IF($C33=\"\",\"\",VLOOKUP($C33,女子ﾃﾞｰﾀ貼付ｼｰﾄ!$A$3:$AA$34,21))","v":""},{"$f":"IF($C33=\"\",\"\",VLOOKUP($C33,女子ﾃﾞｰﾀ貼付ｼｰﾄ!$A$3:$AA$34,17))","v":""},{"$f":"IF($C33=\"\",\"\",VLOOKUP($C33,女子ﾃﾞｰﾀ貼付ｼｰﾄ!$A$3:$AA$34,14))","v":""},null,null,null,null,null,null,null,"",{"$f":"IF(D33=\"\",\"\",VLOOKUP(C33,女子ﾃﾞｰﾀ貼付ｼｰﾄ!$A$3:$AA$202,23))","v":""}]
[27,null,null,{"$f":"IF($C34=\"\",\"\",VLOOKUP($C34,女子ﾃﾞｰﾀ貼付ｼｰﾄ!$A$3:$AA$34,2))","v":""},{"$f":"IF($C34=\"\",\"\",VLOOKUP($C34,女子ﾃﾞｰﾀ貼付ｼｰﾄ!$A$3:$AA$34,3))","v":""},{"$f":"IF($C34=\"\",\"\",VLOOKUP($C34,女子ﾃﾞｰﾀ貼付ｼｰﾄ!$A$3:$AA$34,4))","v":""},"女",{"$f":"IF($C34=\"\",\"\",RIGHT(VLOOKUP($C34,女子ﾃﾞｰﾀ貼付ｼｰﾄ!$A$3:$AA$34,26),1))","v":""},{"$f":"IF($C34=\"\",\"\",TEXT(VLOOKUP($C34,女子ﾃﾞｰﾀ貼付ｼｰﾄ!$A$3:$AA$34,23),\"yyyy\"))","v":""},{"$f":"IF($C34=\"\",\"\",VLOOKUP($C34,女子ﾃﾞｰﾀ貼付ｼｰﾄ!$A$3:$AA$34,21))","v":""},{"$f":"IF($C34=\"\",\"\",VLOOKUP($C34,女子ﾃﾞｰﾀ貼付ｼｰﾄ!$A$3:$AA$34,17))","v":""},{"$f":"IF($C34=\"\",\"\",VLOOKUP($C34,女子ﾃﾞｰﾀ貼付ｼｰﾄ!$A$3:$AA$34,14))","v":""},null,null,null,null,null,null,null,"",{"$f":"IF(D34=\"\",\"\",VLOOKUP(C34,女子ﾃﾞｰﾀ貼付ｼｰﾄ!$A$3:$AA$202,23))","v":""}]
[28,null,null,{"$f":"IF($C35=\"\",\"\",VLOOKUP($C35,女子ﾃﾞｰﾀ貼付ｼｰﾄ!$A$3:$AA$34,2))","v":""},{"$f":"IF($C35=\"\",\"\",VLOOKUP($C35,女子ﾃﾞｰﾀ貼付ｼｰﾄ!$A$3:$AA$34,3))","v":""},{"$f":"IF($C35=\"\",\"\",VLOOKUP($C35,女子ﾃﾞｰﾀ貼付ｼｰﾄ!$A$3:$AA$34,4))","v":""},"女",{"$f":"IF($C35=\"\",\"\",RIGHT(VLOOKUP($C35,女子ﾃﾞｰﾀ貼付ｼｰﾄ!$A$3:$AA$34,26),1))","v":""},{"$f":"IF($C35=\"\",\"\",TEXT(VLOOKUP($C35,女子ﾃﾞｰﾀ貼付ｼｰﾄ!$A$3:$AA$34,23),\"yyyy\"))","v":""},{"$f":"IF($C35=\"\",\"\",VLOOKUP($C35,女子ﾃﾞｰﾀ貼付ｼｰﾄ!$A$3:$AA$34,21))","v":""},{"$f":"IF($C35=\"\",\"\",VLOOKUP($C35,女子ﾃﾞｰﾀ貼付ｼｰﾄ!$A$3:$AA$34,17))","v":""},{"$f":"IF($C35=\"\",\"\",VLOOKUP($C35,女子ﾃﾞｰﾀ貼付ｼｰﾄ!$A$3:$AA$34,14))","v":""},null,null,null,null,null,null,null,"",{"$f":"IF(D35=\"\",\"\",VLOOKUP(C35,女子ﾃﾞｰﾀ貼付ｼｰﾄ!$A$3:$AA$202,23))","v":""}]
[29,null,null,{"$f":"IF($C36=\"\",\"\",VLOOKUP($C36,女子ﾃﾞｰﾀ貼付ｼｰﾄ!$A$3:$AA$34,2))","v":""},{"$f":"IF($C36=\"\",\"\",VLOOKUP($C36,女子ﾃﾞｰﾀ貼付ｼｰﾄ!$A$3:$AA$34,3))","v":""},{"$f":"IF($C36=\"\",\"\",VLOOKUP($C36,女子ﾃﾞｰﾀ貼付ｼｰﾄ!$A$3:$AA$34,4))","v":""},"女",{"$f":"IF($C36=\"\",\"\",RIGHT(VLOOKUP($C36,女子ﾃﾞｰﾀ貼付ｼｰﾄ!$A$3:$AA$34,26),1))","v":""},{"$f":"IF($C36=\"\",\"\",TEXT(VLOOKUP($C36,女子ﾃﾞｰﾀ貼付ｼｰﾄ!$A$3:$AA$34,23),\"yyyy\"))","v":""},{"$f":"IF($C36=\"\",\"\",VLOOKUP($C36,女子ﾃﾞｰﾀ貼付ｼｰﾄ!$A$3:$AA$34,21))","v":""},{"$f":"IF($C36=\"\",\"\",VLOOKUP($C36,女子ﾃﾞｰﾀ貼付ｼｰﾄ!$A$3:$AA$34,17))","v":""},{"$f":"IF($C36=\"\",\"\",VLOOKUP($C36,女子ﾃﾞｰﾀ貼付ｼｰﾄ!$A$3:$AA$34,14))","v":""},null,null,null,null,null,null,null,"",{"$f":"IF(D36=\"\",\"\",VLOOKUP(C36,女子ﾃﾞｰﾀ貼付ｼｰﾄ!$A$3:$AA$202,23))","v":""}]
[30,null,null,{"$f":"IF($C37=\"\",\"\",VLOOKUP($C37,女子ﾃﾞｰﾀ貼付ｼｰﾄ!$A$3:$AA$34,2))","v":""},{"$f":"IF($C37=\"\",\"\",VLOOKUP($C37,女子ﾃﾞｰﾀ貼付ｼｰﾄ!$A$3:$AA$34,3))","v":""},{"$f":"IF($C37=\"\",\"\",VLOOKUP($C37,女子ﾃﾞｰﾀ貼付ｼｰﾄ!$A$3:$AA$34,4))","v":""},"女",{"$f":"IF($C37=\"\",\"\",RIGHT(VLOOKUP($C37,女子ﾃﾞｰﾀ貼付ｼｰﾄ!$A$3:$AA$34,26),1))","v":""},{"$f":"IF($C37=\"\",\"\",TEXT(VLOOKUP($C37,女子ﾃﾞｰﾀ貼付ｼｰﾄ!$A$3:$AA$34,23),\"yyyy\"))","v":""},{"$f":"IF($C37=\"\",\"\",VLOOKUP($C37,女子ﾃﾞｰﾀ貼付ｼｰﾄ!$A$3:$AA$34,21))","v":""},{"$f":"IF($C37=\"\",\"\",VLOOKUP($C37,女子ﾃﾞｰﾀ貼付ｼｰﾄ!$A$3:$AA$34,17))","v":""},{"$f":"IF($C37=\"\",\"\",VLOOKUP($C37,女子ﾃﾞｰﾀ貼付ｼｰﾄ!$A$3:$AA$34,14))","v":""},null,null,null,null,null,null,null,"",{"$f":"IF(D37=\"\",\"\",VLOOKUP(C37,女子ﾃﾞｰﾀ貼付ｼｰﾄ!$A$3:$AA$202,23))","v":""}]
[31,null,null,{"$f":"IF($C38=\"\",\"\",VLOOKUP($C38,女子ﾃﾞｰﾀ貼付ｼｰﾄ!$A$3:$AA$34,2))","v":""},{"$f":"IF($C38=\"\",\"\",VLOOKUP($C38,女子ﾃﾞｰﾀ貼付ｼｰﾄ!$A$3:$AA$34,3))","v":""},{"$f":"IF($C38=\"\",\"\",VLOOKUP($C38,女子ﾃﾞｰﾀ貼付ｼｰﾄ!$A$3:$AA$34,4))","v":""},"女",{"$f":"IF($C38=\"\",\"\",RIGHT(VLOOKUP($C38,女子ﾃﾞｰﾀ貼付ｼｰﾄ!$A$3:$AA$34,26),1))","v":""},{"$f":"IF($C38=\"\",\"\",TEXT(VLOOKUP($C38,女子ﾃﾞｰﾀ貼付ｼｰﾄ!$A$3:$AA$34,23),\"yyyy\"))","v":""},{"$f":"IF($C38=\"\",\"\",VLOOKUP($C38,女子ﾃﾞｰﾀ貼付ｼｰﾄ!$A$3:$AA$34,21))","v":""},{"$f":"IF($C38=\"\",\"\",VLOOKUP($C38,女子ﾃﾞｰﾀ貼付ｼｰﾄ!$A$3:$AA$34,17))","v":""},{"$f":"IF($C38=\"\",\"\",VLOOKUP($C38,女子ﾃﾞｰﾀ貼付ｼｰﾄ!$A$3:$AA$34,14))","v":""},null,null,null,null,null,null,null,"",{"$f":"IF(D38=\"\",\"\",VLOOKUP(C38,女子ﾃﾞｰﾀ貼付ｼｰﾄ!$A$3:$AA$202,23))","v":""}]
[32,null,null,{"$f":"IF($C39=\"\",\"\",VLOOKUP($C39,女子ﾃﾞｰﾀ貼付ｼｰﾄ!$A$3:$AA$34,2))","v":""},{"$f":"IF($C39=\"\",\"\",VLOOKUP($C39,女子ﾃﾞｰﾀ貼付ｼｰﾄ!$A$3:$AA$34,3))","v":""},{"$f":"IF($C39=\"\",\"\",VLOOKUP($C39,女子ﾃﾞｰﾀ貼付ｼｰﾄ!$A$3:$AA$34,4))","v":""},"女",{"$f":"IF($C39=\"\",\"\",RIGHT(VLOOKUP($C39,女子ﾃﾞｰﾀ貼付ｼｰﾄ!$A$3:$AA$34,26),1))","v":""},{"$f":"IF($C39=\"\",\"\",TEXT(VLOOKUP($C39,女子ﾃﾞｰﾀ貼付ｼｰﾄ!$A$3:$AA$34,23),\"yyyy\"))","v":""},{"$f":"IF($C39=\"\",\"\",VLOOKUP($C39,女子ﾃﾞｰﾀ貼付ｼｰﾄ!$A$3:$AA$34,21))","v":""},{"$f":"IF($C39=\"\",\"\",VLOOKUP($C39,女子ﾃﾞｰﾀ貼付ｼｰﾄ!$A$3:$AA$34,17))","v":""},{"$f":"IF($C39=\"\",\"\",VLOOKUP($C39,女子ﾃﾞｰﾀ貼付ｼｰﾄ!$A$3:$AA$34,14))","v":""},null,null,null,null,null,null,null,"",{"$f":"IF(D39=\"\",\"\",VLOOKUP(C39,女子ﾃﾞｰﾀ貼付ｼｰﾄ!$A$3:$AA$202,23))","v":""}]
[33,null,null,{"$f":"IF($C40=\"\",\"\",VLOOKUP($C40,女子ﾃﾞｰﾀ貼付ｼｰﾄ!$A$3:$AA$34,2))","v":""},{"$f":"IF($C40=\"\",\"\",VLOOKUP($C40,女子ﾃﾞｰﾀ貼付ｼｰﾄ!$A$3:$AA$34,3))","v":""},{"$f":"IF($C40=\"\",\"\",VLOOKUP($C40,女子ﾃﾞｰﾀ貼付ｼｰﾄ!$A$3:$AA$34,4))","v":""},"女",{"$f":"IF($C40=\"\",\"\",RIGHT(VLOOKUP($C40,女子ﾃﾞｰﾀ貼付ｼｰﾄ!$A$3:$AA$34,26),1))","v":""},{"$f":"IF($C40=\"\",\"\",TEXT(VLOOKUP($C40,女子ﾃﾞｰﾀ貼付ｼｰﾄ!$A$3:$AA$34,23),\"yyyy\"))","v":""},{"$f":"IF($C40=\"\",\"\",VLOOKUP($C40,女子ﾃﾞｰﾀ貼付ｼｰﾄ!$A$3:$AA$34,21))","v":""},{"$f":"IF($C40=\"\",\"\",VLOOKUP($C40,女子ﾃﾞｰﾀ貼付ｼｰﾄ!$A$3:$AA$34,17))","v":""},{"$f":"IF($C40=\"\",\"\",VLOOKUP($C40,女子ﾃﾞｰﾀ貼付ｼｰﾄ!$A$3:$AA$34,14))","v":""},null,null,null,null,null,null,null,"",{"$f":"IF(D40=\"\",\"\",VLOOKUP(C40,女子ﾃﾞｰﾀ貼付ｼｰﾄ!$A$3:$AA$202,23))","v":""}]
[34,null,null,{"$f":"IF($C41=\"\",\"\",VLOOKUP($C41,女子ﾃﾞｰﾀ貼付ｼｰﾄ!$A$3:$AA$34,2))","v":""},{"$f":"IF($C41=\"\",\"\",VLOOKUP($C41,女子ﾃﾞｰﾀ貼付ｼｰﾄ!$A$3:$AA$34,3))","v":""},{"$f":"IF($C41=\"\",\"\",VLOOKUP($C41,女子ﾃﾞｰﾀ貼付ｼｰﾄ!$A$3:$AA$34,4))","v":""},"女",{"$f":"IF($C41=\"\",\"\",RIGHT(VLOOKUP($C41,女子ﾃﾞｰﾀ貼付ｼｰﾄ!$A$3:$AA$34,26),1))","v":""},{"$f":"IF($C41=\"\",\"\",TEXT(VLOOKUP($C41,女子ﾃﾞｰﾀ貼付ｼｰﾄ!$A$3:$AA$34,23),\"yyyy\"))","v":""},{"$f":"IF($C41=\"\",\"\",VLOOKUP($C41,女子ﾃﾞｰﾀ貼付ｼｰﾄ!$A$3:$AA$34,21))","v":""},{"$f":"IF($C41=\"\",\"\",VLOOKUP($C41,女子ﾃﾞｰﾀ貼付ｼｰﾄ!$A$3:$AA$34,17))","v":""},{"$f":"IF($C41=\"\",\"\",VLOOKUP($C41,女子ﾃﾞｰﾀ貼付ｼｰﾄ!$A$3:$AA$34,14))","v":""},null,null,null,null,null,null,null,"",{"$f":"IF(D41=\"\",\"\",VLOOKUP(C41,女子ﾃﾞｰﾀ貼付ｼｰﾄ!$A$3:$AA$202,23))","v":""}]
[35,null,null,{"$f":"IF($C42=\"\",\"\",VLOOKUP($C42,女子ﾃﾞｰﾀ貼付ｼｰﾄ!$A$3:$AA$34,2))","v":""},{"$f":"IF($C42=\"\",\"\",VLOOKUP($C42,女子ﾃﾞｰﾀ貼付ｼｰﾄ!$A$3:$AA$34,3))","v":""},{"$f":"IF($C42=\"\",\"\",VLOOKUP($C42,女子ﾃﾞｰﾀ貼付ｼｰﾄ!$A$3:$AA$34,4))","v":""},"女",{"$f":"IF($C42=\"\",\"\",RIGHT(VLOOKUP($C42,女子ﾃﾞｰﾀ貼付ｼｰﾄ!$A$3:$AA$34,26),1))","v":""},{"$f":"IF($C42=\"\",\"\",TEXT(VLOOKUP($C42,女子ﾃﾞｰﾀ貼付ｼｰﾄ!$A$3:$AA$34,23),\"yyyy\"))","v":""},{"$f":"IF($C42=\"\",\"\",VLOOKUP($C42,女子ﾃﾞｰﾀ貼付ｼｰﾄ!$A$3:$AA$34,21))","v":""},{"$f":"IF($C42=\"\",\"\",VLOOKUP($C42,女子ﾃﾞｰﾀ貼付ｼｰﾄ!$A$3:$AA$34,17))","v":""},{"$f":"IF($C42=\"\",\"\",VLOOKUP($C42,女子ﾃﾞｰﾀ貼付ｼｰﾄ!$A$3:$AA$34,14))","v":""},null,null,null,null,null,null,null,"",{"$f":"IF(D42=\"\",\"\",VLOOKUP(C42,女子ﾃﾞｰﾀ貼付ｼｰﾄ!$A$3:$AA$202,23))","v":""}]
[36,null,null,{"$f":"IF($C43=\"\",\"\",VLOOKUP($C43,女子ﾃﾞｰﾀ貼付ｼｰﾄ!$A$3:$AA$34,2))","v":""},{"$f":"IF($C43=\"\",\"\",VLOOKUP($C43,女子ﾃﾞｰﾀ貼付ｼｰﾄ!$A$3:$AA$34,3))","v":""},{"$f":"IF($C43=\"\",\"\",VLOOKUP($C43,女子ﾃﾞｰﾀ貼付ｼｰﾄ!$A$3:$AA$34,4))","v":""},"女",{"$f":"IF($C43=\"\",\"\",RIGHT(VLOOKUP($C43,女子ﾃﾞｰﾀ貼付ｼｰﾄ!$A$3:$AA$34,26),1))","v":""},{"$f":"IF($C43=\"\",\"\",TEXT(VLOOKUP($C43,女子ﾃﾞｰﾀ貼付ｼｰﾄ!$A$3:$AA$34,23),\"yyyy\"))","v":""},{"$f":"IF($C43=\"\",\"\",VLOOKUP($C43,女子ﾃﾞｰﾀ貼付ｼｰﾄ!$A$3:$AA$34,21))","v":""},{"$f":"IF($C43=\"\",\"\",VLOOKUP($C43,女子ﾃﾞｰﾀ貼付ｼｰﾄ!$A$3:$AA$34,17))","v":""},{"$f":"IF($C43=\"\",\"\",VLOOKUP($C43,女子ﾃﾞｰﾀ貼付ｼｰﾄ!$A$3:$AA$34,14))","v":""},null,null,null,null,null,null,null,"",{"$f":"IF(D43=\"\",\"\",VLOOKUP(C43,女子ﾃﾞｰﾀ貼付ｼｰﾄ!$A$3:$AA$202,23))","v":""}]
[37,null,null,{"$f":"IF($C44=\"\",\"\",VLOOKUP($C44,女子ﾃﾞｰﾀ貼付ｼｰﾄ!$A$3:$AA$34,2))","v":""},{"$f":"IF($C44=\"\",\"\",VLOOKUP($C44,女子ﾃﾞｰﾀ貼付ｼｰﾄ!$A$3:$AA$34,3))","v":""},{"$f":"IF($C44=\"\",\"\",VLOOKUP($C44,女子ﾃﾞｰﾀ貼付ｼｰﾄ!$A$3:$AA$34,4))","v":""},"女",{"$f":"IF($C44=\"\",\"\",RIGHT(VLOOKUP($C44,女子ﾃﾞｰﾀ貼付ｼｰﾄ!$A$3:$AA$34,26),1))","v":""},{"$f":"IF($C44=\"\",\"\",TEXT(VLOOKUP($C44,女子ﾃﾞｰﾀ貼付ｼｰﾄ!$A$3:$AA$34,23),\"yyyy\"))","v":""},{"$f":"IF($C44=\"\",\"\",VLOOKUP($C44,女子ﾃﾞｰﾀ貼付ｼｰﾄ!$A$3:$AA$34,21))","v":""},{"$f":"IF($C44=\"\",\"\",VLOOKUP($C44,女子ﾃﾞｰﾀ貼付ｼｰﾄ!$A$3:$AA$34,17))","v":""},{"$f":"IF($C44=\"\",\"\",VLOOKUP($C44,女子ﾃﾞｰﾀ貼付ｼｰﾄ!$A$3:$AA$34,14))","v":""},null,null,null,null,null,null,null,"",{"$f":"IF(D44=\"\",\"\",VLOOKUP(C44,女子ﾃﾞｰﾀ貼付ｼｰﾄ!$A$3:$AA$202,23))","v":""}]
[38,null,null,{"$f":"IF($C45=\"\",\"\",VLOOKUP($C45,女子ﾃﾞｰﾀ貼付ｼｰﾄ!$A$3:$AA$34,2))","v":""},{"$f":"IF($C45=\"\",\"\",VLOOKUP($C45,女子ﾃﾞｰﾀ貼付ｼｰﾄ!$A$3:$AA$34,3))","v":""},{"$f":"IF($C45=\"\",\"\",VLOOKUP($C45,女子ﾃﾞｰﾀ貼付ｼｰﾄ!$A$3:$AA$34,4))","v":""},"女",{"$f":"IF($C45=\"\",\"\",RIGHT(VLOOKUP($C45,女子ﾃﾞｰﾀ貼付ｼｰﾄ!$A$3:$AA$34,26),1))","v":""},{"$f":"IF($C45=\"\",\"\",TEXT(VLOOKUP($C45,女子ﾃﾞｰﾀ貼付ｼｰﾄ!$A$3:$AA$34,23),\"yyyy\"))","v":""},{"$f":"IF($C45=\"\",\"\",VLOOKUP($C45,女子ﾃﾞｰﾀ貼付ｼｰﾄ!$A$3:$AA$34,21))","v":""},{"$f":"IF($C45=\"\",\"\",VLOOKUP($C45,女子ﾃﾞｰﾀ貼付ｼｰﾄ!$A$3:$AA$34,17))","v":""},{"$f":"IF($C45=\"\",\"\",VLOOKUP($C45,女子ﾃﾞｰﾀ貼付ｼｰﾄ!$A$3:$AA$34,14))","v":""},null,null,null,null,null,null,null,"",{"$f":"IF(D45=\"\",\"\",VLOOKUP(C45,女子ﾃﾞｰﾀ貼付ｼｰﾄ!$A$3:$AA$202,23))","v":""}]
[39,null,null,{"$f":"IF($C46=\"\",\"\",VLOOKUP($C46,女子ﾃﾞｰﾀ貼付ｼｰﾄ!$A$3:$AA$34,2))","v":""},{"$f":"IF($C46=\"\",\"\",VLOOKUP($C46,女子ﾃﾞｰﾀ貼付ｼｰﾄ!$A$3:$AA$34,3))","v":""},{"$f":"IF($C46=\"\",\"\",VLOOKUP($C46,女子ﾃﾞｰﾀ貼付ｼｰﾄ!$A$3:$AA$34,4))","v":""},"女",{"$f":"IF($C46=\"\",\"\",RIGHT(VLOOKUP($C46,女子ﾃﾞｰﾀ貼付ｼｰﾄ!$A$3:$AA$34,26),1))","v":""},{"$f":"IF($C46=\"\",\"\",TEXT(VLOOKUP($C46,女子ﾃﾞｰﾀ貼付ｼｰﾄ!$A$3:$AA$34,23),\"yyyy\"))","v":""},{"$f":"IF($C46=\"\",\"\",VLOOKUP($C46,女子ﾃﾞｰﾀ貼付ｼｰﾄ!$A$3:$AA$34,21))","v":""},{"$f":"IF($C46=\"\",\"\",VLOOKUP($C46,女子ﾃﾞｰﾀ貼付ｼｰﾄ!$A$3:$AA$34,17))","v":""},{"$f":"IF($C46=\"\",\"\",VLOOKUP($C46,女子ﾃﾞｰﾀ貼付ｼｰﾄ!$A$3:$AA$34,14))","v":""},null,null,null,null,null,null,null,"",{"$f":"IF(D46=\"\",\"\",VLOOKUP(C46,女子ﾃﾞｰﾀ貼付ｼｰﾄ!$A$3:$AA$202,23))","v":""}]
[40,null,null,{"$f":"IF($C47=\"\",\"\",VLOOKUP($C47,女子ﾃﾞｰﾀ貼付ｼｰﾄ!$A$3:$AA$34,2))","v":""},{"$f":"IF($C47=\"\",\"\",VLOOKUP($C47,女子ﾃﾞｰﾀ貼付ｼｰﾄ!$A$3:$AA$34,3))","v":""},{"$f":"IF($C47=\"\",\"\",VLOOKUP($C47,女子ﾃﾞｰﾀ貼付ｼｰﾄ!$A$3:$AA$34,4))","v":""},"女",{"$f":"IF($C47=\"\",\"\",RIGHT(VLOOKUP($C47,女子ﾃﾞｰﾀ貼付ｼｰﾄ!$A$3:$AA$34,26),1))","v":""},{"$f":"IF($C47=\"\",\"\",TEXT(VLOOKUP($C47,女子ﾃﾞｰﾀ貼付ｼｰﾄ!$A$3:$AA$34,23),\"yyyy\"))","v":""},{"$f":"IF($C47=\"\",\"\",VLOOKUP($C47,女子ﾃﾞｰﾀ貼付ｼｰﾄ!$A$3:$AA$34,21))","v":""},{"$f":"IF($C47=\"\",\"\",VLOOKUP($C47,女子ﾃﾞｰﾀ貼付ｼｰﾄ!$A$3:$AA$34,17))","v":""},{"$f":"IF($C47=\"\",\"\",VLOOKUP($C47,女子ﾃﾞｰﾀ貼付ｼｰﾄ!$A$3:$AA$34,14))","v":""},null,null,null,null,null,null,null,"",{"$f":"IF(D47=\"\",\"\",VLOOKUP(C47,女子ﾃﾞｰﾀ貼付ｼｰﾄ!$A$3:$AA$202,23))","v":""}]
[41,null,null,{"$f":"IF($C48=\"\",\"\",VLOOKUP($C48,女子ﾃﾞｰﾀ貼付ｼｰﾄ!$A$3:$AA$34,2))","v":""},{"$f":"IF($C48=\"\",\"\",VLOOKUP($C48,女子ﾃﾞｰﾀ貼付ｼｰﾄ!$A$3:$AA$34,3))","v":""},{"$f":"IF($C48=\"\",\"\",VLOOKUP($C48,女子ﾃﾞｰﾀ貼付ｼｰﾄ!$A$3:$AA$34,4))","v":""},"女",{"$f":"IF($C48=\"\",\"\",RIGHT(VLOOKUP($C48,女子ﾃﾞｰﾀ貼付ｼｰﾄ!$A$3:$AA$34,26),1))","v":""},{"$f":"IF($C48=\"\",\"\",TEXT(VLOOKUP($C48,女子ﾃﾞｰﾀ貼付ｼｰﾄ!$A$3:$AA$34,23),\"yyyy\"))","v":""},{"$f":"IF($C48=\"\",\"\",VLOOKUP($C48,女子ﾃﾞｰﾀ貼付ｼｰﾄ!$A$3:$AA$34,21))","v":""},{"$f":"IF($C48=\"\",\"\",VLOOKUP($C48,女子ﾃﾞｰﾀ貼付ｼｰﾄ!$A$3:$AA$34,17))","v":""},{"$f":"IF($C48=\"\",\"\",VLOOKUP($C48,女子ﾃﾞｰﾀ貼付ｼｰﾄ!$A$3:$AA$34,14))","v":""},null,null,null,null,null,null,null,"",{"$f":"IF(D48=\"\",\"\",VLOOKUP(C48,女子ﾃﾞｰﾀ貼付ｼｰﾄ!$A$3:$AA$202,23))","v":""}]
[42,null,null,{"$f":"IF($C49=\"\",\"\",VLOOKUP($C49,女子ﾃﾞｰﾀ貼付ｼｰﾄ!$A$3:$AA$34,2))","v":""},{"$f":"IF($C49=\"\",\"\",VLOOKUP($C49,女子ﾃﾞｰﾀ貼付ｼｰﾄ!$A$3:$AA$34,3))","v":""},{"$f":"IF($C49=\"\",\"\",VLOOKUP($C49,女子ﾃﾞｰﾀ貼付ｼｰﾄ!$A$3:$AA$34,4))","v":""},"女",{"$f":"IF($C49=\"\",\"\",RIGHT(VLOOKUP($C49,女子ﾃﾞｰﾀ貼付ｼｰﾄ!$A$3:$AA$34,26),1))","v":""},{"$f":"IF($C49=\"\",\"\",TEXT(VLOOKUP($C49,女子ﾃﾞｰﾀ貼付ｼｰﾄ!$A$3:$AA$34,23),\"yyyy\"))","v":""},{"$f":"IF($C49=\"\",\"\",VLOOKUP($C49,女子ﾃﾞｰﾀ貼付ｼｰﾄ!$A$3:$AA$34,21))","v":""},{"$f":"IF($C49=\"\",\"\",VLOOKUP($C49,女子ﾃﾞｰﾀ貼付ｼｰﾄ!$A$3:$AA$34,17))","v":""},{"$f":"IF($C49=\"\",\"\",VLOOKUP($C49,女子ﾃﾞｰﾀ貼付ｼｰﾄ!$A$3:$AA$34,14))","v":""},null,null,null,null,null,null,null,"",{"$f":"IF(D49=\"\",\"\",VLOOKUP(C49,女子ﾃﾞｰﾀ貼付ｼｰﾄ!$A$3:$AA$202,23))","v":""}]
[43,null,null,{"$f":"IF($C50=\"\",\"\",VLOOKUP($C50,女子ﾃﾞｰﾀ貼付ｼｰﾄ!$A$3:$AA$34,2))","v":""},{"$f":"IF($C50=\"\",\"\",VLOOKUP($C50,女子ﾃﾞｰﾀ貼付ｼｰﾄ!$A$3:$AA$34,3))","v":""},{"$f":"IF($C50=\"\",\"\",VLOOKUP($C50,女子ﾃﾞｰﾀ貼付ｼｰﾄ!$A$3:$AA$34,4))","v":""},"女",{"$f":"IF($C50=\"\",\"\",RIGHT(VLOOKUP($C50,女子ﾃﾞｰﾀ貼付ｼｰﾄ!$A$3:$AA$34,26),1))","v":""},{"$f":"IF($C50=\"\",\"\",TEXT(VLOOKUP($C50,女子ﾃﾞｰﾀ貼付ｼｰﾄ!$A$3:$AA$34,23),\"yyyy\"))","v":""},{"$f":"IF($C50=\"\",\"\",VLOOKUP($C50,女子ﾃﾞｰﾀ貼付ｼｰﾄ!$A$3:$AA$34,21))","v":""},{"$f":"IF($C50=\"\",\"\",VLOOKUP($C50,女子ﾃﾞｰﾀ貼付ｼｰﾄ!$A$3:$AA$34,17))","v":""},{"$f":"IF($C50=\"\",\"\",VLOOKUP($C50,女子ﾃﾞｰﾀ貼付ｼｰﾄ!$A$3:$AA$34,14))","v":""},null,null,null,null,null,null,null,"",{"$f":"IF(D50=\"\",\"\",VLOOKUP(C50,女子ﾃﾞｰﾀ貼付ｼｰﾄ!$A$3:$AA$202,23))","v":""}]
[44,null,null,{"$f":"IF($C51=\"\",\"\",VLOOKUP($C51,女子ﾃﾞｰﾀ貼付ｼｰﾄ!$A$3:$AA$34,2))","v":""},{"$f":"IF($C51=\"\",\"\",VLOOKUP($C51,女子ﾃﾞｰﾀ貼付ｼｰﾄ!$A$3:$AA$34,3))","v":""},{"$f":"IF($C51=\"\",\"\",VLOOKUP($C51,女子ﾃﾞｰﾀ貼付ｼｰﾄ!$A$3:$AA$34,4))","v":""},"女",{"$f":"IF($C51=\"\",\"\",RIGHT(VLOOKUP($C51,女子ﾃﾞｰﾀ貼付ｼｰﾄ!$A$3:$AA$34,26),1))","v":""},{"$f":"IF($C51=\"\",\"\",TEXT(VLOOKUP($C51,女子ﾃﾞｰﾀ貼付ｼｰﾄ!$A$3:$AA$34,23),\"yyyy\"))","v":""},{"$f":"IF($C51=\"\",\"\",VLOOKUP($C51,女子ﾃﾞｰﾀ貼付ｼｰﾄ!$A$3:$AA$34,21))","v":""},{"$f":"IF($C51=\"\",\"\",VLOOKUP($C51,女子ﾃﾞｰﾀ貼付ｼｰﾄ!$A$3:$AA$34,17))","v":""},{"$f":"IF($C51=\"\",\"\",VLOOKUP($C51,女子ﾃﾞｰﾀ貼付ｼｰﾄ!$A$3:$AA$34,14))","v":""},null,null,null,null,null,null,null,"",{"$f":"IF(D51=\"\",\"\",VLOOKUP(C51,女子ﾃﾞｰﾀ貼付ｼｰﾄ!$A$3:$AA$202,23))","v":""}]
[45,null,null,{"$f":"IF($C52=\"\",\"\",VLOOKUP($C52,女子ﾃﾞｰﾀ貼付ｼｰﾄ!$A$3:$AA$34,2))","v":""},{"$f":"IF($C52=\"\",\"\",VLOOKUP($C52,女子ﾃﾞｰﾀ貼付ｼｰﾄ!$A$3:$AA$34,3))","v":""},{"$f":"IF($C52=\"\",\"\",VLOOKUP($C52,女子ﾃﾞｰﾀ貼付ｼｰﾄ!$A$3:$AA$34,4))","v":""},"女",{"$f":"IF($C52=\"\",\"\",RIGHT(VLOOKUP($C52,女子ﾃﾞｰﾀ貼付ｼｰﾄ!$A$3:$AA$34,26),1))","v":""},{"$f":"IF($C52=\"\",\"\",TEXT(VLOOKUP($C52,女子ﾃﾞｰﾀ貼付ｼｰﾄ!$A$3:$AA$34,23),\"yyyy\"))","v":""},{"$f":"IF($C52=\"\",\"\",VLOOKUP($C52,女子ﾃﾞｰﾀ貼付ｼｰﾄ!$A$3:$AA$34,21))","v":""},{"$f":"IF($C52=\"\",\"\",VLOOKUP($C52,女子ﾃﾞｰﾀ貼付ｼｰﾄ!$A$3:$AA$34,17))","v":""},{"$f":"IF($C52=\"\",\"\",VLOOKUP($C52,女子ﾃﾞｰﾀ貼付ｼｰﾄ!$A$3:$AA$34,14))","v":""},null,null,null,null,null,null,null,"",{"$f":"IF(D52=\"\",\"\",VLOOKUP(C52,女子ﾃﾞｰﾀ貼付ｼｰﾄ!$A$3:$AA$202,23))","v":""}]
[46,null,null,{"$f":"IF($C53=\"\",\"\",VLOOKUP($C53,女子ﾃﾞｰﾀ貼付ｼｰﾄ!$A$3:$AA$34,2))","v":""},{"$f":"IF($C53=\"\",\"\",VLOOKUP($C53,女子ﾃﾞｰﾀ貼付ｼｰﾄ!$A$3:$AA$34,3))","v":""},{"$f":"IF($C53=\"\",\"\",VLOOKUP($C53,女子ﾃﾞｰﾀ貼付ｼｰﾄ!$A$3:$AA$34,4))","v":""},"女",{"$f":"IF($C53=\"\",\"\",RIGHT(VLOOKUP($C53,女子ﾃﾞｰﾀ貼付ｼｰﾄ!$A$3:$AA$34,26),1))","v":""},{"$f":"IF($C53=\"\",\"\",TEXT(VLOOKUP($C53,女子ﾃﾞｰﾀ貼付ｼｰﾄ!$A$3:$AA$34,23),\"yyyy\"))","v":""},{"$f":"IF($C53=\"\",\"\",VLOOKUP($C53,女子ﾃﾞｰﾀ貼付ｼｰﾄ!$A$3:$AA$34,21))","v":""},{"$f":"IF($C53=\"\",\"\",VLOOKUP($C53,女子ﾃﾞｰﾀ貼付ｼｰﾄ!$A$3:$AA$34,17))","v":""},{"$f":"IF($C53=\"\",\"\",VLOOKUP($C53,女子ﾃﾞｰﾀ貼付ｼｰﾄ!$A$3:$AA$34,14))","v":""},null,null,null,null,null,null,null,"",{"$f":"IF(D53=\"\",\"\",VLOOKUP(C53,女子ﾃﾞｰﾀ貼付ｼｰﾄ!$A$3:$AA$202,23))","v":""}]
[47,null,null,{"$f":"IF($C54=\"\",\"\",VLOOKUP($C54,女子ﾃﾞｰﾀ貼付ｼｰﾄ!$A$3:$AA$34,2))","v":""},{"$f":"IF($C54=\"\",\"\",VLOOKUP($C54,女子ﾃﾞｰﾀ貼付ｼｰﾄ!$A$3:$AA$34,3))","v":""},{"$f":"IF($C54=\"\",\"\",VLOOKUP($C54,女子ﾃﾞｰﾀ貼付ｼｰﾄ!$A$3:$AA$34,4))","v":""},"女",{"$f":"IF($C54=\"\",\"\",RIGHT(VLOOKUP($C54,女子ﾃﾞｰﾀ貼付ｼｰﾄ!$A$3:$AA$34,26),1))","v":""},{"$f":"IF($C54=\"\",\"\",TEXT(VLOOKUP($C54,女子ﾃﾞｰﾀ貼付ｼｰﾄ!$A$3:$AA$34,23),\"yyyy\"))","v":""},{"$f":"IF($C54=\"\",\"\",VLOOKUP($C54,女子ﾃﾞｰﾀ貼付ｼｰﾄ!$A$3:$AA$34,21))","v":""},{"$f":"IF($C54=\"\",\"\",VLOOKUP($C54,女子ﾃﾞｰﾀ貼付ｼｰﾄ!$A$3:$AA$34,17))","v":""},{"$f":"IF($C54=\"\",\"\",VLOOKUP($C54,女子ﾃﾞｰﾀ貼付ｼｰﾄ!$A$3:$AA$34,14))","v":""},null,null,null,null,null,null,null,"",{"$f":"IF(D54=\"\",\"\",VLOOKUP(C54,女子ﾃﾞｰﾀ貼付ｼｰﾄ!$A$3:$AA$202,23))","v":""}]
[48,null,null,{"$f":"IF($C55=\"\",\"\",VLOOKUP($C55,女子ﾃﾞｰﾀ貼付ｼｰﾄ!$A$3:$AA$34,2))","v":""},{"$f":"IF($C55=\"\",\"\",VLOOKUP($C55,女子ﾃﾞｰﾀ貼付ｼｰﾄ!$A$3:$AA$34,3))","v":""},{"$f":"IF($C55=\"\",\"\",VLOOKUP($C55,女子ﾃﾞｰﾀ貼付ｼｰﾄ!$A$3:$AA$34,4))","v":""},"女",{"$f":"IF($C55=\"\",\"\",RIGHT(VLOOKUP($C55,女子ﾃﾞｰﾀ貼付ｼｰﾄ!$A$3:$AA$34,26),1))","v":""},{"$f":"IF($C55=\"\",\"\",TEXT(VLOOKUP($C55,女子ﾃﾞｰﾀ貼付ｼｰﾄ!$A$3:$AA$34,23),\"yyyy\"))","v":""},{"$f":"IF($C55=\"\",\"\",VLOOKUP($C55,女子ﾃﾞｰﾀ貼付ｼｰﾄ!$A$3:$AA$34,21))","v":""},{"$f":"IF($C55=\"\",\"\",VLOOKUP($C55,女子ﾃﾞｰﾀ貼付ｼｰﾄ!$A$3:$AA$34,17))","v":""},{"$f":"IF($C55=\"\",\"\",VLOOKUP($C55,女子ﾃﾞｰﾀ貼付ｼｰﾄ!$A$3:$AA$34,14))","v":""},null,null,null,null,null,null,null,"",{"$f":"IF(D55=\"\",\"\",VLOOKUP(C55,女子ﾃﾞｰﾀ貼付ｼｰﾄ!$A$3:$AA$202,23))","v":""}]
[49,null,null,{"$f":"IF($C56=\"\",\"\",VLOOKUP($C56,女子ﾃﾞｰﾀ貼付ｼｰﾄ!$A$3:$AA$34,2))","v":""},{"$f":"IF($C56=\"\",\"\",VLOOKUP($C56,女子ﾃﾞｰﾀ貼付ｼｰﾄ!$A$3:$AA$34,3))","v":""},{"$f":"IF($C56=\"\",\"\",VLOOKUP($C56,女子ﾃﾞｰﾀ貼付ｼｰﾄ!$A$3:$AA$34,4))","v":""},"女",{"$f":"IF($C56=\"\",\"\",RIGHT(VLOOKUP($C56,女子ﾃﾞｰﾀ貼付ｼｰﾄ!$A$3:$AA$34,26),1))","v":""},{"$f":"IF($C56=\"\",\"\",TEXT(VLOOKUP($C56,女子ﾃﾞｰﾀ貼付ｼｰﾄ!$A$3:$AA$34,23),\"yyyy\"))","v":""},{"$f":"IF($C56=\"\",\"\",VLOOKUP($C56,女子ﾃﾞｰﾀ貼付ｼｰﾄ!$A$3:$AA$34,21))","v":""},{"$f":"IF($C56=\"\",\"\",VLOOKUP($C56,女子ﾃﾞｰﾀ貼付ｼｰﾄ!$A$3:$AA$34,17))","v":""},{"$f":"IF($C56=\"\",\"\",VLOOKUP($C56,女子ﾃﾞｰﾀ貼付ｼｰﾄ!$A$3:$AA$34,14))","v":""},null,null,null,null,null,null,null,"",{"$f":"IF(D56=\"\",\"\",VLOOKUP(C56,女子ﾃﾞｰﾀ貼付ｼｰﾄ!$A$3:$AA$202,23))","v":""}]
[50,null,null,{"$f":"IF($C57=\"\",\"\",VLOOKUP($C57,女子ﾃﾞｰﾀ貼付ｼｰﾄ!$A$3:$AA$34,2))","v":""},{"$f":"IF($C57=\"\",\"\",VLOOKUP($C57,女子ﾃﾞｰﾀ貼付ｼｰﾄ!$A$3:$AA$34,3))","v":""},{"$f":"IF($C57=\"\",\"\",VLOOKUP($C57,女子ﾃﾞｰﾀ貼付ｼｰﾄ!$A$3:$AA$34,4))","v":""},"女",{"$f":"IF($C57=\"\",\"\",RIGHT(VLOOKUP($C57,女子ﾃﾞｰﾀ貼付ｼｰﾄ!$A$3:$AA$34,26),1))","v":""},{"$f":"IF($C57=\"\",\"\",TEXT(VLOOKUP($C57,女子ﾃﾞｰﾀ貼付ｼｰﾄ!$A$3:$AA$34,23),\"yyyy\"))","v":""},{"$f":"IF($C57=\"\",\"\",VLOOKUP($C57,女子ﾃﾞｰﾀ貼付ｼｰﾄ!$A$3:$AA$34,21))","v":""},{"$f":"IF($C57=\"\",\"\",VLOOKUP($C57,女子ﾃﾞｰﾀ貼付ｼｰﾄ!$A$3:$AA$34,17))","v":""},{"$f":"IF($C57=\"\",\"\",VLOOKUP($C57,女子ﾃﾞｰﾀ貼付ｼｰﾄ!$A$3:$AA$34,14))","v":""},null,null,null,null,null,null,null,"",{"$f":"IF(D57=\"\",\"\",VLOOKUP(C57,女子ﾃﾞｰﾀ貼付ｼｰﾄ!$A$3:$AA$202,23))","v":""}]
[51,null,null,{"$f":"IF($C58=\"\",\"\",VLOOKUP($C58,女子ﾃﾞｰﾀ貼付ｼｰﾄ!$A$3:$AA$34,2))","v":""},{"$f":"IF($C58=\"\",\"\",VLOOKUP($C58,女子ﾃﾞｰﾀ貼付ｼｰﾄ!$A$3:$AA$34,3))","v":""},{"$f":"IF($C58=\"\",\"\",VLOOKUP($C58,女子ﾃﾞｰﾀ貼付ｼｰﾄ!$A$3:$AA$34,4))","v":""},"女",{"$f":"IF($C58=\"\",\"\",RIGHT(VLOOKUP($C58,女子ﾃﾞｰﾀ貼付ｼｰﾄ!$A$3:$AA$34,26),1))","v":""},{"$f":"IF($C58=\"\",\"\",TEXT(VLOOKUP($C58,女子ﾃﾞｰﾀ貼付ｼｰﾄ!$A$3:$AA$34,23),\"yyyy\"))","v":""},{"$f":"IF($C58=\"\",\"\",VLOOKUP($C58,女子ﾃﾞｰﾀ貼付ｼｰﾄ!$A$3:$AA$34,21))","v":""},{"$f":"IF($C58=\"\",\"\",VLOOKUP($C58,女子ﾃﾞｰﾀ貼付ｼｰﾄ!$A$3:$AA$34,17))","v":""},{"$f":"IF($C58=\"\",\"\",VLOOKUP($C58,女子ﾃﾞｰﾀ貼付ｼｰﾄ!$A$3:$AA$34,14))","v":""},null,null,null,null,null,null,null,"",{"$f":"IF(D58=\"\",\"\",VLOOKUP(C58,女子ﾃﾞｰﾀ貼付ｼｰﾄ!$A$3:$AA$202,23))","v":""}]
[52,null,null,{"$f":"IF($C59=\"\",\"\",VLOOKUP($C59,女子ﾃﾞｰﾀ貼付ｼｰﾄ!$A$3:$AA$34,2))","v":""},{"$f":"IF($C59=\"\",\"\",VLOOKUP($C59,女子ﾃﾞｰﾀ貼付ｼｰﾄ!$A$3:$AA$34,3))","v":""},{"$f":"IF($C59=\"\",\"\",VLOOKUP($C59,女子ﾃﾞｰﾀ貼付ｼｰﾄ!$A$3:$AA$34,4))","v":""},"女",{"$f":"IF($C59=\"\",\"\",RIGHT(VLOOKUP($C59,女子ﾃﾞｰﾀ貼付ｼｰﾄ!$A$3:$AA$34,26),1))","v":""},{"$f":"IF($C59=\"\",\"\",TEXT(VLOOKUP($C59,女子ﾃﾞｰﾀ貼付ｼｰﾄ!$A$3:$AA$34,23),\"yyyy\"))","v":""},{"$f":"IF($C59=\"\",\"\",VLOOKUP($C59,女子ﾃﾞｰﾀ貼付ｼｰﾄ!$A$3:$AA$34,21))","v":""},{"$f":"IF($C59=\"\",\"\",VLOOKUP($C59,女子ﾃﾞｰﾀ貼付ｼｰﾄ!$A$3:$AA$34,17))","v":""},{"$f":"IF($C59=\"\",\"\",VLOOKUP($C59,女子ﾃﾞｰﾀ貼付ｼｰﾄ!$A$3:$AA$34,14))","v":""},null,null,null,null,null,null,null,"",{"$f":"IF(D59=\"\",\"\",VLOOKUP(C59,女子ﾃﾞｰﾀ貼付ｼｰﾄ!$A$3:$AA$202,23))","v":""}]
[53,null,null,{"$f":"IF($C60=\"\",\"\",VLOOKUP($C60,女子ﾃﾞｰﾀ貼付ｼｰﾄ!$A$3:$AA$34,2))","v":""},{"$f":"IF($C60=\"\",\"\",VLOOKUP($C60,女子ﾃﾞｰﾀ貼付ｼｰﾄ!$A$3:$AA$34,3))","v":""},{"$f":"IF($C60=\"\",\"\",VLOOKUP($C60,女子ﾃﾞｰﾀ貼付ｼｰﾄ!$A$3:$AA$34,4))","v":""},"女",{"$f":"IF($C60=\"\",\"\",RIGHT(VLOOKUP($C60,女子ﾃﾞｰﾀ貼付ｼｰﾄ!$A$3:$AA$34,26),1))","v":""},{"$f":"IF($C60=\"\",\"\",TEXT(VLOOKUP($C60,女子ﾃﾞｰﾀ貼付ｼｰﾄ!$A$3:$AA$34,23),\"yyyy\"))","v":""},{"$f":"IF($C60=\"\",\"\",VLOOKUP($C60,女子ﾃﾞｰﾀ貼付ｼｰﾄ!$A$3:$AA$34,21))","v":""},{"$f":"IF($C60=\"\",\"\",VLOOKUP($C60,女子ﾃﾞｰﾀ貼付ｼｰﾄ!$A$3:$AA$34,17))","v":""},{"$f":"IF($C60=\"\",\"\",VLOOKUP($C60,女子ﾃﾞｰﾀ貼付ｼｰﾄ!$A$3:$AA$34,14))","v":""},null,null,null,null,null,null,null,"",{"$f":"IF(D60=\"\",\"\",VLOOKUP(C60,女子ﾃﾞｰﾀ貼付ｼｰﾄ!$A$3:$AA$202,23))","v":""}]
[54,null,null,{"$f":"IF($C61=\"\",\"\",VLOOKUP($C61,女子ﾃﾞｰﾀ貼付ｼｰﾄ!$A$3:$AA$34,2))","v":""},{"$f":"IF($C61=\"\",\"\",VLOOKUP($C61,女子ﾃﾞｰﾀ貼付ｼｰﾄ!$A$3:$AA$34,3))","v":""},{"$f":"IF($C61=\"\",\"\",VLOOKUP($C61,女子ﾃﾞｰﾀ貼付ｼｰﾄ!$A$3:$AA$34,4))","v":""},"女",{"$f":"IF($C61=\"\",\"\",RIGHT(VLOOKUP($C61,女子ﾃﾞｰﾀ貼付ｼｰﾄ!$A$3:$AA$34,26),1))","v":""},{"$f":"IF($C61=\"\",\"\",TEXT(VLOOKUP($C61,女子ﾃﾞｰﾀ貼付ｼｰﾄ!$A$3:$AA$34,23),\"yyyy\"))","v":""},{"$f":"IF($C61=\"\",\"\",VLOOKUP($C61,女子ﾃﾞｰﾀ貼付ｼｰﾄ!$A$3:$AA$34,21))","v":""},{"$f":"IF($C61=\"\",\"\",VLOOKUP($C61,女子ﾃﾞｰﾀ貼付ｼｰﾄ!$A$3:$AA$34,17))","v":""},{"$f":"IF($C61=\"\",\"\",VLOOKUP($C61,女子ﾃﾞｰﾀ貼付ｼｰﾄ!$A$3:$AA$34,14))","v":""},null,null,null,null,null,null,null,"",{"$f":"IF(D61=\"\",\"\",VLOOKUP(C61,女子ﾃﾞｰﾀ貼付ｼｰﾄ!$A$3:$AA$202,23))","v":""}]
[55,null,null,{"$f":"IF($C62=\"\",\"\",VLOOKUP($C62,女子ﾃﾞｰﾀ貼付ｼｰﾄ!$A$3:$AA$34,2))","v":""},{"$f":"IF($C62=\"\",\"\",VLOOKUP($C62,女子ﾃﾞｰﾀ貼付ｼｰﾄ!$A$3:$AA$34,3))","v":""},{"$f":"IF($C62=\"\",\"\",VLOOKUP($C62,女子ﾃﾞｰﾀ貼付ｼｰﾄ!$A$3:$AA$34,4))","v":""},"女",{"$f":"IF($C62=\"\",\"\",RIGHT(VLOOKUP($C62,女子ﾃﾞｰﾀ貼付ｼｰﾄ!$A$3:$AA$34,26),1))","v":""},{"$f":"IF($C62=\"\",\"\",TEXT(VLOOKUP($C62,女子ﾃﾞｰﾀ貼付ｼｰﾄ!$A$3:$AA$34,23),\"yyyy\"))","v":""},{"$f":"IF($C62=\"\",\"\",VLOOKUP($C62,女子ﾃﾞｰﾀ貼付ｼｰﾄ!$A$3:$AA$34,21))","v":""},{"$f":"IF($C62=\"\",\"\",VLOOKUP($C62,女子ﾃﾞｰﾀ貼付ｼｰﾄ!$A$3:$AA$34,17))","v":""},{"$f":"IF($C62=\"\",\"\",VLOOKUP($C62,女子ﾃﾞｰﾀ貼付ｼｰﾄ!$A$3:$AA$34,14))","v":""},null,null,null,null,null,null,null,"",{"$f":"IF(D62=\"\",\"\",VLOOKUP(C62,女子ﾃﾞｰﾀ貼付ｼｰﾄ!$A$3:$AA$202,23))","v":""}]
[56,null,null,{"$f":"IF($C63=\"\",\"\",VLOOKUP($C63,女子ﾃﾞｰﾀ貼付ｼｰﾄ!$A$3:$AA$34,2))","v":""},{"$f":"IF($C63=\"\",\"\",VLOOKUP($C63,女子ﾃﾞｰﾀ貼付ｼｰﾄ!$A$3:$AA$34,3))","v":""},{"$f":"IF($C63=\"\",\"\",VLOOKUP($C63,女子ﾃﾞｰﾀ貼付ｼｰﾄ!$A$3:$AA$34,4))","v":""},"女",{"$f":"IF($C63=\"\",\"\",RIGHT(VLOOKUP($C63,女子ﾃﾞｰﾀ貼付ｼｰﾄ!$A$3:$AA$34,26),1))","v":""},{"$f":"IF($C63=\"\",\"\",TEXT(VLOOKUP($C63,女子ﾃﾞｰﾀ貼付ｼｰﾄ!$A$3:$AA$34,23),\"yyyy\"))","v":""},{"$f":"IF($C63=\"\",\"\",VLOOKUP($C63,女子ﾃﾞｰﾀ貼付ｼｰﾄ!$A$3:$AA$34,21))","v":""},{"$f":"IF($C63=\"\",\"\",VLOOKUP($C63,女子ﾃﾞｰﾀ貼付ｼｰﾄ!$A$3:$AA$34,17))","v":""},{"$f":"IF($C63=\"\",\"\",VLOOKUP($C63,女子ﾃﾞｰﾀ貼付ｼｰﾄ!$A$3:$AA$34,14))","v":""},null,null,null,null,null,null,null,"",{"$f":"IF(D63=\"\",\"\",VLOOKUP(C63,女子ﾃﾞｰﾀ貼付ｼｰﾄ!$A$3:$AA$202,23))","v":""}]
[57,null,null,{"$f":"IF($C64=\"\",\"\",VLOOKUP($C64,女子ﾃﾞｰﾀ貼付ｼｰﾄ!$A$3:$AA$34,2))","v":""},{"$f":"IF($C64=\"\",\"\",VLOOKUP($C64,女子ﾃﾞｰﾀ貼付ｼｰﾄ!$A$3:$AA$34,3))","v":""},{"$f":"IF($C64=\"\",\"\",VLOOKUP($C64,女子ﾃﾞｰﾀ貼付ｼｰﾄ!$A$3:$AA$34,4))","v":""},"女",{"$f":"IF($C64=\"\",\"\",RIGHT(VLOOKUP($C64,女子ﾃﾞｰﾀ貼付ｼｰﾄ!$A$3:$AA$34,26),1))","v":""},{"$f":"IF($C64=\"\",\"\",TEXT(VLOOKUP($C64,女子ﾃﾞｰﾀ貼付ｼｰﾄ!$A$3:$AA$34,23),\"yyyy\"))","v":""},{"$f":"IF($C64=\"\",\"\",VLOOKUP($C64,女子ﾃﾞｰﾀ貼付ｼｰﾄ!$A$3:$AA$34,21))","v":""},{"$f":"IF($C64=\"\",\"\",VLOOKUP($C64,女子ﾃﾞｰﾀ貼付ｼｰﾄ!$A$3:$AA$34,17))","v":""},{"$f":"IF($C64=\"\",\"\",VLOOKUP($C64,女子ﾃﾞｰﾀ貼付ｼｰﾄ!$A$3:$AA$34,14))","v":""},null,null,null,null,null,null,null,"",{"$f":"IF(D64=\"\",\"\",VLOOKUP(C64,女子ﾃﾞｰﾀ貼付ｼｰﾄ!$A$3:$AA$202,23))","v":""}]
[58,null,null,{"$f":"IF($C65=\"\",\"\",VLOOKUP($C65,女子ﾃﾞｰﾀ貼付ｼｰﾄ!$A$3:$AA$34,2))","v":""},{"$f":"IF($C65=\"\",\"\",VLOOKUP($C65,女子ﾃﾞｰﾀ貼付ｼｰﾄ!$A$3:$AA$34,3))","v":""},{"$f":"IF($C65=\"\",\"\",VLOOKUP($C65,女子ﾃﾞｰﾀ貼付ｼｰﾄ!$A$3:$AA$34,4))","v":""},"女",{"$f":"IF($C65=\"\",\"\",RIGHT(VLOOKUP($C65,女子ﾃﾞｰﾀ貼付ｼｰﾄ!$A$3:$AA$34,26),1))","v":""},{"$f":"IF($C65=\"\",\"\",TEXT(VLOOKUP($C65,女子ﾃﾞｰﾀ貼付ｼｰﾄ!$A$3:$AA$34,23),\"yyyy\"))","v":""},{"$f":"IF($C65=\"\",\"\",VLOOKUP($C65,女子ﾃﾞｰﾀ貼付ｼｰﾄ!$A$3:$AA$34,21))","v":""},{"$f":"IF($C65=\"\",\"\",VLOOKUP($C65,女子ﾃﾞｰﾀ貼付ｼｰﾄ!$A$3:$AA$34,17))","v":""},{"$f":"IF($C65=\"\",\"\",VLOOKUP($C65,女子ﾃﾞｰﾀ貼付ｼｰﾄ!$A$3:$AA$34,14))","v":""},null,null,null,null,null,null,null,"",{"$f":"IF(D65=\"\",\"\",VLOOKUP(C65,女子ﾃﾞｰﾀ貼付ｼｰﾄ!$A$3:$AA$202,23))","v":""}]
[59,null,null,{"$f":"IF($C66=\"\",\"\",VLOOKUP($C66,女子ﾃﾞｰﾀ貼付ｼｰﾄ!$A$3:$AA$34,2))","v":""},{"$f":"IF($C66=\"\",\"\",VLOOKUP($C66,女子ﾃﾞｰﾀ貼付ｼｰﾄ!$A$3:$AA$34,3))","v":""},{"$f":"IF($C66=\"\",\"\",VLOOKUP($C66,女子ﾃﾞｰﾀ貼付ｼｰﾄ!$A$3:$AA$34,4))","v":""},"女",{"$f":"IF($C66=\"\",\"\",RIGHT(VLOOKUP($C66,女子ﾃﾞｰﾀ貼付ｼｰﾄ!$A$3:$AA$34,26),1))","v":""},{"$f":"IF($C66=\"\",\"\",TEXT(VLOOKUP($C66,女子ﾃﾞｰﾀ貼付ｼｰﾄ!$A$3:$AA$34,23),\"yyyy\"))","v":""},{"$f":"IF($C66=\"\",\"\",VLOOKUP($C66,女子ﾃﾞｰﾀ貼付ｼｰﾄ!$A$3:$AA$34,21))","v":""},{"$f":"IF($C66=\"\",\"\",VLOOKUP($C66,女子ﾃﾞｰﾀ貼付ｼｰﾄ!$A$3:$AA$34,17))","v":""},{"$f":"IF($C66=\"\",\"\",VLOOKUP($C66,女子ﾃﾞｰﾀ貼付ｼｰﾄ!$A$3:$AA$34,14))","v":""},null,null,null,null,null,null,null,"",{"$f":"IF(D66=\"\",\"\",VLOOKUP(C66,女子ﾃﾞｰﾀ貼付ｼｰﾄ!$A$3:$AA$202,23))","v":""}]
[60,null,null,{"$f":"IF($C67=\"\",\"\",VLOOKUP($C67,女子ﾃﾞｰﾀ貼付ｼｰﾄ!$A$3:$AA$34,2))","v":""},{"$f":"IF($C67=\"\",\"\",VLOOKUP($C67,女子ﾃﾞｰﾀ貼付ｼｰﾄ!$A$3:$AA$34,3))","v":""},{"$f":"IF($C67=\"\",\"\",VLOOKUP($C67,女子ﾃﾞｰﾀ貼付ｼｰﾄ!$A$3:$AA$34,4))","v":""},"女",{"$f":"IF($C67=\"\",\"\",RIGHT(VLOOKUP($C67,女子ﾃﾞｰﾀ貼付ｼｰﾄ!$A$3:$AA$34,26),1))","v":""},{"$f":"IF($C67=\"\",\"\",TEXT(VLOOKUP($C67,女子ﾃﾞｰﾀ貼付ｼｰﾄ!$A$3:$AA$34,23),\"yyyy\"))","v":""},{"$f":"IF($C67=\"\",\"\",VLOOKUP($C67,女子ﾃﾞｰﾀ貼付ｼｰﾄ!$A$3:$AA$34,21))","v":""},{"$f":"IF($C67=\"\",\"\",VLOOKUP($C67,女子ﾃﾞｰﾀ貼付ｼｰﾄ!$A$3:$AA$34,17))","v":""},{"$f":"IF($C67=\"\",\"\",VLOOKUP($C67,女子ﾃﾞｰﾀ貼付ｼｰﾄ!$A$3:$AA$34,14))","v":""},null,null,null,null,null,null,null,"",{"$f":"IF(D67=\"\",\"\",VLOOKUP(C67,女子ﾃﾞｰﾀ貼付ｼｰﾄ!$A$3:$AA$202,23))","v":""}]
[]
["※記入方法について",null,null,null,null,null,null,null,null,null,null,null,"中学生",null,"（種目）",null,{"$f":"N69*1000","v":0}]
["１．ナンバーの県欄には、各県登録ナンバーを記入　北欄の記載は不要"]
["２．最高記録は2022/1/1 から 大会申込締切まで の最高記録を記入",null,null,null,null,null,null,null,null,null,null,null,"高校生",null,"（種目）",null,{"$f":"N71*1500","v":0}]
["３．種目の年、月は記録を出した年を西暦下二けた(19or20)と月の４桁で記入"]
["４．不足する場合は、27行と68行の間の行を再表示してください。",null,null,null,null,null,null,null,null,null,null,null,"大学・一般",null,"（種目）",null,{"$f":"N73*2000","v":0}]
["　　それでも足りない場合は、行をコピーして挿入してください。"]
["５．申込書記入例を参考に種目等を記入してください。",null,null,null,null,null,null,null,null,null,null,null,"混成",null,"（種目）",null,{"$f":"N75*3000","v":0}]
["※","個人情報保護について"]
[null,"ここに書かれている内容については本大会の運営だけに利用し、その他、外部への情報供与は一切行いません。",null,null,null,null,null,null,null,null,null,null,"リレー",null,"（種目）",null,{"$f":"N77*3000","v":0}]
[]
[null,null,null,null,null,null,null,null,null,null,null,null,null,null,null,"合計",{"$f":"Q69+Q71+Q73+Q75+Q77","v":0}]
[]
[null,"所属団体",null,null,null,null,null,null,null,null,null,null,"記載責任者（携帯電話番号）"]
[null,null,null,null,null,null,null,null,null,null,null,null,"氏名"]
[null,null,null,null,null,null,null,null,null,null,null,null,"（",null,null,null,null,"）"]
[null,"住所","〒"]
[null,null,null,null,null,null,null,null,null,null,null,null,"学校の場合は、学校長出場承認印"]
[null,"電話"]
[null,"FAX",null,null,null,null,null,null,null,null,null,null,null,null,null,null,null,"印"]