{"text_format":"1","workbook":"xlsx","n_sheets":5,"sheets":["各団体(個人）申込書記入例(必読)","男子ﾃﾞｰﾀ貼付ｼｰﾄ","【様式1-1】男子団体（個人）申込書 ","女子ﾃﾞｰﾀ貼付ｼｰﾄ","【様式1-2】女子団体（個人）申込書 "],"not_rendered":{"charts":0,"images":3,"macros":1,"external_links":2,"defined_names":12,"comments":4,"pivot_tables":0},"unopened":[],"bounds":{"document_bytes":16777216,"sheet_cells":100000,"rows_first":2000,"rows_last":500,"rows_between":2000,"halvings":0,"cell_chars":16384,"cell_head_chars":4096},"cells_cut":0,"cells_raw":0,"read":"whole","date_system":"1900"}

{"sheet":"各団体(個人）申込書記入例(必読)","index":0,"n_rows":73,"n_cols":24,"rows_kept":73,"cut":false,"hidden":false,"merged":[[72,9,72,10],[71,9,71,10],[69,9,69,10],[68,9,68,10],[67,9,67,10],[50,0,51,0],[50,1,50,2],[50,3,51,3],[50,4,50,5],[50,6,51,6],[50,16,50,20],[50,21,51,21],[62,14,62,15],[47,3,47,10],[47,17,47,20],[48,4,48,15],[50,7,51,7],[50,9,51,9],[64,14,64,15],[66,14,66,15],[68,14,68,15],[70,14,70,15],[50,11,51,11],[50,12,51,12],[50,13,50,15]]}
["競技会参加申込の入力方法"]
[]
[null,"０．","この申込ファイルはマクロを含んでいます。以下の警告が出た場合は、「コンテンツの有効化」をクリックしてください。"]
[]
[]
[]
[]
[]
[]
[]
[null,"１．","「JAAF START」 のページにおいて、「閲覧」 メニューの 「生徒情報確認/変更」 から 「CSVS(新形式2018以降)作成」 をクリックし、CSVファイルを作成する。（一般・学生もこの流れに準ずる）"]
[null,null,"作成したCSVデータを貼り付ける。その際、男子のデータは 「男子ﾃﾞｰﾀ貼付ｼｰﾄ」 に、女子のデータは 「女子ﾃﾞｰﾀ貼付ｼｰﾄ」 に貼り付ける。"]
[null,null,"「都道府県(学連)登録番号」 (もしくはＡ列) が昇順になるように並べ替える。 ( 「ナンバー順に並び替え」 ボタンで並び替えてください。)"]
[]
[]
[]
[]
[]
[]
[]
["↓",null,null,null,null,"↓","(氏名で五十音順に並んでいる状態から、登録ナンバーで昇順になるように)",null,null,null,null,null,null,null,null,null,null,null,null,"↓"]
[]
[]
[]
[]
[]
[]
[]
[null,"２．","「 【様式1-1】男子申込書」 「 【様式1-2】女子申込書」 のそれぞれに、所属名・学校名、記載責任者、電話番号などを記入する。"]
[null,null,"所属については、「 ○○大 」、「 ○○高 」 などのように、校種区分が分かるようにしておくこと。"]
[]
[null,"３．","登録ナンバーを｢県ナンバー｣列に記入する。そうすると、その右側に氏名から国籍まで、登録情報が自動入力されます。"]
[null,null,"「 県ナンバー 」 は各県で使用しているナンバーを記入する。 「 北ナンバー 」 は空欄にしておくこと。"]
[null,null,"なお、氏名以下を直接手入力するは、苗字と名前の間は全角文字1つ分のスペースを入れておくこと。"]
[null,null,"　　　　　　　　　　　　　　　　ﾌﾘｶﾞﾅについて、半角ｶﾀｶﾅ、ｱﾙﾌｧﾍﾞｯﾄともに半角文字で入力し、姓名の間は半角文字1つ分のスペースを入力。"]
[null,null,"　　　　　　　　　　　　　　　　さらにｱﾙﾌｧﾍﾞｯﾄについては姓は全て大文字、名は最初の１文字のみ大文字で他は小文字で入力し、"]
[null,null,"　　　　　　　　　　　　　　　　数字は半角で記入。生年月日の欄は西暦8桁を記入すること。"]
[]
[null,"４．","種目はリストから選択すること。（種目のセルにポインタを合わせると、プルダウンメニューで表示されます）"]
[]
[null,"５．","記録は分・秒、小数点、ｍ (ﾒｰﾄﾙ) は省略する。　　　11\"45→1145　　　4'28\"35→42835　　　11'35\"6→113560　　　1m45→145　　　48m32→4832　など"]
[]
[null,"６．","標準記録突破者は、自己最高記録の欄のみ記入。"]
[null,null,"ハンマーの左投げ、ハードル・投擲の規格外の記録、陸協推薦　に該当する場合は、「備考」 欄のリストから選んで入力すること。",null,null,null,null,null,null,null,null,null,null,null,null,null,null,null,null,null,null,null,null,"※規格外は、高さと重さの違い"]
[null,null,null,null,null,null,null,null,null,null,null,null,null,null,null,null,null,null,null,null,null,null,null,"　ジュニア種目（ユース等）、中学生など"]
[]
["＜記入例＞"]
["大会名",null,null,"第６５回北陸地域陸上競技選手権大会",null,null,null,null,null,null,null,null,null,null,null,null,null,"参加申込一覧表（ 男子 ）"]
["所属学校・団体名 ",null,null,null,"富山陸上高"]
[]
[null,"ﾅﾝﾊﾞｰ",null,"氏　名","ﾌﾘｶﾞﾅ",null,"性別","学年","生年月日","所属","登録","国籍","種目","各県選手権決勝の記録・順位",null,null,"自己最高記録",null,null,null,null,"備考"]
[null,"北","県",null,"半角ｶﾀｶﾅ","半角ｱﾙﾌｧﾍﾞｯﾄ",null,null,"西暦8桁の数字",null,"都道府県",null,null,"記録","順位","年月(4桁)","記録","順位","年月(4桁)","大会名","場所"]
[1,null,1,"富山　一郎","ﾄﾔﾏ ｲﾁﾛｳ","TOYAMA Ichiro","男",3,20030501,"富山陸上高","富山県","JPN 日本","100m",1097,7,2105,1089,4,2007,"県体一部","富山総合"]
[2,null,1,"富山　一郎","ﾄﾔﾏ ｲﾁﾛｳ","TOYAMA Ichiro","男",3,20030501,"富山陸上高","富山県","JPN 日本","200m",null,null,null,2249,5,2007,"TOYAMA2020","富山総合"]
[3,null,2,"立山　二郎","ﾀﾃﾔﾏ ｼﾞﾛｳ","TATEYAMA Jiro","男",3,20030502,"富山陸上高","富山県","JPN 日本","走高跳",207,3,2105,210,1,2007,"TOYAMA2020","富山総合"]
[4,null,2,"立山　二郎","ﾀﾃﾔﾏ ｼﾞﾛｳ","TATEYAMA Jiro","男",3,20030502,"富山陸上高","富山県","JPN 日本","三段跳",1421,5,2105,1486,2,2010,"北信越新人","福井"]
[5,null,3,"神通　三郎","ｼﾞﾝﾂﾞｳ ｻﾌﾞﾛｳ","JINZU Saburo","男",2,20040503,"富山陸上高","富山県","JPN 日本","ハンマー投",3532,8,2105,3842,10,2010,"第２回記録会","富山総合","ﾊﾝﾏｰ左投"]
[6,null,3,"神通　三郎","ｼﾞﾝﾂﾞｳ ｻﾌﾞﾛｳ","JINZU Saburo","男",2,20040503,"富山陸上高","富山県","JPN 日本","砲丸投",1030,7,2105,1042,3,1906,"第２回記録会","富山総合"]
[7,null,4,"高岡　四郎","ﾀｶｵｶ ｼﾛｳ","TAKAOKA Shiro","男",1,20050504,"富山陸上高","富山県","JPN 日本","110mH",null,null,null,1602,1,1907,"通信陸上","ビッグスワン","規格外"]
[8,null,4,"高岡　四郎","ﾀｶｵｶ ｼﾛｳ","TAKAOKA Shiro","男",1,20050204,"富山陸上高","富山県","JPN 日本","400mH",5221,8,2105,5221,8,2105,"富山県選手権","富山総合"]
[9,null,5,"常願寺　五郎","ｼﾞｮｳｶﾞﾝｼﾞｺﾞ ﾛｳ","JYOGANJI Goro","男",2,20050305,"富山陸上高","富山県","JPN 日本","10種競技",null,null,null,5000,10,2009,"全国高校陸上混成","広島","陸協推薦"]
[]
["※記入方法について",null,null,null,null,null,null,null,null,null,null,null,null,"一般",2000,null,null,"（種目）",null,{"$f":"Q63*O63","v":0}]
["１．ナンバーの県欄には、各県登録ナンバーを入力する。",null,null,null,null,null,null,null,null,"※ＩＤカードの発行枚数について"]
["　　北ナンバーは、各県陸協で割り振るので入力しない。",null,null,null,null,null,null,null,null,"監督・コーチ(ﾏﾈｰｼﾞｬｰ含む)について",null,null,null,"高校生",1500,null,8,"（種目）",null,{"$f":"Q65*O65","v":12000}]
["２．最高記録は2020.1.1～大会申込締切までの最高記録を記入",null,null,null,null,null,null,null,null,"以下のように配布します。"]
["３．種目の年、月は記録を出した年を西暦下二けた(20or21)と月の４桁で記入",null,null,null,null,null,null,null,null,null,null,null,null,"中学生",1000,null,null,"（種目）",null,{"$f":"Q67*O67","v":0}]
["４．不足する場合は、行を挿入してください。",null,null,null,null,null,null,null,null,"参加選手数",null,"発行枚数"]
["５．申込書記入例を参考に種目等を記入してください。","個人情報保護について",null,null,null,null,null,null,null,"１～２名　",null,"２枚",null,"混成",3000,null,1,"（種目）",null,{"$f":"Q69*O69","v":3000}]
[null,"　※","ここに書かれている内容については本大会の運営だけに利用し、",null,null,null,null,null,null,"３～６名　",null,"３枚",null,"　"]
[null,null,"その他、外部への情報供与は一切行いません。",null,null,null,null,null,null,"７～１５名",null,"４枚",null,"リレー",3000,null,null,"（種目）",null,{"$f":"Q71*O71","v":0}]
[null,null,null,null,null,null,null,null,null,"　７名～１５名",null,"４枚"]
[null,null,null,null,null,null,null,null,null,"１６名～　",null,"５枚",null,null,null,"合計",null,null,"合計",{"$f":"T63+T65+T67+T69+T71","v":15000}]

{"sheet":"男子ﾃﾞｰﾀ貼付ｼｰﾄ","index":1,"n_rows":201,"n_cols":24,"rows_kept":201,"cut":false,"hidden":false,"merged":[[1,0,1,2]]}
[]
["↓この3列には貼り付けないで！↓",null,null,"JAAF ID","会員名","会員名\nカナ","会員名\n英字(姓)","会員名\n英字(名)","国籍","性\n別","登録都道\n府県コード","登録都道府県名","団体ID","団体名","団体名\nカナ","団体名\n略称","団体名\n略称カナ","生年月日","都道府県(学連)登録番号","旧団体\nコード","備考","学年","団体\n区分","陸連団体"]
[{"$f":"IF(S3=\"\",\"\",S3)","v":""},{"$f":"IF(F3=\"\",\"\",ASC(F3))","v":""},{"$f":"IF(G3=\"\",\"\",G3&\" \"&H3)","v":""}]
["","",""]
["","",""]
["","",""]
["","",""]
["","",""]
["","",""]
["","",""]
["","",""]
["","",""]
["","",""]
["","",""]
["","",""]
["","",""]
["","",""]
["","",""]
["","",""]
["","",""]
["","",""]
["","",""]
["","",""]
["","",""]
["","",""]
["","",""]
["","",""]
["","",""]
["","",""]
["","",""]
["","",""]
["","",""]
["","",""]
["","",""]
[{"$f":"IF(S35=\"\",\"\",S35)","v":""},{"$f":"IF(F35=\"\",\"\",ASC(F35))","v":""},{"$f":"IF(G35=\"\",\"\",G35&\" \"&H35)","v":""}]
["","",""]
["","",""]
["","",""]
["","",""]
["","",""]
["","",""]
["","",""]
["","",""]
["","",""]
["","",""]
["","",""]
["","",""]
["","",""]
["","",""]
["","",""]
["","",""]
["","",""]
["","",""]
["","",""]
["","",""]
["","",""]
["","",""]
["","",""]
["","",""]
["","",""]
["","",""]
["","",""]
["","",""]
["","",""]
["","",""]
["","",""]
[{"$f":"IF(S67=\"\",\"\",S67)","v":""},{"$f":"IF(F67=\"\",\"\",ASC(F67))","v":""},{"$f":"IF(G67=\"\",\"\",G67&\" \"&H67)","v":""}]
["","",""]
["","",""]
["","",""]
["","",""]
["","",""]
["","",""]
["","",""]
["","",""]
["","",""]
["","",""]
["","",""]
["","",""]
["","",""]
["","",""]
["","",""]
["","",""]
["","",""]
["","",""]
["","",""]
["","",""]
["","",""]
["","",""]
["","",""]
["","",""]
["","",""]
["","",""]
["","",""]
["","",""]
["","",""]
["","",""]
["","",""]
[{"$f":"IF(S99=\"\",\"\",S99)","v":""},{"$f":"IF(F99=\"\",\"\",ASC(F99))","v":""},{"$f":"IF(G99=\"\",\"\",G99&\" \"&H99)","v":""}]
["","",""]
["","",""]
["","",""]
["","",""]
["","",""]
["","",""]
["","",""]
["","",""]
["","",""]
["","",""]
["","",""]
["","",""]
["","",""]
["","",""]
["","",""]
["","",""]
["","",""]
["","",""]
["","",""]
["","",""]
["","",""]
["","",""]
["","",""]
["","",""]
["","",""]
["","",""]
["","",""]
["","",""]
["","",""]
["","",""]
["","",""]
[{"$f":"IF(S131=\"\",\"\",S131)","v":""},{"$f":"IF(F131=\"\",\"\",ASC(F131))","v":""},{"$f":"IF(G131=\"\",\"\",G131&\" \"&H131)","v":""}]
["","",""]
["","",""]
["","",""]
["","",""]
["","",""]
["","",""]
["","",""]
["","",""]
["","",""]
["","",""]
["","",""]
["","",""]
["","",""]
["","",""]
["","",""]
["","",""]
["","",""]
["","",""]
["","",""]
["","",""]
["","",""]
["","",""]
["","",""]
["","",""]
["","",""]
["","",""]
["","",""]
["","",""]
["","",""]
["","",""]
["","",""]
[{"$f":"IF(S163=\"\",\"\",S163)","v":""},{"$f":"IF(F163=\"\",\"\",ASC(F163))","v":""},{"$f":"IF(G163=\"\",\"\",G163&\" \"&H163)","v":""}]
["","",""]
["","",""]
["","",""]
["","",""]
["","",""]
["","",""]
["","",""]
["","",""]
["","",""]
["","",""]
["","",""]
["","",""]
["","",""]
["","",""]
["","",""]
["","",""]
["","",""]
["","",""]
["","",""]
["","",""]
["","",""]
["","",""]
["","",""]
["","",""]
["","",""]
["","",""]
["","",""]
["","",""]
["","",""]
["","",""]
["","",""]
[{"$f":"IF(S195=\"\",\"\",S195)","v":""},{"$f":"IF(F195=\"\",\"\",ASC(F195))","v":""},{"$f":"IF(G195=\"\",\"\",G195&\" \"&H195)","v":""}]
["","",""]
["","",""]
["","",""]
["","",""]
["","",""]
["","",""]

{"sheet":"【様式1-1】男子団体（個人）申込書 ","index":2,"n_rows":67,"n_cols":22,"rows_kept":67,"cut":false,"hidden":false,"merged":[[5,0,6,0],[5,1,5,2],[5,3,6,3],[5,4,6,4],[5,5,6,5],[5,21,6,21],[0,20,0,21],[1,5,1,12],[1,15,1,17],[3,5,3,12],[5,6,6,6],[66,3,66,8],[5,7,6,7],[5,9,6,9],[5,11,6,11],[5,12,5,15],[61,13,61,16],[62,13,62,16],[63,3,63,5],[64,3,64,8],[65,3,65,8],[5,16,5,20]]}
[null,null,null,null,null,null,null,null,null,null,null,null,null,null,null,null,null,null,null,null,"【様式1-1】"]
[null,null,null,"大会名",null,"第６５回北陸地域陸上競技選手権大会",null,null,null,null,null,null,null,null,null,"参加申込一覧表（　男子　）"]
[]
[null,null,null,"所属学校・団体名 ",null,null,null,null,null,null,null,null,null,{"$f":"IF(F4=\"\",\"\",[2]男子ﾃﾞｰﾀ貼付ｼｰﾄ!T3)","v":""}]
[]
[null,"ﾅﾝﾊﾞｰ",null,"氏　名","ﾌﾘｶﾞﾅ\n(半角ｶﾀｶﾅ)","ｱﾙﾌｧﾍﾞｯﾄ表記","性別","学年","生年月日","所属","登録","国籍","各県選手権決勝の記録・順位",null,null,null,"有効期間内の自己最高記録（標準突破記録の記載を含む）",null,null,null,null,"備考"]
[null,"北","県",null,null,null,null,null,"西暦8桁の数字",null,"都道府県",null,"種目","記録","順位","年月(4桁)","記録","順位","年月(4桁)","大会名","場所"]
[1,null,null,{"$f":"IF($C8=\"\",\"\",VLOOKUP($C8,男子ﾃﾞｰﾀ貼付ｼｰﾄ!$A$3:$W$201,5))","v":""},{"$f":"IF($C8=\"\",\"\",VLOOKUP($C8,男子ﾃﾞｰﾀ貼付ｼｰﾄ!$A$3:$W$201,2))","v":""},{"$f":"IF($C8=\"\",\"\",VLOOKUP($C8,男子ﾃﾞｰﾀ貼付ｼｰﾄ!$A$3:$W$201,3))","v":""},"男",{"$f":"IF($C8=\"\",\"\",VLOOKUP($C8,男子ﾃﾞｰﾀ貼付ｼｰﾄ!$A$3:$W$201,22))","v":""},{"$f":"IF($C8=\"\",\"\",VLOOKUP($C8,男子ﾃﾞｰﾀ貼付ｼｰﾄ!$A$3:$W$201,18))","v":""},{"$f":"IF($C8=\"\",\"\",VLOOKUP($C8,男子ﾃﾞｰﾀ貼付ｼｰﾄ!$A$3:$W$201,16))","v":""},{"$f":"IF($C8=\"\",\"\",VLOOKUP($C8,男子ﾃﾞｰﾀ貼付ｼｰﾄ!$A$3:$W$201,12))","v":""},{"$f":"IF($C8=\"\",\"\",VLOOKUP($C8,男子ﾃﾞｰﾀ貼付ｼｰﾄ!$A$3:$W$201,9))","v":""}]
[2,null,null,{"$f":"IF($C9=\"\",\"\",VLOOKUP($C9,男子ﾃﾞｰﾀ貼付ｼｰﾄ!$A$3:$W$201,5))","v":""},{"$f":"IF($C9=\"\",\"\",VLOOKUP($C9,男子ﾃﾞｰﾀ貼付ｼｰﾄ!$A$3:$W$201,2))","v":""},{"$f":"IF($C9=\"\",\"\",VLOOKUP($C9,男子ﾃﾞｰﾀ貼付ｼｰﾄ!$A$3:$W$201,3))","v":""},"男",{"$f":"IF($C9=\"\",\"\",VLOOKUP($C9,男子ﾃﾞｰﾀ貼付ｼｰﾄ!$A$3:$W$201,22))","v":""},{"$f":"IF($C9=\"\",\"\",VLOOKUP($C9,男子ﾃﾞｰﾀ貼付ｼｰﾄ!$A$3:$W$201,18))","v":""},{"$f":"IF($C9=\"\",\"\",VLOOKUP($C9,男子ﾃﾞｰﾀ貼付ｼｰﾄ!$A$3:$W$201,16))","v":""},{"$f":"IF($C9=\"\",\"\",VLOOKUP($C9,男子ﾃﾞｰﾀ貼付ｼｰﾄ!$A$3:$W$201,12))","v":""},{"$f":"IF($C9=\"\",\"\",VLOOKUP($C9,男子ﾃﾞｰﾀ貼付ｼｰﾄ!$A$3:$W$201,9))","v":""}]
[3,null,null,{"$f":"IF($C10=\"\",\"\",VLOOKUP($C10,男子ﾃﾞｰﾀ貼付ｼｰﾄ!$A$3:$W$201,5))","v":""},{"$f":"IF($C10=\"\",\"\",VLOOKUP($C10,男子ﾃﾞｰﾀ貼付ｼｰﾄ!$A$3:$W$201,2))","v":""},{"$f":"IF($C10=\"\",\"\",VLOOKUP($C10,男子ﾃﾞｰﾀ貼付ｼｰﾄ!$A$3:$W$201,3))","v":""},"男",{"$f":"IF($C10=\"\",\"\",VLOOKUP($C10,男子ﾃﾞｰﾀ貼付ｼｰﾄ!$A$3:$W$201,22))","v":""},{"$f":"IF($C10=\"\",\"\",VLOOKUP($C10,男子ﾃﾞｰﾀ貼付ｼｰﾄ!$A$3:$W$201,18))","v":""},{"$f":"IF($C10=\"\",\"\",VLOOKUP($C10,男子ﾃﾞｰﾀ貼付ｼｰﾄ!$A$3:$W$201,16))","v":""},{"$f":"IF($C10=\"\",\"\",VLOOKUP($C10,男子ﾃﾞｰﾀ貼付ｼｰﾄ!$A$3:$W$201,12))","v":""},{"$f":"IF($C10=\"\",\"\",VLOOKUP($C10,男子ﾃﾞｰﾀ貼付ｼｰﾄ!$A$3:$W$201,9))","v":""}]
[4,null,null,{"$f":"IF($C11=\"\",\"\",VLOOKUP($C11,男子ﾃﾞｰﾀ貼付ｼｰﾄ!$A$3:$W$201,5))","v":""},{"$f":"IF($C11=\"\",\"\",VLOOKUP($C11,男子ﾃﾞｰﾀ貼付ｼｰﾄ!$A$3:$W$201,2))","v":""},{"$f":"IF($C11=\"\",\"\",VLOOKUP($C11,男子ﾃﾞｰﾀ貼付ｼｰﾄ!$A$3:$W$201,3))","v":""},"男",{"$f":"IF($C11=\"\",\"\",VLOOKUP($C11,男子ﾃﾞｰﾀ貼付ｼｰﾄ!$A$3:$W$201,22))","v":""},{"$f":"IF($C11=\"\",\"\",VLOOKUP($C11,男子ﾃﾞｰﾀ貼付ｼｰﾄ!$A$3:$W$201,18))","v":""},{"$f":"IF($C11=\"\",\"\",VLOOKUP($C11,男子ﾃﾞｰﾀ貼付ｼｰﾄ!$A$3:$W$201,16))","v":""},{"$f":"IF($C11=\"\",\"\",VLOOKUP($C11,男子ﾃﾞｰﾀ貼付ｼｰﾄ!$A$3:$W$201,12))","v":""},{"$f":"IF($C11=\"\",\"\",VLOOKUP($C11,男子ﾃﾞｰﾀ貼付ｼｰﾄ!$A$3:$W$201,9))","v":""}]
[5,null,null,{"$f":"IF($C12=\"\",\"\",VLOOKUP($C12,男子ﾃﾞｰﾀ貼付ｼｰﾄ!$A$3:$W$201,5))","v":""},{"$f":"IF($C12=\"\",\"\",VLOOKUP($C12,男子ﾃﾞｰﾀ貼付ｼｰﾄ!$A$3:$W$201,2))","v":""},{"$f":"IF($C12=\"\",\"\",VLOOKUP($C12,男子ﾃﾞｰﾀ貼付ｼｰﾄ!$A$3:$W$201,3))","v":""},"男",{"$f":"IF($C12=\"\",\"\",VLOOKUP($C12,男子ﾃﾞｰﾀ貼付ｼｰﾄ!$A$3:$W$201,22))","v":""},{"$f":"IF($C12=\"\",\"\",VLOOKUP($C12,男子ﾃﾞｰﾀ貼付ｼｰﾄ!$A$3:$W$201,18))","v":""},{"$f":"IF($C12=\"\",\"\",VLOOKUP($C12,男子ﾃﾞｰﾀ貼付ｼｰﾄ!$A$3:$W$201,16))","v":""},{"$f":"IF($C12=\"\",\"\",VLOOKUP($C12,男子ﾃﾞｰﾀ貼付ｼｰﾄ!$A$3:$W$201,12))","v":""},{"$f":"IF($C12=\"\",\"\",VLOOKUP($C12,男子ﾃﾞｰﾀ貼付ｼｰﾄ!$A$3:$W$201,9))","v":""}]
[6,null,null,{"$f":"IF($C13=\"\",\"\",VLOOKUP($C13,男子ﾃﾞｰﾀ貼付ｼｰﾄ!$A$3:$W$201,5))","v":""},{"$f":"IF($C13=\"\",\"\",VLOOKUP($C13,男子ﾃﾞｰﾀ貼付ｼｰﾄ!$A$3:$W$201,2))","v":""},{"$f":"IF($C13=\"\",\"\",VLOOKUP($C13,男子ﾃﾞｰﾀ貼付ｼｰﾄ!$A$3:$W$201,3))","v":""},"男",{"$f":"IF($C13=\"\",\"\",VLOOKUP($C13,男子ﾃﾞｰﾀ貼付ｼｰﾄ!$A$3:$W$201,22))","v":""},{"$f":"IF($C13=\"\",\"\",VLOOKUP($C13,男子ﾃﾞｰﾀ貼付ｼｰﾄ!$A$3:$W$201,18))","v":""},{"$f":"IF($C13=\"\",\"\",VLOOKUP($C13,男子ﾃﾞｰﾀ貼付ｼｰﾄ!$A$3:$W$201,16))","v":""},{"$f":"IF($C13=\"\",\"\",VLOOKUP($C13,男子ﾃﾞｰﾀ貼付ｼｰﾄ!$A$3:$W$201,12))","v":""},{"$f":"IF($C13=\"\",\"\",VLOOKUP($C13,男子ﾃﾞｰﾀ貼付ｼｰﾄ!$A$3:$W$201,9))","v":""}]
[7,null,null,{"$f":"IF($C14=\"\",\"\",VLOOKUP($C14,男子ﾃﾞｰﾀ貼付ｼｰﾄ!$A$3:$W$201,5))","v":""},{"$f":"IF($C14=\"\",\"\",VLOOKUP($C14,男子ﾃﾞｰﾀ貼付ｼｰﾄ!$A$3:$W$201,2))","v":""},{"$f":"IF($C14=\"\",\"\",VLOOKUP($C14,男子ﾃﾞｰﾀ貼付ｼｰﾄ!$A$3:$W$201,3))","v":""},"男",{"$f":"IF($C14=\"\",\"\",VLOOKUP($C14,男子ﾃﾞｰﾀ貼付ｼｰﾄ!$A$3:$W$201,22))","v":""},{"$f":"IF($C14=\"\",\"\",VLOOKUP($C14,男子ﾃﾞｰﾀ貼付ｼｰﾄ!$A$3:$W$201,18))","v":""},{"$f":"IF($C14=\"\",\"\",VLOOKUP($C14,男子ﾃﾞｰﾀ貼付ｼｰﾄ!$A$3:$W$201,16))","v":""},{"$f":"IF($C14=\"\",\"\",VLOOKUP($C14,男子ﾃﾞｰﾀ貼付ｼｰﾄ!$A$3:$W$201,12))","v":""},{"$f":"IF($C14=\"\",\"\",VLOOKUP($C14,男子ﾃﾞｰﾀ貼付ｼｰﾄ!$A$3:$W$201,9))","v":""}]
[8,null,null,{"$f":"IF($C15=\"\",\"\",VLOOKUP($C15,男子ﾃﾞｰﾀ貼付ｼｰﾄ!$A$3:$W$201,5))","v":""},{"$f":"IF($C15=\"\",\"\",VLOOKUP($C15,男子ﾃﾞｰﾀ貼付ｼｰﾄ!$A$3:$W$201,2))","v":""},{"$f":"IF($C15=\"\",\"\",VLOOKUP($C15,男子ﾃﾞｰﾀ貼付ｼｰﾄ!$A$3:$W$201,3))","v":""},"男",{"$f":"IF($C15=\"\",\"\",VLOOKUP($C15,男子ﾃﾞｰﾀ貼付ｼｰﾄ!$A$3:$W$201,22))","v":""},{"$f":"IF($C15=\"\",\"\",VLOOKUP($C15,男子ﾃﾞｰﾀ貼付ｼｰﾄ!$A$3:$W$201,18))","v":""},{"$f":"IF($C15=\"\",\"\",VLOOKUP($C15,男子ﾃﾞｰﾀ貼付ｼｰﾄ!$A$3:$W$201,16))","v":""},{"$f":"IF($C15=\"\",\"\",VLOOKUP($C15,男子ﾃﾞｰﾀ貼付ｼｰﾄ!$A$3:$W$201,12))","v":""},{"$f":"IF($C15=\"\",\"\",VLOOKUP($C15,男子ﾃﾞｰﾀ貼付ｼｰﾄ!$A$3:$W$201,9))","v":""}]
[9,null,null,{"$f":"IF($C16=\"\",\"\",VLOOKUP($C16,男子ﾃﾞｰﾀ貼付ｼｰﾄ!$A$3:$W$201,5))","v":""},{"$f":"IF($C16=\"\",\"\",VLOOKUP($C16,男子ﾃﾞｰﾀ貼付ｼｰﾄ!$A$3:$W$201,2))","v":""},{"$f":"IF($C16=\"\",\"\",VLOOKUP($C16,男子ﾃﾞｰﾀ貼付ｼｰﾄ!$A$3:$W$201,3))","v":""},"男",{"$f":"IF($C16=\"\",\"\",VLOOKUP($C16,男子ﾃﾞｰﾀ貼付ｼｰﾄ!$A$3:$W$201,22))","v":""},{"$f":"IF($C16=\"\",\"\",VLOOKUP($C16,男子ﾃﾞｰﾀ貼付ｼｰﾄ!$A$3:$W$201,18))","v":""},{"$f":"IF($C16=\"\",\"\",VLOOKUP($C16,男子ﾃﾞｰﾀ貼付ｼｰﾄ!$A$3:$W$201,16))","v":""},{"$f":"IF($C16=\"\",\"\",VLOOKUP($C16,男子ﾃﾞｰﾀ貼付ｼｰﾄ!$A$3:$W$201,12))","v":""},{"$f":"IF($C16=\"\",\"\",VLOOKUP($C16,男子ﾃﾞｰﾀ貼付ｼｰﾄ!$A$3:$W$201,9))","v":""}]
[10,null,null,{"$f":"IF($C17=\"\",\"\",VLOOKUP($C17,男子ﾃﾞｰﾀ貼付ｼｰﾄ!$A$3:$W$201,5))","v":""},{"$f":"IF($C17=\"\",\"\",VLOOKUP($C17,男子ﾃﾞｰﾀ貼付ｼｰﾄ!$A$3:$W$201,2))","v":""},{"$f":"IF($C17=\"\",\"\",VLOOKUP($C17,男子ﾃﾞｰﾀ貼付ｼｰﾄ!$A$3:$W$201,3))","v":""},"男",{"$f":"IF($C17=\"\",\"\",VLOOKUP($C17,男子ﾃﾞｰﾀ貼付ｼｰﾄ!$A$3:$W$201,22))","v":""},{"$f":"IF($C17=\"\",\"\",VLOOKUP($C17,男子ﾃﾞｰﾀ貼付ｼｰﾄ!$A$3:$W$201,18))","v":""},{"$f":"IF($C17=\"\",\"\",VLOOKUP($C17,男子ﾃﾞｰﾀ貼付ｼｰﾄ!$A$3:$W$201,16))","v":""},{"$f":"IF($C17=\"\",\"\",VLOOKUP($C17,男子ﾃﾞｰﾀ貼付ｼｰﾄ!$A$3:$W$201,12))","v":""},{"$f":"IF($C17=\"\",\"\",VLOOKUP($C17,男子ﾃﾞｰﾀ貼付ｼｰﾄ!$A$3:$W$201,9))","v":""}]
[11,null,null,{"$f":"IF($C18=\"\",\"\",VLOOKUP($C18,男子ﾃﾞｰﾀ貼付ｼｰﾄ!$A$3:$W$201,5))","v":""},{"$f":"IF($C18=\"\",\"\",VLOOKUP($C18,男子ﾃﾞｰﾀ貼付ｼｰﾄ!$A$3:$W$201,2))","v":""},{"$f":"IF($C18=\"\",\"\",VLOOKUP($C18,男子ﾃﾞｰﾀ貼付ｼｰﾄ!$A$3:$W$201,3))","v":""},"男",{"$f":"IF($C18=\"\",\"\",VLOOKUP($C18,男子ﾃﾞｰﾀ貼付ｼｰﾄ!$A$3:$W$201,22))","v":""},{"$f":"IF($C18=\"\",\"\",VLOOKUP($C18,男子ﾃﾞｰﾀ貼付ｼｰﾄ!$A$3:$W$201,18))","v":""},{"$f":"IF($C18=\"\",\"\",VLOOKUP($C18,男子ﾃﾞｰﾀ貼付ｼｰﾄ!$A$3:$W$201,16))","v":""},{"$f":"IF($C18=\"\",\"\",VLOOKUP($C18,男子ﾃﾞｰﾀ貼付ｼｰﾄ!$A$3:$W$201,12))","v":""},{"$f":"IF($C18=\"\",\"\",VLOOKUP($C18,男子ﾃﾞｰﾀ貼付ｼｰﾄ!$A$3:$W$201,9))","v":""}]
[12,null,null,{"$f":"IF($C19=\"\",\"\",VLOOKUP($C19,男子ﾃﾞｰﾀ貼付ｼｰﾄ!$A$3:$W$201,5))","v":""},{"$f":"IF($C19=\"\",\"\",VLOOKUP($C19,男子ﾃﾞｰﾀ貼付ｼｰﾄ!$A$3:$W$201,2))","v":""},{"$f":"IF($C19=\"\",\"\",VLOOKUP($C19,男子ﾃﾞｰﾀ貼付ｼｰﾄ!$A$3:$W$201,3))","v":""},"男",{"$f":"IF($C19=\"\",\"\",VLOOKUP($C19,男子ﾃﾞｰﾀ貼付ｼｰﾄ!$A$3:$W$201,22))","v":""},{"$f":"IF($C19=\"\",\"\",VLOOKUP($C19,男子ﾃﾞｰﾀ貼付ｼｰﾄ!$A$3:$W$201,18))","v":""},{"$f":"IF($C19=\"\",\"\",VLOOKUP($C19,男子ﾃﾞｰﾀ貼付ｼｰﾄ!$A$3:$W$201,16))","v":""},{"$f":"IF($C19=\"\",\"\",VLOOKUP($C19,男子ﾃﾞｰﾀ貼付ｼｰﾄ!$A$3:$W$201,12))","v":""},{"$f":"IF($C19=\"\",\"\",VLOOKUP($C19,男子ﾃﾞｰﾀ貼付ｼｰﾄ!$A$3:$W$201,9))","v":""}]
[13,null,null,{"$f":"IF($C20=\"\",\"\",VLOOKUP($C20,男子ﾃﾞｰﾀ貼付ｼｰﾄ!$A$3:$W$201,5))","v":""},{"$f":"IF($C20=\"\",\"\",VLOOKUP($C20,男子ﾃﾞｰﾀ貼付ｼｰﾄ!$A$3:$W$201,2))","v":""},{"$f":"IF($C20=\"\",\"\",VLOOKUP($C20,男子ﾃﾞｰﾀ貼付ｼｰﾄ!$A$3:$W$201,3))","v":""},"男",{"$f":"IF($C20=\"\",\"\",VLOOKUP($C20,男子ﾃﾞｰﾀ貼付ｼｰﾄ!$A$3:$W$201,22))","v":""},{"$f":"IF($C20=\"\",\"\",VLOOKUP($C20,男子ﾃﾞｰﾀ貼付ｼｰﾄ!$A$3:$W$201,18))","v":""},{"$f":"IF($C20=\"\",\"\",VLOOKUP($C20,男子ﾃﾞｰﾀ貼付ｼｰﾄ!$A$3:$W$201,16))","v":""},{"$f":"IF($C20=\"\",\"\",VLOOKUP($C20,男子ﾃﾞｰﾀ貼付ｼｰﾄ!$A$3:$W$201,12))","v":""},{"$f":"IF($C20=\"\",\"\",VLOOKUP($C20,男子ﾃﾞｰﾀ貼付ｼｰﾄ!$A$3:$W$201,9))","v":""}]
[14,null,null,{"$f":"IF($C21=\"\",\"\",VLOOKUP($C21,男子ﾃﾞｰﾀ貼付ｼｰﾄ!$A$3:$W$201,5))","v":""},{"$f":"IF($C21=\"\",\"\",VLOOKUP($C21,男子ﾃﾞｰﾀ貼付ｼｰﾄ!$A$3:$W$201,2))","v":""},{"$f":"IF($C21=\"\",\"\",VLOOKUP($C21,男子ﾃﾞｰﾀ貼付ｼｰﾄ!$A$3:$W$201,3))","v":""},"男",{"$f":"IF($C21=\"\",\"\",VLOOKUP($C21,男子ﾃﾞｰﾀ貼付ｼｰﾄ!$A$3:$W$201,22))","v":""},{"$f":"IF($C21=\"\",\"\",VLOOKUP($C21,男子ﾃﾞｰﾀ貼付ｼｰﾄ!$A$3:$W$201,18))","v":""},{"$f":"IF($C21=\"\",\"\",VLOOKUP($C21,男子ﾃﾞｰﾀ貼付ｼｰﾄ!$A$3:$W$201,16))","v":""},{"$f":"IF($C21=\"\",\"\",VLOOKUP($C21,男子ﾃﾞｰﾀ貼付ｼｰﾄ!$A$3:$W$201,12))","v":""},{"$f":"IF($C21=\"\",\"\",VLOOKUP($C21,男子ﾃﾞｰﾀ貼付ｼｰﾄ!$A$3:$W$201,9))","v":""}]
[15,null,null,{"$f":"IF($C22=\"\",\"\",VLOOKUP($C22,男子ﾃﾞｰﾀ貼付ｼｰﾄ!$A$3:$W$201,5))","v":""},{"$f":"IF($C22=\"\",\"\",VLOOKUP($C22,男子ﾃﾞｰﾀ貼付ｼｰﾄ!$A$3:$W$201,2))","v":""},{"$f":"IF($C22=\"\",\"\",VLOOKUP($C22,男子ﾃﾞｰﾀ貼付ｼｰﾄ!$A$3:$W$201,3))","v":""},"男",{"$f":"IF($C22=\"\",\"\",VLOOKUP($C22,男子ﾃﾞｰﾀ貼付ｼｰﾄ!$A$3:$W$201,22))","v":""},{"$f":"IF($C22=\"\",\"\",VLOOKUP($C22,男子ﾃﾞｰﾀ貼付ｼｰﾄ!$A$3:$W$201,18))","v":""},{"$f":"IF($C22=\"\",\"\",VLOOKUP($C22,男子ﾃﾞｰﾀ貼付ｼｰﾄ!$A$3:$W$201,16))","v":""},{"$f":"IF($C22=\"\",\"\",VLOOKUP($C22,男子ﾃﾞｰﾀ貼付ｼｰﾄ!$A$3:$W$201,12))","v":""},{"$f":"IF($C22=\"\",\"\",VLOOKUP($C22,男子ﾃﾞｰﾀ貼付ｼｰﾄ!$A$3:$W$201,9))","v":""}]
[16,null,null,{"$f":"IF($C23=\"\",\"\",VLOOKUP($C23,男子ﾃﾞｰﾀ貼付ｼｰﾄ!$A$3:$W$201,5))","v":""},{"$f":"IF($C23=\"\",\"\",VLOOKUP($C23,男子ﾃﾞｰﾀ貼付ｼｰﾄ!$A$3:$W$201,2))","v":""},{"$f":"IF($C23=\"\",\"\",VLOOKUP($C23,男子ﾃﾞｰﾀ貼付ｼｰﾄ!$A$3:$W$201,3))","v":""},"男",{"$f":"IF($C23=\"\",\"\",VLOOKUP($C23,男子ﾃﾞｰﾀ貼付ｼｰﾄ!$A$3:$W$201,22))","v":""},{"$f":"IF($C23=\"\",\"\",VLOOKUP($C23,男子ﾃﾞｰﾀ貼付ｼｰﾄ!$A$3:$W$201,18))","v":""},{"$f":"IF($C23=\"\",\"\",VLOOKUP($C23,男子ﾃﾞｰﾀ貼付ｼｰﾄ!$A$3:$W$201,16))","v":""},{"$f":"IF($C23=\"\",\"\",VLOOKUP($C23,男子ﾃﾞｰﾀ貼付ｼｰﾄ!$A$3:$W$201,12))","v":""},{"$f":"IF($C23=\"\",\"\",VLOOKUP($C23,男子ﾃﾞｰﾀ貼付ｼｰﾄ!$A$3:$W$201,9))","v":""}]
[17,null,null,{"$f":"IF($C24=\"\",\"\",VLOOKUP($C24,男子ﾃﾞｰﾀ貼付ｼｰﾄ!$A$3:$W$201,5))","v":""},{"$f":"IF($C24=\"\",\"\",VLOOKUP($C24,男子ﾃﾞｰﾀ貼付ｼｰﾄ!$A$3:$W$201,2))","v":""},{"$f":"IF($C24=\"\",\"\",VLOOKUP($C24,男子ﾃﾞｰﾀ貼付ｼｰﾄ!$A$3:$W$201,3))","v":""},"男",{"$f":"IF($C24=\"\",\"\",VLOOKUP($C24,男子ﾃﾞｰﾀ貼付ｼｰﾄ!$A$3:$W$201,22))","v":""},{"$f":"IF($C24=\"\",\"\",VLOOKUP($C24,男子ﾃﾞｰﾀ貼付ｼｰﾄ!$A$3:$W$201,18))","v":""},{"$f":"IF($C24=\"\",\"\",VLOOKUP($C24,男子ﾃﾞｰﾀ貼付ｼｰﾄ!$A$3:$W$201,16))","v":""},{"$f":"IF($C24=\"\",\"\",VLOOKUP($C24,男子ﾃﾞｰﾀ貼付ｼｰﾄ!$A$3:$W$201,12))","v":""},{"$f":"IF($C24=\"\",\"\",VLOOKUP($C24,男子ﾃﾞｰﾀ貼付ｼｰﾄ!$A$3:$W$201,9))","v":""}]
[18,null,null,{"$f":"IF($C25=\"\",\"\",VLOOKUP($C25,男子ﾃﾞｰﾀ貼付ｼｰﾄ!$A$3:$W$201,5))","v":""},{"$f":"IF($C25=\"\",\"\",VLOOKUP($C25,男子ﾃﾞｰﾀ貼付ｼｰﾄ!$A$3:$W$201,2))","v":""},{"$f":"IF($C25=\"\",\"\",VLOOKUP($C25,男子ﾃﾞｰﾀ貼付ｼｰﾄ!$A$3:$W$201,3))","v":""},"男",{"$f":"IF($C25=\"\",\"\",VLOOKUP($C25,男子ﾃﾞｰﾀ貼付ｼｰﾄ!$A$3:$W$201,22))","v":""},{"$f":"IF($C25=\"\",\"\",VLOOKUP($C25,男子ﾃﾞｰﾀ貼付ｼｰﾄ!$A$3:$W$201,18))","v":""},{"$f":"IF($C25=\"\",\"\",VLOOKUP($C25,男子ﾃﾞｰﾀ貼付ｼｰﾄ!$A$3:$W$201,16))","v":""},{"$f":"IF($C25=\"\",\"\",VLOOKUP($C25,男子ﾃﾞｰﾀ貼付ｼｰﾄ!$A$3:$W$201,12))","v":""},{"$f":"IF($C25=\"\",\"\",VLOOKUP($C25,男子ﾃﾞｰﾀ貼付ｼｰﾄ!$A$3:$W$201,9))","v":""}]
[19,null,null,{"$f":"IF($C26=\"\",\"\",VLOOKUP($C26,男子ﾃﾞｰﾀ貼付ｼｰﾄ!$A$3:$W$201,5))","v":""},{"$f":"IF($C26=\"\",\"\",VLOOKUP($C26,男子ﾃﾞｰﾀ貼付ｼｰﾄ!$A$3:$W$201,2))","v":""},{"$f":"IF($C26=\"\",\"\",VLOOKUP($C26,男子ﾃﾞｰﾀ貼付ｼｰﾄ!$A$3:$W$201,3))","v":""},"男",{"$f":"IF($C26=\"\",\"\",VLOOKUP($C26,男子ﾃﾞｰﾀ貼付ｼｰﾄ!$A$3:$W$201,22))","v":""},{"$f":"IF($C26=\"\",\"\",VLOOKUP($C26,男子ﾃﾞｰﾀ貼付ｼｰﾄ!$A$3:$W$201,18))","v":""},{"$f":"IF($C26=\"\",\"\",VLOOKUP($C26,男子ﾃﾞｰﾀ貼付ｼｰﾄ!$A$3:$W$201,16))","v":""},{"$f":"IF($C26=\"\",\"\",VLOOKUP($C26,男子ﾃﾞｰﾀ貼付ｼｰﾄ!$A$3:$W$201,12))","v":""},{"$f":"IF($C26=\"\",\"\",VLOOKUP($C26,男子ﾃﾞｰﾀ貼付ｼｰﾄ!$A$3:$W$201,9))","v":""}]
[20,null,null,{"$f":"IF($C27=\"\",\"\",VLOOKUP($C27,男子ﾃﾞｰﾀ貼付ｼｰﾄ!$A$3:$W$201,5))","v":""},{"$f":"IF($C27=\"\",\"\",VLOOKUP($C27,男子ﾃﾞｰﾀ貼付ｼｰﾄ!$A$3:$W$201,2))","v":""},{"$f":"IF($C27=\"\",\"\",VLOOKUP($C27,男子ﾃﾞｰﾀ貼付ｼｰﾄ!$A$3:$W$201,3))","v":""},"男",{"$f":"IF($C27=\"\",\"\",VLOOKUP($C27,男子ﾃﾞｰﾀ貼付ｼｰﾄ!$A$3:$W$201,22))","v":""},{"$f":"IF($C27=\"\",\"\",VLOOKUP($C27,男子ﾃﾞｰﾀ貼付ｼｰﾄ!$A$3:$W$201,18))","v":""},{"$f":"IF($C27=\"\",\"\",VLOOKUP($C27,男子ﾃﾞｰﾀ貼付ｼｰﾄ!$A$3:$W$201,16))","v":""},{"$f":"IF($C27=\"\",\"\",VLOOKUP($C27,男子ﾃﾞｰﾀ貼付ｼｰﾄ!$A$3:$W$201,12))","v":""},{"$f":"IF($C27=\"\",\"\",VLOOKUP($C27,男子ﾃﾞｰﾀ貼付ｼｰﾄ!$A$3:$W$201,9))","v":""}]
[21,null,null,{"$f":"IF($C28=\"\",\"\",VLOOKUP($C28,[2]男子ﾃﾞｰﾀ貼付ｼｰﾄ!$A$3:$W$201,5))","v":""},{"$f":"IF($C28=\"\",\"\",VLOOKUP($C28,[2]男子ﾃﾞｰﾀ貼付ｼｰﾄ!$A$3:$W$201,2))","v":""},{"$f":"IF($C28=\"\",\"\",VLOOKUP($C28,[2]男子ﾃﾞｰﾀ貼付ｼｰﾄ!$A$3:$W$201,3))","v":""},"男",{"$f":"IF($C28=\"\",\"\",VLOOKUP($C28,[2]男子ﾃﾞｰﾀ貼付ｼｰﾄ!$A$3:$W$201,22))","v":""},{"$f":"IF($C28=\"\",\"\",VLOOKUP($C28,[2]男子ﾃﾞｰﾀ貼付ｼｰﾄ!$A$3:$W$201,18))","v":""},{"$f":"IF($C28=\"\",\"\",VLOOKUP($C28,[2]男子ﾃﾞｰﾀ貼付ｼｰﾄ!$A$3:$W$201,16))","v":""},{"$f":"IF($C28=\"\",\"\",VLOOKUP($C28,[2]男子ﾃﾞｰﾀ貼付ｼｰﾄ!$A$3:$W$201,12))","v":""},{"$f":"IF($C28=\"\",\"\",VLOOKUP($C28,[2]男子ﾃﾞｰﾀ貼付ｼｰﾄ!$A$3:$W$201,9))","v":""}]
[22,null,null,{"$f":"IF($C29=\"\",\"\",VLOOKUP($C29,[2]男子ﾃﾞｰﾀ貼付ｼｰﾄ!$A$3:$W$201,5))","v":""},{"$f":"IF($C29=\"\",\"\",VLOOKUP($C29,[2]男子ﾃﾞｰﾀ貼付ｼｰﾄ!$A$3:$W$201,2))","v":""},{"$f":"IF($C29=\"\",\"\",VLOOKUP($C29,[2]男子ﾃﾞｰﾀ貼付ｼｰﾄ!$A$3:$W$201,3))","v":""},"男",{"$f":"IF($C29=\"\",\"\",VLOOKUP($C29,[2]男子ﾃﾞｰﾀ貼付ｼｰﾄ!$A$3:$W$201,22))","v":""},{"$f":"IF($C29=\"\",\"\",VLOOKUP($C29,[2]男子ﾃﾞｰﾀ貼付ｼｰﾄ!$A$3:$W$201,18))","v":""},{"$f":"IF($C29=\"\",\"\",VLOOKUP($C29,[2]男子ﾃﾞｰﾀ貼付ｼｰﾄ!$A$3:$W$201,16))","v":""},{"$f":"IF($C29=\"\",\"\",VLOOKUP($C29,[2]男子ﾃﾞｰﾀ貼付ｼｰﾄ!$A$3:$W$201,12))","v":""},{"$f":"IF($C29=\"\",\"\",VLOOKUP($C29,[2]男子ﾃﾞｰﾀ貼付ｼｰﾄ!$A$3:$W$201,9))","v":""}]
[23,null,null,{"$f":"IF($C30=\"\",\"\",VLOOKUP($C30,[2]男子ﾃﾞｰﾀ貼付ｼｰﾄ!$A$3:$W$201,5))","v":""},{"$f":"IF($C30=\"\",\"\",VLOOKUP($C30,[2]男子ﾃﾞｰﾀ貼付ｼｰﾄ!$A$3:$W$201,2))","v":""},{"$f":"IF($C30=\"\",\"\",VLOOKUP($C30,[2]男子ﾃﾞｰﾀ貼付ｼｰﾄ!$A$3:$W$201,3))","v":""},"男",{"$f":"IF($C30=\"\",\"\",VLOOKUP($C30,[2]男子ﾃﾞｰﾀ貼付ｼｰﾄ!$A$3:$W$201,22))","v":""},{"$f":"IF($C30=\"\",\"\",VLOOKUP($C30,[2]男子ﾃﾞｰﾀ貼付ｼｰﾄ!$A$3:$W$201,18))","v":""},{"$f":"IF($C30=\"\",\"\",VLOOKUP($C30,[2]男子ﾃﾞｰﾀ貼付ｼｰﾄ!$A$3:$W$201,16))","v":""},{"$f":"IF($C30=\"\",\"\",VLOOKUP($C30,[2]男子ﾃﾞｰﾀ貼付ｼｰﾄ!$A$3:$W$201,12))","v":""},{"$f":"IF($C30=\"\",\"\",VLOOKUP($C30,[2]男子ﾃﾞｰﾀ貼付ｼｰﾄ!$A$3:$W$201,9))","v":""}]
[24,null,null,{"$f":"IF($C31=\"\",\"\",VLOOKUP($C31,[2]男子ﾃﾞｰﾀ貼付ｼｰﾄ!$A$3:$W$201,5))","v":""},{"$f":"IF($C31=\"\",\"\",VLOOKUP($C31,[2]男子ﾃﾞｰﾀ貼付ｼｰﾄ!$A$3:$W$201,2))","v":""},{"$f":"IF($C31=\"\",\"\",VLOOKUP($C31,[2]男子ﾃﾞｰﾀ貼付ｼｰﾄ!$A$3:$W$201,3))","v":""},"男",{"$f":"IF($C31=\"\",\"\",VLOOKUP($C31,[2]男子ﾃﾞｰﾀ貼付ｼｰﾄ!$A$3:$W$201,22))","v":""},{"$f":"IF($C31=\"\",\"\",VLOOKUP($C31,[2]男子ﾃﾞｰﾀ貼付ｼｰﾄ!$A$3:$W$201,18))","v":""},{"$f":"IF($C31=\"\",\"\",VLOOKUP($C31,[2]男子ﾃﾞｰﾀ貼付ｼｰﾄ!$A$3:$W$201,16))","v":""},{"$f":"IF($C31=\"\",\"\",VLOOKUP($C31,[2]男子ﾃﾞｰﾀ貼付ｼｰﾄ!$A$3:$W$201,12))","v":""},{"$f":"IF($C31=\"\",\"\",VLOOKUP($C31,[2]男子ﾃﾞｰﾀ貼付ｼｰﾄ!$A$3:$W$201,9))","v":""}]
[25,null,null,{"$f":"IF($C32=\"\",\"\",VLOOKUP($C32,[2]男子ﾃﾞｰﾀ貼付ｼｰﾄ!$A$3:$W$201,5))","v":""},{"$f":"IF($C32=\"\",\"\",VLOOKUP($C32,[2]男子ﾃﾞｰﾀ貼付ｼｰﾄ!$A$3:$W$201,2))","v":""},{"$f":"IF($C32=\"\",\"\",VLOOKUP($C32,[2]男子ﾃﾞｰﾀ貼付ｼｰﾄ!$A$3:$W$201,3))","v":""},"男",{"$f":"IF($C32=\"\",\"\",VLOOKUP($C32,[2]男子ﾃﾞｰﾀ貼付ｼｰﾄ!$A$3:$W$201,22))","v":""},{"$f":"IF($C32=\"\",\"\",VLOOKUP($C32,[2]男子ﾃﾞｰﾀ貼付ｼｰﾄ!$A$3:$W$201,18))","v":""},{"$f":"IF($C32=\"\",\"\",VLOOKUP($C32,[2]男子ﾃﾞｰﾀ貼付ｼｰﾄ!$A$3:$W$201,16))","v":""},{"$f":"IF($C32=\"\",\"\",VLOOKUP($C32,[2]男子ﾃﾞｰﾀ貼付ｼｰﾄ!$A$3:$W$201,12))","v":""},{"$f":"IF($C32=\"\",\"\",VLOOKUP($C32,[2]男子ﾃﾞｰﾀ貼付ｼｰﾄ!$A$3:$W$201,9))","v":""}]
[26,null,null,{"$f":"IF($C33=\"\",\"\",VLOOKUP($C33,[2]男子ﾃﾞｰﾀ貼付ｼｰﾄ!$A$3:$W$201,5))","v":""},{"$f":"IF($C33=\"\",\"\",VLOOKUP($C33,[2]男子ﾃﾞｰﾀ貼付ｼｰﾄ!$A$3:$W$201,2))","v":""},{"$f":"IF($C33=\"\",\"\",VLOOKUP($C33,[2]男子ﾃﾞｰﾀ貼付ｼｰﾄ!$A$3:$W$201,3))","v":""},"男",{"$f":"IF($C33=\"\",\"\",VLOOKUP($C33,[2]男子ﾃﾞｰﾀ貼付ｼｰﾄ!$A$3:$W$201,22))","v":""},{"$f":"IF($C33=\"\",\"\",VLOOKUP($C33,[2]男子ﾃﾞｰﾀ貼付ｼｰﾄ!$A$3:$W$201,18))","v":""},{"$f":"IF($C33=\"\",\"\",VLOOKUP($C33,[2]男子ﾃﾞｰﾀ貼付ｼｰﾄ!$A$3:$W$201,16))","v":""},{"$f":"IF($C33=\"\",\"\",VLOOKUP($C33,[2]男子ﾃﾞｰﾀ貼付ｼｰﾄ!$A$3:$W$201,12))","v":""},{"$f":"IF($C33=\"\",\"\",VLOOKUP($C33,[2]男子ﾃﾞｰﾀ貼付ｼｰﾄ!$A$3:$W$201,9))","v":""}]
[27,null,null,{"$f":"IF($C34=\"\",\"\",VLOOKUP($C34,[2]男子ﾃﾞｰﾀ貼付ｼｰﾄ!$A$3:$W$201,5))","v":""},{"$f":"IF($C34=\"\",\"\",VLOOKUP($C34,[2]男子ﾃﾞｰﾀ貼付ｼｰﾄ!$A$3:$W$201,2))","v":""},{"$f":"IF($C34=\"\",\"\",VLOOKUP($C34,[2]男子ﾃﾞｰﾀ貼付ｼｰﾄ!$A$3:$W$201,3))","v":""},"男",{"$f":"IF($C34=\"\",\"\",VLOOKUP($C34,[2]男子ﾃﾞｰﾀ貼付ｼｰﾄ!$A$3:$W$201,22))","v":""},{"$f":"IF($C34=\"\",\"\",VLOOKUP($C34,[2]男子ﾃﾞｰﾀ貼付ｼｰﾄ!$A$3:$W$201,18))","v":""},{"$f":"IF($C34=\"\",\"\",VLOOKUP($C34,[2]男子ﾃﾞｰﾀ貼付ｼｰﾄ!$A$3:$W$201,16))","v":""},{"$f":"IF($C34=\"\",\"\",VLOOKUP($C34,[2]男子ﾃﾞｰﾀ貼付ｼｰﾄ!$A$3:$W$201,12))","v":""},{"$f":"IF($C34=\"\",\"\",VLOOKUP($C34,[2]男子ﾃﾞｰﾀ貼付ｼｰﾄ!$A$3:$W$201,9))","v":""}]
[28,null,null,{"$f":"IF($C35=\"\",\"\",VLOOKUP($C35,[2]男子ﾃﾞｰﾀ貼付ｼｰﾄ!$A$3:$W$201,5))","v":""},{"$f":"IF($C35=\"\",\"\",VLOOKUP($C35,[2]男子ﾃﾞｰﾀ貼付ｼｰﾄ!$A$3:$W$201,2))","v":""},{"$f":"IF($C35=\"\",\"\",VLOOKUP($C35,[2]男子ﾃﾞｰﾀ貼付ｼｰﾄ!$A$3:$W$201,3))","v":""},"男",{"$f":"IF($C35=\"\",\"\",VLOOKUP($C35,[2]男子ﾃﾞｰﾀ貼付ｼｰﾄ!$A$3:$W$201,22))","v":""},{"$f":"IF($C35=\"\",\"\",VLOOKUP($C35,[2]男子ﾃﾞｰﾀ貼付ｼｰﾄ!$A$3:$W$201,18))","v":""},{"$f":"IF($C35=\"\",\"\",VLOOKUP($C35,[2]男子ﾃﾞｰﾀ貼付ｼｰﾄ!$A$3:$W$201,16))","v":""},{"$f":"IF($C35=\"\",\"\",VLOOKUP($C35,[2]男子ﾃﾞｰﾀ貼付ｼｰﾄ!$A$3:$W$201,12))","v":""},{"$f":"IF($C35=\"\",\"\",VLOOKUP($C35,[2]男子ﾃﾞｰﾀ貼付ｼｰﾄ!$A$3:$W$201,9))","v":""}]
[29,null,null,{"$f":"IF($C36=\"\",\"\",VLOOKUP($C36,[2]男子ﾃﾞｰﾀ貼付ｼｰﾄ!$A$3:$W$201,5))","v":""},{"$f":"IF($C36=\"\",\"\",VLOOKUP($C36,[2]男子ﾃﾞｰﾀ貼付ｼｰﾄ!$A$3:$W$201,2))","v":""},{"$f":"IF($C36=\"\",\"\",VLOOKUP($C36,[2]男子ﾃﾞｰﾀ貼付ｼｰﾄ!$A$3:$W$201,3))","v":""},"男",{"$f":"IF($C36=\"\",\"\",VLOOKUP($C36,[2]男子ﾃﾞｰﾀ貼付ｼｰﾄ!$A$3:$W$201,22))","v":""},{"$f":"IF($C36=\"\",\"\",VLOOKUP($C36,[2]男子ﾃﾞｰﾀ貼付ｼｰﾄ!$A$3:$W$201,18))","v":""},{"$f":"IF($C36=\"\",\"\",VLOOKUP($C36,[2]男子ﾃﾞｰﾀ貼付ｼｰﾄ!$A$3:$W$201,16))","v":""},{"$f":"IF($C36=\"\",\"\",VLOOKUP($C36,[2]男子ﾃﾞｰﾀ貼付ｼｰﾄ!$A$3:$W$201,12))","v":""},{"$f":"IF($C36=\"\",\"\",VLOOKUP($C36,[2]男子ﾃﾞｰﾀ貼付ｼｰﾄ!$A$3:$W$201,9))","v":""}]
[30,null,null,{"$f":"IF($C37=\"\",\"\",VLOOKUP($C37,[2]男子ﾃﾞｰﾀ貼付ｼｰﾄ!$A$3:$W$201,5))","v":""},{"$f":"IF($C37=\"\",\"\",VLOOKUP($C37,[2]男子ﾃﾞｰﾀ貼付ｼｰﾄ!$A$3:$W$201,2))","v":""},{"$f":"IF($C37=\"\",\"\",VLOOKUP($C37,[2]男子ﾃﾞｰﾀ貼付ｼｰﾄ!$A$3:$W$201,3))","v":""},"男",{"$f":"IF($C37=\"\",\"\",VLOOKUP($C37,[2]男子ﾃﾞｰﾀ貼付ｼｰﾄ!$A$3:$W$201,22))","v":""},{"$f":"IF($C37=\"\",\"\",VLOOKUP($C37,[2]男子ﾃﾞｰﾀ貼付ｼｰﾄ!$A$3:$W$201,18))","v":""},{"$f":"IF($C37=\"\",\"\",VLOOKUP($C37,[2]男子ﾃﾞｰﾀ貼付ｼｰﾄ!$A$3:$W$201,16))","v":""},{"$f":"IF($C37=\"\",\"\",VLOOKUP($C37,[2]男子ﾃﾞｰﾀ貼付ｼｰﾄ!$A$3:$W$201,12))","v":""},{"$f":"IF($C37=\"\",\"\",VLOOKUP($C37,[2]男子ﾃﾞｰﾀ貼付ｼｰﾄ!$A$3:$W$201,9))","v":""}]
[31,null,null,{"$f":"IF($C38=\"\",\"\",VLOOKUP($C38,[2]男子ﾃﾞｰﾀ貼付ｼｰﾄ!$A$3:$W$201,5))","v":""},{"$f":"IF($C38=\"\",\"\",VLOOKUP($C38,[2]男子ﾃﾞｰﾀ貼付ｼｰﾄ!$A$3:$W$201,2))","v":""},{"$f":"IF($C38=\"\",\"\",VLOOKUP($C38,[2]男子ﾃﾞｰﾀ貼付ｼｰﾄ!$A$3:$W$201,3))","v":""},"男",{"$f":"IF($C38=\"\",\"\",VLOOKUP($C38,[2]男子ﾃﾞｰﾀ貼付ｼｰﾄ!$A$3:$W$201,22))","v":""},{"$f":"IF($C38=\"\",\"\",VLOOKUP($C38,[2]男子ﾃﾞｰﾀ貼付ｼｰﾄ!$A$3:$W$201,18))","v":""},{"$f":"IF($C38=\"\",\"\",VLOOKUP($C38,[2]男子ﾃﾞｰﾀ貼付ｼｰﾄ!$A$3:$W$201,16))","v":""},{"$f":"IF($C38=\"\",\"\",VLOOKUP($C38,[2]男子ﾃﾞｰﾀ貼付ｼｰﾄ!$A$3:$W$201,12))","v":""},{"$f":"IF($C38=\"\",\"\",VLOOKUP($C38,[2]男子ﾃﾞｰﾀ貼付ｼｰﾄ!$A$3:$W$201,9))","v":""}]
[32,null,null,{"$f":"IF($C39=\"\",\"\",VLOOKUP($C39,[2]男子ﾃﾞｰﾀ貼付ｼｰﾄ!$A$3:$W$201,5))","v":""},{"$f":"IF($C39=\"\",\"\",VLOOKUP($C39,[2]男子ﾃﾞｰﾀ貼付ｼｰﾄ!$A$3:$W$201,2))","v":""},{"$f":"IF($C39=\"\",\"\",VLOOKUP($C39,[2]男子ﾃﾞｰﾀ貼付ｼｰﾄ!$A$3:$W$201,3))","v":""},"男",{"$f":"IF($C39=\"\",\"\",VLOOKUP($C39,[2]男子ﾃﾞｰﾀ貼付ｼｰﾄ!$A$3:$W$201,22))","v":""},{"$f":"IF($C39=\"\",\"\",VLOOKUP($C39,[2]男子ﾃﾞｰﾀ貼付ｼｰﾄ!$A$3:$W$201,18))","v":""},{"$f":"IF($C39=\"\",\"\",VLOOKUP($C39,[2]男子ﾃﾞｰﾀ貼付ｼｰﾄ!$A$3:$W$201,16))","v":""},{"$f":"IF($C39=\"\",\"\",VLOOKUP($C39,[2]男子ﾃﾞｰﾀ貼付ｼｰﾄ!$A$3:$W$201,12))","v":""},{"$f":"IF($C39=\"\",\"\",VLOOKUP($C39,[2]男子ﾃﾞｰﾀ貼付ｼｰﾄ!$A$3:$W$201,9))","v":""}]
[33,null,null,{"$f":"IF($C40=\"\",\"\",VLOOKUP($C40,[2]男子ﾃﾞｰﾀ貼付ｼｰﾄ!$A$3:$W$201,5))","v":""},{"$f":"IF($C40=\"\",\"\",VLOOKUP($C40,[2]男子ﾃﾞｰﾀ貼付ｼｰﾄ!$A$3:$W$201,2))","v":""},{"$f":"IF($C40=\"\",\"\",VLOOKUP($C40,[2]男子ﾃﾞｰﾀ貼付ｼｰﾄ!$A$3:$W$201,3))","v":""},"男",{"$f":"IF($C40=\"\",\"\",VLOOKUP($C40,[2]男子ﾃﾞｰﾀ貼付ｼｰﾄ!$A$3:$W$201,22))","v":""},{"$f":"IF($C40=\"\",\"\",VLOOKUP($C40,[2]男子ﾃﾞｰﾀ貼付ｼｰﾄ!$A$3:$W$201,18))","v":""},{"$f":"IF($C40=\"\",\"\",VLOOKUP($C40,[2]男子ﾃﾞｰﾀ貼付ｼｰﾄ!$A$3:$W$201,16))","v":""},{"$f":"IF($C40=\"\",\"\",VLOOKUP($C40,[2]男子ﾃﾞｰﾀ貼付ｼｰﾄ!$A$3:$W$201,12))","v":""},{"$f":"IF($C40=\"\",\"\",VLOOKUP($C40,[2]男子ﾃﾞｰﾀ貼付ｼｰﾄ!$A$3:$W$201,9))","v":""}]
[34,null,null,{"$f":"IF($C41=\"\",\"\",VLOOKUP($C41,[2]男子ﾃﾞｰﾀ貼付ｼｰﾄ!$A$3:$W$201,5))","v":""},{"$f":"IF($C41=\"\",\"\",VLOOKUP($C41,[2]男子ﾃﾞｰﾀ貼付ｼｰﾄ!$A$3:$W$201,2))","v":""},{"$f":"IF($C41=\"\",\"\",VLOOKUP($C41,[2]男子ﾃﾞｰﾀ貼付ｼｰﾄ!$A$3:$W$201,3))","v":""},"男",{"$f":"IF($C41=\"\",\"\",VLOOKUP($C41,[2]男子ﾃﾞｰﾀ貼付ｼｰﾄ!$A$3:$W$201,22))","v":""},{"$f":"IF($C41=\"\",\"\",VLOOKUP($C41,[2]男子ﾃﾞｰﾀ貼付ｼｰﾄ!$A$3:$W$201,18))","v":""},{"$f":"IF($C41=\"\",\"\",VLOOKUP($C41,[2]男子ﾃﾞｰﾀ貼付ｼｰﾄ!$A$3:$W$201,16))","v":""},{"$f":"IF($C41=\"\",\"\",VLOOKUP($C41,[2]男子ﾃﾞｰﾀ貼付ｼｰﾄ!$A$3:$W$201,12))","v":""},{"$f":"IF($C41=\"\",\"\",VLOOKUP($C41,[2]男子ﾃﾞｰﾀ貼付ｼｰﾄ!$A$3:$W$201,9))","v":""}]
[35,null,null,{"$f":"IF($C42=\"\",\"\",VLOOKUP($C42,[2]男子ﾃﾞｰﾀ貼付ｼｰﾄ!$A$3:$W$201,5))","v":""},{"$f":"IF($C42=\"\",\"\",VLOOKUP($C42,[2]男子ﾃﾞｰﾀ貼付ｼｰﾄ!$A$3:$W$201,2))","v":""},{"$f":"IF($C42=\"\",\"\",VLOOKUP($C42,[2]男子ﾃﾞｰﾀ貼付ｼｰﾄ!$A$3:$W$201,3))","v":""},"男",{"$f":"IF($C42=\"\",\"\",VLOOKUP($C42,[2]男子ﾃﾞｰﾀ貼付ｼｰﾄ!$A$3:$W$201,22))","v":""},{"$f":"IF($C42=\"\",\"\",VLOOKUP($C42,[2]男子ﾃﾞｰﾀ貼付ｼｰﾄ!$A$3:$W$201,18))","v":""},{"$f":"IF($C42=\"\",\"\",VLOOKUP($C42,[2]男子ﾃﾞｰﾀ貼付ｼｰﾄ!$A$3:$W$201,16))","v":""},{"$f":"IF($C42=\"\",\"\",VLOOKUP($C42,[2]男子ﾃﾞｰﾀ貼付ｼｰﾄ!$A$3:$W$201,12))","v":""},{"$f":"IF($C42=\"\",\"\",VLOOKUP($C42,[2]男子ﾃﾞｰﾀ貼付ｼｰﾄ!$A$3:$W$201,9))","v":""}]
[36,null,null,{"$f":"IF($C43=\"\",\"\",VLOOKUP($C43,[2]男子ﾃﾞｰﾀ貼付ｼｰﾄ!$A$3:$W$201,5))","v":""},{"$f":"IF($C43=\"\",\"\",VLOOKUP($C43,[2]男子ﾃﾞｰﾀ貼付ｼｰﾄ!$A$3:$W$201,2))","v":""},{"$f":"IF($C43=\"\",\"\",VLOOKUP($C43,[2]男子ﾃﾞｰﾀ貼付ｼｰﾄ!$A$3:$W$201,3))","v":""},"男",{"$f":"IF($C43=\"\",\"\",VLOOKUP($C43,[2]男子ﾃﾞｰﾀ貼付ｼｰﾄ!$A$3:$W$201,22))","v":""},{"$f":"IF($C43=\"\",\"\",VLOOKUP($C43,[2]男子ﾃﾞｰﾀ貼付ｼｰﾄ!$A$3:$W$201,18))","v":""},{"$f":"IF($C43=\"\",\"\",VLOOKUP($C43,[2]男子ﾃﾞｰﾀ貼付ｼｰﾄ!$A$3:$W$201,16))","v":""},{"$f":"IF($C43=\"\",\"\",VLOOKUP($C43,[2]男子ﾃﾞｰﾀ貼付ｼｰﾄ!$A$3:$W$201,12))","v":""},{"$f":"IF($C43=\"\",\"\",VLOOKUP($C43,[2]男子ﾃﾞｰﾀ貼付ｼｰﾄ!$A$3:$W$201,9))","v":""}]
[37,null,null,{"$f":"IF($C44=\"\",\"\",VLOOKUP($C44,[2]男子ﾃﾞｰﾀ貼付ｼｰﾄ!$A$3:$W$201,5))","v":""},{"$f":"IF($C44=\"\",\"\",VLOOKUP($C44,[2]男子ﾃﾞｰﾀ貼付ｼｰﾄ!$A$3:$W$201,2))","v":""},{"$f":"IF($C44=\"\",\"\",VLOOKUP($C44,[2]男子ﾃﾞｰﾀ貼付ｼｰﾄ!$A$3:$W$201,3))","v":""},"男",{"$f":"IF($C44=\"\",\"\",VLOOKUP($C44,[2]男子ﾃﾞｰﾀ貼付ｼｰﾄ!$A$3:$W$201,22))","v":""},{"$f":"IF($C44=\"\",\"\",VLOOKUP($C44,[2]男子ﾃﾞｰﾀ貼付ｼｰﾄ!$A$3:$W$201,18))","v":""},{"$f":"IF($C44=\"\",\"\",VLOOKUP($C44,[2]男子ﾃﾞｰﾀ貼付ｼｰﾄ!$A$3:$W$201,16))","v":""},{"$f":"IF($C44=\"\",\"\",VLOOKUP($C44,[2]男子ﾃﾞｰﾀ貼付ｼｰﾄ!$A$3:$W$201,12))","v":""},{"$f":"IF($C44=\"\",\"\",VLOOKUP($C44,[2]男子ﾃﾞｰﾀ貼付ｼｰﾄ!$A$3:$W$201,9))","v":""}]
[38,null,null,{"$f":"IF($C45=\"\",\"\",VLOOKUP($C45,[2]男子ﾃﾞｰﾀ貼付ｼｰﾄ!$A$3:$W$201,5))","v":""},{"$f":"IF($C45=\"\",\"\",VLOOKUP($C45,[2]男子ﾃﾞｰﾀ貼付ｼｰﾄ!$A$3:$W$201,2))","v":""},{"$f":"IF($C45=\"\",\"\",VLOOKUP($C45,[2]男子ﾃﾞｰﾀ貼付ｼｰﾄ!$A$3:$W$201,3))","v":""},"男",{"$f":"IF($C45=\"\",\"\",VLOOKUP($C45,[2]男子ﾃﾞｰﾀ貼付ｼｰﾄ!$A$3:$W$201,22))","v":""},{"$f":"IF($C45=\"\",\"\",VLOOKUP($C45,[2]男子ﾃﾞｰﾀ貼付ｼｰﾄ!$A$3:$W$201,18))","v":""},{"$f":"IF($C45=\"\",\"\",VLOOKUP($C45,[2]男子ﾃﾞｰﾀ貼付ｼｰﾄ!$A$3:$W$201,16))","v":""},{"$f":"IF($C45=\"\",\"\",VLOOKUP($C45,[2]男子ﾃﾞｰﾀ貼付ｼｰﾄ!$A$3:$W$201,12))","v":""},{"$f":"IF($C45=\"\",\"\",VLOOKUP($C45,[2]男子ﾃﾞｰﾀ貼付ｼｰﾄ!$A$3:$W$201,9))","v":""}]
[39,null,null,{"$f":"IF($C46=\"\",\"\",VLOOKUP($C46,[2]男子ﾃﾞｰﾀ貼付ｼｰﾄ!$A$3:$W$201,5))","v":""},{"$f":"IF($C46=\"\",\"\",VLOOKUP($C46,[2]男子ﾃﾞｰﾀ貼付ｼｰﾄ!$A$3:$W$201,2))","v":""},{"$f":"IF($C46=\"\",\"\",VLOOKUP($C46,[2]男子ﾃﾞｰﾀ貼付ｼｰﾄ!$A$3:$W$201,3))","v":""},"男",{"$f":"IF($C46=\"\",\"\",VLOOKUP($C46,[2]男子ﾃﾞｰﾀ貼付ｼｰﾄ!$A$3:$W$201,22))","v":""},{"$f":"IF($C46=\"\",\"\",VLOOKUP($C46,[2]男子ﾃﾞｰﾀ貼付ｼｰﾄ!$A$3:$W$201,18))","v":""},{"$f":"IF($C46=\"\",\"\",VLOOKUP($C46,[2]男子ﾃﾞｰﾀ貼付ｼｰﾄ!$A$3:$W$201,16))","v":""},{"$f":"IF($C46=\"\",\"\",VLOOKUP($C46,[2]男子ﾃﾞｰﾀ貼付ｼｰﾄ!$A$3:$W$201,12))","v":""},{"$f":"IF($C46=\"\",\"\",VLOOKUP($C46,[2]男子ﾃﾞｰﾀ貼付ｼｰﾄ!$A$3:$W$201,9))","v":""}]
[40,null,null,{"$f":"IF($C47=\"\",\"\",VLOOKUP($C47,[2]男子ﾃﾞｰﾀ貼付ｼｰﾄ!$A$3:$W$201,5))","v":""},{"$f":"IF($C47=\"\",\"\",VLOOKUP($C47,[2]男子ﾃﾞｰﾀ貼付ｼｰﾄ!$A$3:$W$201,2))","v":""},{"$f":"IF($C47=\"\",\"\",VLOOKUP($C47,[2]男子ﾃﾞｰﾀ貼付ｼｰﾄ!$A$3:$W$201,3))","v":""},"男",{"$f":"IF($C47=\"\",\"\",VLOOKUP($C47,[2]男子ﾃﾞｰﾀ貼付ｼｰﾄ!$A$3:$W$201,22))","v":""},{"$f":"IF($C47=\"\",\"\",VLOOKUP($C47,[2]男子ﾃﾞｰﾀ貼付ｼｰﾄ!$A$3:$W$201,18))","v":""},{"$f":"IF($C47=\"\",\"\",VLOOKUP($C47,[2]男子ﾃﾞｰﾀ貼付ｼｰﾄ!$A$3:$W$201,16))","v":""},{"$f":"IF($C47=\"\",\"\",VLOOKUP($C47,[2]男子ﾃﾞｰﾀ貼付ｼｰﾄ!$A$3:$W$201,12))","v":""},{"$f":"IF($C47=\"\",\"\",VLOOKUP($C47,[2]男子ﾃﾞｰﾀ貼付ｼｰﾄ!$A$3:$W$201,9))","v":""}]
[]
["※記入方法について",null,null,null,null,null,null,"※ＩＤカードの発行枚数について",null,null,null,"一般",2000,null,"（種目）",null,{"$f":"N49*M49","v":0}]
["１．ナンバーの県欄には、各県登録ナンバーを入力する。"]
["　　北ナンバーは、各県陸協で割り振るので入力しない。",null,null,null,null,null,null,null,"監督・コーチ(ﾏﾈｰｼﾞｬｰ含む)について",null,null,"高校生",1500,null,"（種目）",null,{"$f":"N51*M51","v":0}]
["２．自己最高記録は2020.1.1～大会申込締切までの最高記録を記入",null,null,null,null,null,null,null,"以下のように配布します。"]
[null," 標準記録突破者は、この欄に記入する。",null,null,null,null,null,null,null,null,null,"中学生",1000,null,"（種目）",null,{"$f":"N53*M53","v":0}]
["３．種目の年、月は記録を出した年を西暦下二けた(20or21)と月の４桁で記入",null,null,null,null,null,null,null,"参加選手数","発行枚数"]
["４．不足する場合は、27行と48行の間の行を再表示してください。",null,null,null,null,null,null,null,"１～２名","２枚",null,"混成",3000,null,"（種目）",null,{"$f":"N55*M55","v":0}]
["　　それでも足りない場合は、行をコピーして挿入してください。",null,null,null,null,null,null,null,"３～６名","３枚",null,"　"]
["５．申込書記入例を参考に種目等を記入してください。","個人情報保護について",null,null,null,null,null,null,"７～１５名","４枚",null,"リレー",3000,null,"（種目）",null,{"$f":"N57*M57","v":0}]
["※","ここに書かれている内容については本大会の運営だけに利用し、",null,null,null,null,null,null,"１６名～","５枚"]
[null,"その他、外部への情報供与は一切行いません。",null,null,null,null,null,null,null,null,null,null,null,null,null,"合計",{"$f":"Q49+Q51+Q53+Q55+Q57","v":0}]
[]
[null,"所属団体",null,null,null,null,null,null,null,null,null,null,"記載責任者（携帯電話番号）"]
[null,null,null,null,null,null,null,null,null,null,null,null,"氏名"]
[null,null,null,null,null,null,null,null,null,null,null,null,"（",null,null,null,null,"）"]
[null,"住所","〒"]
[null,null,null,null,null,null,null,null,null,null,null,null,"学校の場合は、学校長出場承認印"]
[null,"電話"]
[null,"FAX",null,null,null,null,null,null,null,null,null,null,null,null,null,null,null,"印"]

{"sheet":"女子ﾃﾞｰﾀ貼付ｼｰﾄ","index":3,"n_rows":201,"n_cols":24,"rows_kept":201,"cut":false,"hidden":false,"merged":[[1,0,1,2]]}
[]
["↓この3列には貼り付けないで！↓",null,null,"JAAF ID","会員名","会員名\nカナ","会員名\n英字(姓)","会員名\n英字(名)","国籍","性\n別","登録都道\n府県コード","登録都道\n府県名","団体ID","団体名","団体名\nカナ","団体名\n略称","団体名\n略称カナ","生年月日","都道府県(学連)登録番号","旧団体\nコード","備考","学年","団体\n区分","陸連団体"]
[{"$f":"IF(S3=\"\",\"\",S3)","v":""},{"$f":"IF(F3=\"\",\"\",ASC(F3))","v":""},{"$f":"IF(G3=\"\",\"\",G3&\" \"&H3)","v":""}]
["","",""]
["","",""]
["","",""]
["","",""]
["","",""]
["","",""]
["","",""]
["","",""]
["","",""]
["","",""]
["","",""]
["","",""]
["","",""]
["","",""]
["","",""]
["","",""]
["","",""]
["","",""]
["","",""]
["","",""]
["","",""]
["","",""]
["","",""]
["","",""]
["","",""]
["","",""]
["","",""]
["","",""]
["","",""]
["","",""]
["","",""]
[{"$f":"IF(S35=\"\",\"\",S35)","v":""},{"$f":"IF(F35=\"\",\"\",ASC(F35))","v":""},{"$f":"IF(G35=\"\",\"\",G35&\" \"&H35)","v":""}]
["","",""]
["","",""]
["","",""]
["","",""]
["","",""]
["","",""]
["","",""]
["","",""]
["","",""]
["","",""]
["","",""]
["","",""]
["","",""]
["","",""]
["","",""]
["","",""]
["","",""]
["","",""]
["","",""]
["","",""]
["","",""]
["","",""]
["","",""]
["","",""]
["","",""]
["","",""]
["","",""]
["","",""]
["","",""]
["","",""]
["","",""]
[{"$f":"IF(S67=\"\",\"\",S67)","v":""},{"$f":"IF(F67=\"\",\"\",ASC(F67))","v":""},{"$f":"IF(G67=\"\",\"\",G67&\" \"&H67)","v":""}]
["","",""]
["","",""]
["","",""]
["","",""]
["","",""]
["","",""]
["","",""]
["","",""]
["","",""]
["","",""]
["","",""]
["","",""]
["","",""]
["","",""]
["","",""]
["","",""]
["","",""]
["","",""]
["","",""]
["","",""]
["","",""]
["","",""]
["","",""]
["","",""]
["","",""]
["","",""]
["","",""]
["","",""]
["","",""]
["","",""]
["","",""]
[{"$f":"IF(S99=\"\",\"\",S99)","v":""},{"$f":"IF(F99=\"\",\"\",ASC(F99))","v":""},{"$f":"IF(G99=\"\",\"\",G99&\" \"&H99)","v":""}]
["","",""]
["","",""]
["","",""]
["","",""]
["","",""]
["","",""]
["","",""]
["","",""]
["","",""]
["","",""]
["","",""]
["","",""]
["","",""]
["","",""]
["","",""]
["","",""]
["","",""]
["","",""]
["","",""]
["","",""]
["","",""]
["","",""]
["","",""]
["","",""]
["","",""]
["","",""]
["","",""]
["","",""]
["","",""]
["","",""]
["","",""]
[{"$f":"IF(S131=\"\",\"\",S131)","v":""},{"$f":"IF(F131=\"\",\"\",ASC(F131))","v":""},{"$f":"IF(G131=\"\",\"\",G131&\" \"&H131)","v":""}]
["","",""]
["","",""]
["","",""]
["","",""]
["","",""]
["","",""]
["","",""]
["","",""]
["","",""]
["","",""]
["","",""]
["","",""]
["","",""]
["","",""]
["","",""]
["","",""]
["","",""]
["","",""]
["","",""]
["","",""]
["","",""]
["","",""]
["","",""]
["","",""]
["","",""]
["","",""]
["","",""]
["","",""]
["","",""]
["","",""]
["","",""]
[{"$f":"IF(S163=\"\",\"\",S163)","v":""},{"$f":"IF(F163=\"\",\"\",ASC(F163))","v":""},{"$f":"IF(G163=\"\",\"\",G163&\" \"&H163)","v":""}]
["","",""]
["","",""]
["","",""]
["","",""]
["","",""]
["","",""]
["","",""]
["","",""]
["","",""]
["","",""]
["","",""]
["","",""]
["","",""]
["","",""]
["","",""]
["","",""]
["","",""]
["","",""]
["","",""]
["","",""]
["","",""]
["","",""]
["","",""]
["","",""]
["","",""]
["","",""]
["","",""]
["","",""]
["","",""]
["","",""]
["","",""]
[{"$f":"IF(S195=\"\",\"\",S195)","v":""},{"$f":"IF(F195=\"\",\"\",ASC(F195))","v":""},{"$f":"IF(G195=\"\",\"\",G195&\" \"&H195)","v":""}]
["","",""]
["","",""]
["","",""]
["","",""]
["","",""]
["","",""]

{"sheet":"【様式1-2】女子団体（個人）申込書 ","index":4,"n_rows":68,"n_cols":22,"rows_kept":68,"cut":false,"hidden":false,"merged":[[5,0,6,0],[5,1,5,2],[5,3,6,3],[5,4,6,4],[5,5,6,5],[5,21,6,21],[0,20,0,21],[1,5,1,12],[1,15,1,17],[3,5,3,12],[5,6,6,6],[67,3,67,8],[5,7,6,7],[5,9,6,9],[5,11,6,11],[5,12,5,15],[61,13,61,16],[62,13,62,16],[64,3,64,4],[65,3,65,8],[66,3,66,8],[5,16,5,20]]}
[null,null,null,null,null,null,null,null,null,null,null,null,null,null,null,null,null,null,null,null,"【様式1-2】"]
[null,null,null,"大会名",null,"第６５回北陸地域陸上競技選手権大会",null,null,null,null,null,null,null,null,null,"参加申込一覧表（　女子　）"]
[]
[null,null,null,"所属学校・団体名 ",null,null,null,null,null,null,null,null,null,{"$f":"IF(F4=\"\",\"\",[2]女子ﾃﾞｰﾀ貼付ｼｰﾄ!T3)","v":""}]
[]
[null,"ﾅﾝﾊﾞｰ",null,"氏　名","ﾌﾘｶﾞﾅ\n(半角ｶﾀｶﾅ)","ｱﾙﾌｧﾍﾞｯﾄ表記","性別","学年","生年月日","所属","登録","国籍","各県選手権決勝の記録・順位",null,null,null,"有効期間内の自己最高記録（標準突破記録の記載を含む）",null,null,null,null,"備考"]
[null,"北","県",null,null,null,null,null,"西暦8桁の数字",null,"都道府県",null,"種目","記録","順位","年月(4桁)","記録","順位","年月(4桁)","大会名","場所"]
[1,null,null,{"$f":"IF($C8=\"\",\"\",VLOOKUP($C8,女子ﾃﾞｰﾀ貼付ｼｰﾄ!$A$3:$W$201,5))","v":""},{"$f":"IF($C8=\"\",\"\",VLOOKUP($C8,女子ﾃﾞｰﾀ貼付ｼｰﾄ!$A$3:$W$201,2))","v":""},{"$f":"IF($C8=\"\",\"\",VLOOKUP($C8,女子ﾃﾞｰﾀ貼付ｼｰﾄ!$A$3:$W$201,3))","v":""},"女",{"$f":"IF($C8=\"\",\"\",VLOOKUP($C8,女子ﾃﾞｰﾀ貼付ｼｰﾄ!$A$3:$W$201,22))","v":""},{"$f":"IF($C8=\"\",\"\",VLOOKUP($C8,女子ﾃﾞｰﾀ貼付ｼｰﾄ!$A$3:$W$201,18))","v":""},{"$f":"IF($C8=\"\",\"\",VLOOKUP($C8,女子ﾃﾞｰﾀ貼付ｼｰﾄ!$A$3:$W$201,16))","v":""},{"$f":"IF($C8=\"\",\"\",VLOOKUP($C8,女子ﾃﾞｰﾀ貼付ｼｰﾄ!$A$3:$W$201,12))","v":""},{"$f":"IF($C8=\"\",\"\",VLOOKUP($C8,女子ﾃﾞｰﾀ貼付ｼｰﾄ!$A$3:$W$201,9))","v":""}]
[2,null,null,{"$f":"IF($C9=\"\",\"\",VLOOKUP($C9,女子ﾃﾞｰﾀ貼付ｼｰﾄ!$A$3:$W$201,5))","v":""},{"$f":"IF($C9=\"\",\"\",VLOOKUP($C9,女子ﾃﾞｰﾀ貼付ｼｰﾄ!$A$3:$W$201,2))","v":""},{"$f":"IF($C9=\"\",\"\",VLOOKUP($C9,女子ﾃﾞｰﾀ貼付ｼｰﾄ!$A$3:$W$201,3))","v":""},"女",{"$f":"IF($C9=\"\",\"\",VLOOKUP($C9,女子ﾃﾞｰﾀ貼付ｼｰﾄ!$A$3:$W$201,22))","v":""},{"$f":"IF($C9=\"\",\"\",VLOOKUP($C9,女子ﾃﾞｰﾀ貼付ｼｰﾄ!$A$3:$W$201,18))","v":""},{"$f":"IF($C9=\"\",\"\",VLOOKUP($C9,女子ﾃﾞｰﾀ貼付ｼｰﾄ!$A$3:$W$201,16))","v":""},{"$f":"IF($C9=\"\",\"\",VLOOKUP($C9,女子ﾃﾞｰﾀ貼付ｼｰﾄ!$A$3:$W$201,12))","v":""},{"$f":"IF($C9=\"\",\"\",VLOOKUP($C9,女子ﾃﾞｰﾀ貼付ｼｰﾄ!$A$3:$W$201,9))","v":""}]
[3,null,null,{"$f":"IF($C10=\"\",\"\",VLOOKUP($C10,女子ﾃﾞｰﾀ貼付ｼｰﾄ!$A$3:$W$201,5))","v":""},{"$f":"IF($C10=\"\",\"\",VLOOKUP($C10,女子ﾃﾞｰﾀ貼付ｼｰﾄ!$A$3:$W$201,2))","v":""},{"$f":"IF($C10=\"\",\"\",VLOOKUP($C10,女子ﾃﾞｰﾀ貼付ｼｰﾄ!$A$3:$W$201,3))","v":""},"女",{"$f":"IF($C10=\"\",\"\",VLOOKUP($C10,女子ﾃﾞｰﾀ貼付ｼｰﾄ!$A$3:$W$201,22))","v":""},{"$f":"IF($C10=\"\",\"\",VLOOKUP($C10,女子ﾃﾞｰﾀ貼付ｼｰﾄ!$A$3:$W$201,18))","v":""},{"$f":"IF($C10=\"\",\"\",VLOOKUP($C10,女子ﾃﾞｰﾀ貼付ｼｰﾄ!$A$3:$W$201,16))","v":""},{"$f":"IF($C10=\"\",\"\",VLOOKUP($C10,女子ﾃﾞｰﾀ貼付ｼｰﾄ!$A$3:$W$201,12))","v":""},{"$f":"IF($C10=\"\",\"\",VLOOKUP($C10,女子ﾃﾞｰﾀ貼付ｼｰﾄ!$A$3:$W$201,9))","v":""}]
[4,null,null,{"$f":"IF($C11=\"\",\"\",VLOOKUP($C11,女子ﾃﾞｰﾀ貼付ｼｰﾄ!$A$3:$W$201,5))","v":""},{"$f":"IF($C11=\"\",\"\",VLOOKUP($C11,女子ﾃﾞｰﾀ貼付ｼｰﾄ!$A$3:$W$201,2))","v":""},{"$f":"IF($C11=\"\",\"\",VLOOKUP($C11,女子ﾃﾞｰﾀ貼付ｼｰﾄ!$A$3:$W$201,3))","v":""},"女",{"$f":"IF($C11=\"\",\"\",VLOOKUP($C11,女子ﾃﾞｰﾀ貼付ｼｰﾄ!$A$3:$W$201,22))","v":""},{"$f":"IF($C11=\"\",\"\",VLOOKUP($C11,女子ﾃﾞｰﾀ貼付ｼｰﾄ!$A$3:$W$201,18))","v":""},{"$f":"IF($C11=\"\",\"\",VLOOKUP($C11,女子ﾃﾞｰﾀ貼付ｼｰﾄ!$A$3:$W$201,16))","v":""},{"$f":"IF($C11=\"\",\"\",VLOOKUP($C11,女子ﾃﾞｰﾀ貼付ｼｰﾄ!$A$3:$W$201,12))","v":""},{"$f":"IF($C11=\"\",\"\",VLOOKUP($C11,女子ﾃﾞｰﾀ貼付ｼｰﾄ!$A$3:$W$201,9))","v":""}]
[5,null,null,{"$f":"IF($C12=\"\",\"\",VLOOKUP($C12,女子ﾃﾞｰﾀ貼付ｼｰﾄ!$A$3:$W$201,5))","v":""},{"$f":"IF($C12=\"\",\"\",VLOOKUP($C12,女子ﾃﾞｰﾀ貼付ｼｰﾄ!$A$3:$W$201,2))","v":""},{"$f":"IF($C12=\"\",\"\",VLOOKUP($C12,女子ﾃﾞｰﾀ貼付ｼｰﾄ!$A$3:$W$201,3))","v":""},"女",{"$f":"IF($C12=\"\",\"\",VLOOKUP($C12,女子ﾃﾞｰﾀ貼付ｼｰﾄ!$A$3:$W$201,22))","v":""},{"$f":"IF($C12=\"\",\"\",VLOOKUP($C12,女子ﾃﾞｰﾀ貼付ｼｰﾄ!$A$3:$W$201,18))","v":""},{"$f":"IF($C12=\"\",\"\",VLOOKUP($C12,女子ﾃﾞｰﾀ貼付ｼｰﾄ!$A$3:$W$201,16))","v":""},{"$f":"IF($C12=\"\",\"\",VLOOKUP($C12,女子ﾃﾞｰﾀ貼付ｼｰﾄ!$A$3:$W$201,12))","v":""},{"$f":"IF($C12=\"\",\"\",VLOOKUP($C12,女子ﾃﾞｰﾀ貼付ｼｰﾄ!$A$3:$W$201,9))","v":""}]
[6,null,null,{"$f":"IF($C13=\"\",\"\",VLOOKUP($C13,女子ﾃﾞｰﾀ貼付ｼｰﾄ!$A$3:$W$201,5))","v":""},{"$f":"IF($C13=\"\",\"\",VLOOKUP($C13,女子ﾃﾞｰﾀ貼付ｼｰﾄ!$A$3:$W$201,2))","v":""},{"$f":"IF($C13=\"\",\"\",VLOOKUP($C13,女子ﾃﾞｰﾀ貼付ｼｰﾄ!$A$3:$W$201,3))","v":""},"女",{"$f":"IF($C13=\"\",\"\",VLOOKUP($C13,女子ﾃﾞｰﾀ貼付ｼｰﾄ!$A$3:$W$201,22))","v":""},{"$f":"IF($C13=\"\",\"\",VLOOKUP($C13,女子ﾃﾞｰﾀ貼付ｼｰﾄ!$A$3:$W$201,18))","v":""},{"$f":"IF($C13=\"\",\"\",VLOOKUP($C13,女子ﾃﾞｰﾀ貼付ｼｰﾄ!$A$3:$W$201,16))","v":""},{"$f":"IF($C13=\"\",\"\",VLOOKUP($C13,女子ﾃﾞｰﾀ貼付ｼｰﾄ!$A$3:$W$201,12))","v":""},{"$f":"IF($C13=\"\",\"\",VLOOKUP($C13,女子ﾃﾞｰﾀ貼付ｼｰﾄ!$A$3:$W$201,9))","v":""}]
[7,null,null,{"$f":"IF($C14=\"\",\"\",VLOOKUP($C14,女子ﾃﾞｰﾀ貼付ｼｰﾄ!$A$3:$W$201,5))","v":""},{"$f":"IF($C14=\"\",\"\",VLOOKUP($C14,女子ﾃﾞｰﾀ貼付ｼｰﾄ!$A$3:$W$201,2))","v":""},{"$f":"IF($C14=\"\",\"\",VLOOKUP($C14,女子ﾃﾞｰﾀ貼付ｼｰﾄ!$A$3:$W$201,3))","v":""},"女",{"$f":"IF($C14=\"\",\"\",VLOOKUP($C14,女子ﾃﾞｰﾀ貼付ｼｰﾄ!$A$3:$W$201,22))","v":""},{"$f":"IF($C14=\"\",\"\",VLOOKUP($C14,女子ﾃﾞｰﾀ貼付ｼｰﾄ!$A$3:$W$201,18))","v":""},{"$f":"IF($C14=\"\",\"\",VLOOKUP($C14,女子ﾃﾞｰﾀ貼付ｼｰﾄ!$A$3:$W$201,16))","v":""},{"$f":"IF($C14=\"\",\"\",VLOOKUP($C14,女子ﾃﾞｰﾀ貼付ｼｰﾄ!$A$3:$W$201,12))","v":""},{"$f":"IF($C14=\"\",\"\",VLOOKUP($C14,女子ﾃﾞｰﾀ貼付ｼｰﾄ!$A$3:$W$201,9))","v":""}]
[8,null,null,{"$f":"IF($C15=\"\",\"\",VLOOKUP($C15,女子ﾃﾞｰﾀ貼付ｼｰﾄ!$A$3:$W$201,5))","v":""},{"$f":"IF($C15=\"\",\"\",VLOOKUP($C15,女子ﾃﾞｰﾀ貼付ｼｰﾄ!$A$3:$W$201,2))","v":""},{"$f":"IF($C15=\"\",\"\",VLOOKUP($C15,女子ﾃﾞｰﾀ貼付ｼｰﾄ!$A$3:$W$201,3))","v":""},"女",{"$f":"IF($C15=\"\",\"\",VLOOKUP($C15,女子ﾃﾞｰﾀ貼付ｼｰﾄ!$A$3:$W$201,22))","v":""},{"$f":"IF($C15=\"\",\"\",VLOOKUP($C15,女子ﾃﾞｰﾀ貼付ｼｰﾄ!$A$3:$W$201,18))","v":""},{"$f":"IF($C15=\"\",\"\",VLOOKUP($C15,女子ﾃﾞｰﾀ貼付ｼｰﾄ!$A$3:$W$201,16))","v":""},{"$f":"IF($C15=\"\",\"\",VLOOKUP($C15,女子ﾃﾞｰﾀ貼付ｼｰﾄ!$A$3:$W$201,12))","v":""},{"$f":"IF($C15=\"\",\"\",VLOOKUP($C15,女子ﾃﾞｰﾀ貼付ｼｰﾄ!$A$3:$W$201,9))","v":""}]
[9,null,null,{"$f":"IF($C16=\"\",\"\",VLOOKUP($C16,女子ﾃﾞｰﾀ貼付ｼｰﾄ!$A$3:$W$201,5))","v":""},{"$f":"IF($C16=\"\",\"\",VLOOKUP($C16,女子ﾃﾞｰﾀ貼付ｼｰﾄ!$A$3:$W$201,2))","v":""},{"$f":"IF($C16=\"\",\"\",VLOOKUP($C16,女子ﾃﾞｰﾀ貼付ｼｰﾄ!$A$3:$W$201,3))","v":""},"女",{"$f":"IF($C16=\"\",\"\",VLOOKUP($C16,女子ﾃﾞｰﾀ貼付ｼｰﾄ!$A$3:$W$201,22))","v":""},{"$f":"IF($C16=\"\",\"\",VLOOKUP($C16,女子ﾃﾞｰﾀ貼付ｼｰﾄ!$A$3:$W$201,18))","v":""},{"$f":"IF($C16=\"\",\"\",VLOOKUP($C16,女子ﾃﾞｰﾀ貼付ｼｰﾄ!$A$3:$W$201,16))","v":""},{"$f":"IF($C16=\"\",\"\",VLOOKUP($C16,女子ﾃﾞｰﾀ貼付ｼｰﾄ!$A$3:$W$201,12))","v":""},{"$f":"IF($C16=\"\",\"\",VLOOKUP($C16,女子ﾃﾞｰﾀ貼付ｼｰﾄ!$A$3:$W$201,9))","v":""}]
[10,null,null,{"$f":"IF($C17=\"\",\"\",VLOOKUP($C17,女子ﾃﾞｰﾀ貼付ｼｰﾄ!$A$3:$W$201,5))","v":""},{"$f":"IF($C17=\"\",\"\",VLOOKUP($C17,女子ﾃﾞｰﾀ貼付ｼｰﾄ!$A$3:$W$201,2))","v":""},{"$f":"IF($C17=\"\",\"\",VLOOKUP($C17,女子ﾃﾞｰﾀ貼付ｼｰﾄ!$A$3:$W$201,3))","v":""},"女",{"$f":"IF($C17=\"\",\"\",VLOOKUP($C17,女子ﾃﾞｰﾀ貼付ｼｰﾄ!$A$3:$W$201,22))","v":""},{"$f":"IF($C17=\"\",\"\",VLOOKUP($C17,女子ﾃﾞｰﾀ貼付ｼｰﾄ!$A$3:$W$201,18))","v":""},{"$f":"IF($C17=\"\",\"\",VLOOKUP($C17,女子ﾃﾞｰﾀ貼付ｼｰﾄ!$A$3:$W$201,16))","v":""},{"$f":"IF($C17=\"\",\"\",VLOOKUP($C17,女子ﾃﾞｰﾀ貼付ｼｰﾄ!$A$3:$W$201,12))","v":""},{"$f":"IF($C17=\"\",\"\",VLOOKUP($C17,女子ﾃﾞｰﾀ貼付ｼｰﾄ!$A$3:$W$201,9))","v":""}]
[11,null,null,{"$f":"IF($C18=\"\",\"\",VLOOKUP($C18,女子ﾃﾞｰﾀ貼付ｼｰﾄ!$A$3:$W$201,5))","v":""},{"$f":"IF($C18=\"\",\"\",VLOOKUP($C18,女子ﾃﾞｰﾀ貼付ｼｰﾄ!$A$3:$W$201,2))","v":""},{"$f":"IF($C18=\"\",\"\",VLOOKUP($C18,女子ﾃﾞｰﾀ貼付ｼｰﾄ!$A$3:$W$201,3))","v":""},"女",{"$f":"IF($C18=\"\",\"\",VLOOKUP($C18,女子ﾃﾞｰﾀ貼付ｼｰﾄ!$A$3:$W$201,22))","v":""},{"$f":"IF($C18=\"\",\"\",VLOOKUP($C18,女子ﾃﾞｰﾀ貼付ｼｰﾄ!$A$3:$W$201,18))","v":""},{"$f":"IF($C18=\"\",\"\",VLOOKUP($C18,女子ﾃﾞｰﾀ貼付ｼｰﾄ!$A$3:$W$201,16))","v":""},{"$f":"IF($C18=\"\",\"\",VLOOKUP($C18,女子ﾃﾞｰﾀ貼付ｼｰﾄ!$A$3:$W$201,12))","v":""},{"$f":"IF($C18=\"\",\"\",VLOOKUP($C18,女子ﾃﾞｰﾀ貼付ｼｰﾄ!$A$3:$W$201,9))","v":""}]
[12,null,null,{"$f":"IF($C19=\"\",\"\",VLOOKUP($C19,女子ﾃﾞｰﾀ貼付ｼｰﾄ!$A$3:$W$201,5))","v":""},{"$f":"IF($C19=\"\",\"\",VLOOKUP($C19,女子ﾃﾞｰﾀ貼付ｼｰﾄ!$A$3:$W$201,2))","v":""},{"$f":"IF($C19=\"\",\"\",VLOOKUP($C19,女子ﾃﾞｰﾀ貼付ｼｰﾄ!$A$3:$W$201,3))","v":""},"女",{"$f":"IF($C19=\"\",\"\",VLOOKUP($C19,女子ﾃﾞｰﾀ貼付ｼｰﾄ!$A$3:$W$201,22))","v":""},{"$f":"IF($C19=\"\",\"\",VLOOKUP($C19,女子ﾃﾞｰﾀ貼付ｼｰﾄ!$A$3:$W$201,18))","v":""},{"$f":"IF($C19=\"\",\"\",VLOOKUP($C19,女子ﾃﾞｰﾀ貼付ｼｰﾄ!$A$3:$W$201,16))","v":""},{"$f":"IF($C19=\"\",\"\",VLOOKUP($C19,女子ﾃﾞｰﾀ貼付ｼｰﾄ!$A$3:$W$201,12))","v":""},{"$f":"IF($C19=\"\",\"\",VLOOKUP($C19,女子ﾃﾞｰﾀ貼付ｼｰﾄ!$A$3:$W$201,9))","v":""}]
[13,null,null,{"$f":"IF($C20=\"\",\"\",VLOOKUP($C20,女子ﾃﾞｰﾀ貼付ｼｰﾄ!$A$3:$W$201,5))","v":""},{"$f":"IF($C20=\"\",\"\",VLOOKUP($C20,女子ﾃﾞｰﾀ貼付ｼｰﾄ!$A$3:$W$201,2))","v":""},{"$f":"IF($C20=\"\",\"\",VLOOKUP($C20,女子ﾃﾞｰﾀ貼付ｼｰﾄ!$A$3:$W$201,3))","v":""},"女",{"$f":"IF($C20=\"\",\"\",VLOOKUP($C20,女子ﾃﾞｰﾀ貼付ｼｰﾄ!$A$3:$W$201,22))","v":""},{"$f":"IF($C20=\"\",\"\",VLOOKUP($C20,女子ﾃﾞｰﾀ貼付ｼｰﾄ!$A$3:$W$201,18))","v":""},{"$f":"IF($C20=\"\",\"\",VLOOKUP($C20,女子ﾃﾞｰﾀ貼付ｼｰﾄ!$A$3:$W$201,16))","v":""},{"$f":"IF($C20=\"\",\"\",VLOOKUP($C20,女子ﾃﾞｰﾀ貼付ｼｰﾄ!$A$3:$W$201,12))","v":""},{"$f":"IF($C20=\"\",\"\",VLOOKUP($C20,女子ﾃﾞｰﾀ貼付ｼｰﾄ!$A$3:$W$201,9))","v":""}]
[14,null,null,{"$f":"IF($C21=\"\",\"\",VLOOKUP($C21,女子ﾃﾞｰﾀ貼付ｼｰﾄ!$A$3:$W$201,5))","v":""},{"$f":"IF($C21=\"\",\"\",VLOOKUP($C21,女子ﾃﾞｰﾀ貼付ｼｰﾄ!$A$3:$W$201,2))","v":""},{"$f":"IF($C21=\"\",\"\",VLOOKUP($C21,女子ﾃﾞｰﾀ貼付ｼｰﾄ!$A$3:$W$201,3))","v":""},"女",{"$f":"IF($C21=\"\",\"\",VLOOKUP($C21,女子ﾃﾞｰﾀ貼付ｼｰﾄ!$A$3:$W$201,22))","v":""},{"$f":"IF($C21=\"\",\"\",VLOOKUP($C21,女子ﾃﾞｰﾀ貼付ｼｰﾄ!$A$3:$W$201,18))","v":""},{"$f":"IF($C21=\"\",\"\",VLOOKUP($C21,女子ﾃﾞｰﾀ貼付ｼｰﾄ!$A$3:$W$201,16))","v":""},{"$f":"IF($C21=\"\",\"\",VLOOKUP($C21,女子ﾃﾞｰﾀ貼付ｼｰﾄ!$A$3:$W$201,12))","v":""},{"$f":"IF($C21=\"\",\"\",VLOOKUP($C21,女子ﾃﾞｰﾀ貼付ｼｰﾄ!$A$3:$W$201,9))","v":""}]
[15,null,null,{"$f":"IF($C22=\"\",\"\",VLOOKUP($C22,女子ﾃﾞｰﾀ貼付ｼｰﾄ!$A$3:$W$201,5))","v":""},{"$f":"IF($C22=\"\",\"\",VLOOKUP($C22,女子ﾃﾞｰﾀ貼付ｼｰﾄ!$A$3:$W$201,2))","v":""},{"$f":"IF($C22=\"\",\"\",VLOOKUP($C22,女子ﾃﾞｰﾀ貼付ｼｰﾄ!$A$3:$W$201,3))","v":""},"女",{"$f":"IF($C22=\"\",\"\",VLOOKUP($C22,女子ﾃﾞｰﾀ貼付ｼｰﾄ!$A$3:$W$201,22))","v":""},{"$f":"IF($C22=\"\",\"\",VLOOKUP($C22,女子ﾃﾞｰﾀ貼付ｼｰﾄ!$A$3:$W$201,18))","v":""},{"$f":"IF($C22=\"\",\"\",VLOOKUP($C22,女子ﾃﾞｰﾀ貼付ｼｰﾄ!$A$3:$W$201,16))","v":""},{"$f":"IF($C22=\"\",\"\",VLOOKUP($C22,女子ﾃﾞｰﾀ貼付ｼｰﾄ!$A$3:$W$201,12))","v":""},{"$f":"IF($C22=\"\",\"\",VLOOKUP($C22,女子ﾃﾞｰﾀ貼付ｼｰﾄ!$A$3:$W$201,9))","v":""}]
[16,null,null,{"$f":"IF($C23=\"\",\"\",VLOOKUP($C23,女子ﾃﾞｰﾀ貼付ｼｰﾄ!$A$3:$W$201,5))","v":""},{"$f":"IF($C23=\"\",\"\",VLOOKUP($C23,女子ﾃﾞｰﾀ貼付ｼｰﾄ!$A$3:$W$201,2))","v":""},{"$f":"IF($C23=\"\",\"\",VLOOKUP($C23,女子ﾃﾞｰﾀ貼付ｼｰﾄ!$A$3:$W$201,3))","v":""},"女",{"$f":"IF($C23=\"\",\"\",VLOOKUP($C23,女子ﾃﾞｰﾀ貼付ｼｰﾄ!$A$3:$W$201,22))","v":""},{"$f":"IF($C23=\"\",\"\",VLOOKUP($C23,女子ﾃﾞｰﾀ貼付ｼｰﾄ!$A$3:$W$201,18))","v":""},{"$f":"IF($C23=\"\",\"\",VLOOKUP($C23,女子ﾃﾞｰﾀ貼付ｼｰﾄ!$A$3:$W$201,16))","v":""},{"$f":"IF($C23=\"\",\"\",VLOOKUP($C23,女子ﾃﾞｰﾀ貼付ｼｰﾄ!$A$3:$W$201,12))","v":""},{"$f":"IF($C23=\"\",\"\",VLOOKUP($C23,女子ﾃﾞｰﾀ貼付ｼｰﾄ!$A$3:$W$201,9))","v":""}]
[17,null,null,{"$f":"IF($C24=\"\",\"\",VLOOKUP($C24,女子ﾃﾞｰﾀ貼付ｼｰﾄ!$A$3:$W$201,5))","v":""},{"$f":"IF($C24=\"\",\"\",VLOOKUP($C24,女子ﾃﾞｰﾀ貼付ｼｰﾄ!$A$3:$W$201,2))","v":""},{"$f":"IF($C24=\"\",\"\",VLOOKUP($C24,女子ﾃﾞｰﾀ貼付ｼｰﾄ!$A$3:$W$201,3))","v":""},"女",{"$f":"IF($C24=\"\",\"\",VLOOKUP($C24,女子ﾃﾞｰﾀ貼付ｼｰﾄ!$A$3:$W$201,22))","v":""},{"$f":"IF($C24=\"\",\"\",VLOOKUP($C24,女子ﾃﾞｰﾀ貼付ｼｰﾄ!$A$3:$W$201,18))","v":""},{"$f":"IF($C24=\"\",\"\",VLOOKUP($C24,女子ﾃﾞｰﾀ貼付ｼｰﾄ!$A$3:$W$201,16))","v":""},{"$f":"IF($C24=\"\",\"\",VLOOKUP($C24,女子ﾃﾞｰﾀ貼付ｼｰﾄ!$A$3:$W$201,12))","v":""},{"$f":"IF($C24=\"\",\"\",VLOOKUP($C24,女子ﾃﾞｰﾀ貼付ｼｰﾄ!$A$3:$W$201,9))","v":""}]
[18,null,null,{"$f":"IF($C25=\"\",\"\",VLOOKUP($C25,女子ﾃﾞｰﾀ貼付ｼｰﾄ!$A$3:$W$201,5))","v":""},{"$f":"IF($C25=\"\",\"\",VLOOKUP($C25,女子ﾃﾞｰﾀ貼付ｼｰﾄ!$A$3:$W$201,2))","v":""},{"$f":"IF($C25=\"\",\"\",VLOOKUP($C25,女子ﾃﾞｰﾀ貼付ｼｰﾄ!$A$3:$W$201,3))","v":""},"女",{"$f":"IF($C25=\"\",\"\",VLOOKUP($C25,女子ﾃﾞｰﾀ貼付ｼｰﾄ!$A$3:$W$201,22))","v":""},{"$f":"IF($C25=\"\",\"\",VLOOKUP($C25,女子ﾃﾞｰﾀ貼付ｼｰﾄ!$A$3:$W$201,18))","v":""},{"$f":"IF($C25=\"\",\"\",VLOOKUP($C25,女子ﾃﾞｰﾀ貼付ｼｰﾄ!$A$3:$W$201,16))","v":""},{"$f":"IF($C25=\"\",\"\",VLOOKUP($C25,女子ﾃﾞｰﾀ貼付ｼｰﾄ!$A$3:$W$201,12))","v":""},{"$f":"IF($C25=\"\",\"\",VLOOKUP($C25,女子ﾃﾞｰﾀ貼付ｼｰﾄ!$A$3:$W$201,9))","v":""}]
[19,null,null,{"$f":"IF($C26=\"\",\"\",VLOOKUP($C26,女子ﾃﾞｰﾀ貼付ｼｰﾄ!$A$3:$W$201,5))","v":""},{"$f":"IF($C26=\"\",\"\",VLOOKUP($C26,女子ﾃﾞｰﾀ貼付ｼｰﾄ!$A$3:$W$201,2))","v":""},{"$f":"IF($C26=\"\",\"\",VLOOKUP($C26,女子ﾃﾞｰﾀ貼付ｼｰﾄ!$A$3:$W$201,3))","v":""},"女",{"$f":"IF($C26=\"\",\"\",VLOOKUP($C26,女子ﾃﾞｰﾀ貼付ｼｰﾄ!$A$3:$W$201,22))","v":""},{"$f":"IF($C26=\"\",\"\",VLOOKUP($C26,女子ﾃﾞｰﾀ貼付ｼｰﾄ!$A$3:$W$201,18))","v":""},{"$f":"IF($C26=\"\",\"\",VLOOKUP($C26,女子ﾃﾞｰﾀ貼付ｼｰﾄ!$A$3:$W$201,16))","v":""},{"$f":"IF($C26=\"\",\"\",VLOOKUP($C26,女子ﾃﾞｰﾀ貼付ｼｰﾄ!$A$3:$W$201,12))","v":""},{"$f":"IF($C26=\"\",\"\",VLOOKUP($C26,女子ﾃﾞｰﾀ貼付ｼｰﾄ!$A$3:$W$201,9))","v":""}]
[20,null,null,{"$f":"IF($C27=\"\",\"\",VLOOKUP($C27,女子ﾃﾞｰﾀ貼付ｼｰﾄ!$A$3:$W$201,5))","v":""},{"$f":"IF($C27=\"\",\"\",VLOOKUP($C27,女子ﾃﾞｰﾀ貼付ｼｰﾄ!$A$3:$W$201,2))","v":""},{"$f":"IF($C27=\"\",\"\",VLOOKUP($C27,女子ﾃﾞｰﾀ貼付ｼｰﾄ!$A$3:$W$201,3))","v":""},"女",{"$f":"IF($C27=\"\",\"\",VLOOKUP($C27,女子ﾃﾞｰﾀ貼付ｼｰﾄ!$A$3:$W$201,22))","v":""},{"$f":"IF($C27=\"\",\"\",VLOOKUP($C27,女子ﾃﾞｰﾀ貼付ｼｰﾄ!$A$3:$W$201,18))","v":""},{"$f":"IF($C27=\"\",\"\",VLOOKUP($C27,女子ﾃﾞｰﾀ貼付ｼｰﾄ!$A$3:$W$201,16))","v":""},{"$f":"IF($C27=\"\",\"\",VLOOKUP($C27,女子ﾃﾞｰﾀ貼付ｼｰﾄ!$A$3:$W$201,12))","v":""},{"$f":"IF($C27=\"\",\"\",VLOOKUP($C27,女子ﾃﾞｰﾀ貼付ｼｰﾄ!$A$3:$W$201,9))","v":""}]
[21,null,null,{"$f":"IF($C28=\"\",\"\",VLOOKUP($C28,女子ﾃﾞｰﾀ貼付ｼｰﾄ!$A$3:$W$201,5))","v":""},{"$f":"IF($C28=\"\",\"\",VLOOKUP($C28,女子ﾃﾞｰﾀ貼付ｼｰﾄ!$A$3:$W$201,2))","v":""},{"$f":"IF($C28=\"\",\"\",VLOOKUP($C28,女子ﾃﾞｰﾀ貼付ｼｰﾄ!$A$3:$W$201,3))","v":""},"女",{"$f":"IF($C28=\"\",\"\",VLOOKUP($C28,女子ﾃﾞｰﾀ貼付ｼｰﾄ!$A$3:$W$201,22))","v":""},{"$f":"IF($C28=\"\",\"\",VLOOKUP($C28,女子ﾃﾞｰﾀ貼付ｼｰﾄ!$A$3:$W$201,18))","v":""},{"$f":"IF($C28=\"\",\"\",VLOOKUP($C28,女子ﾃﾞｰﾀ貼付ｼｰﾄ!$A$3:$W$201,16))","v":""},{"$f":"IF($C28=\"\",\"\",VLOOKUP($C28,女子ﾃﾞｰﾀ貼付ｼｰﾄ!$A$3:$W$201,12))","v":""},{"$f":"IF($C28=\"\",\"\",VLOOKUP($C28,女子ﾃﾞｰﾀ貼付ｼｰﾄ!$A$3:$W$201,9))","v":""}]
[22,null,null,{"$f":"IF($C29=\"\",\"\",VLOOKUP($C29,女子ﾃﾞｰﾀ貼付ｼｰﾄ!$A$3:$W$201,5))","v":""},{"$f":"IF($C29=\"\",\"\",VLOOKUP($C29,女子ﾃﾞｰﾀ貼付ｼｰﾄ!$A$3:$W$201,2))","v":""},{"$f":"IF($C29=\"\",\"\",VLOOKUP($C29,女子ﾃﾞｰﾀ貼付ｼｰﾄ!$A$3:$W$201,3))","v":""},"女",{"$f":"IF($C29=\"\",\"\",VLOOKUP($C29,女子ﾃﾞｰﾀ貼付ｼｰﾄ!$A$3:$W$201,22))","v":""},{"$f":"IF($C29=\"\",\"\",VLOOKUP($C29,女子ﾃﾞｰﾀ貼付ｼｰﾄ!$A$3:$W$201,18))","v":""},{"$f":"IF($C29=\"\",\"\",VLOOKUP($C29,女子ﾃﾞｰﾀ貼付ｼｰﾄ!$A$3:$W$201,16))","v":""},{"$f":"IF($C29=\"\",\"\",VLOOKUP($C29,女子ﾃﾞｰﾀ貼付ｼｰﾄ!$A$3:$W$201,12))","v":""},{"$f":"IF($C29=\"\",\"\",VLOOKUP($C29,女子ﾃﾞｰﾀ貼付ｼｰﾄ!$A$3:$W$201,9))","v":""}]
[23,null,null,{"$f":"IF($C30=\"\",\"\",VLOOKUP($C30,女子ﾃﾞｰﾀ貼付ｼｰﾄ!$A$3:$W$201,5))","v":""},{"$f":"IF($C30=\"\",\"\",VLOOKUP($C30,女子ﾃﾞｰﾀ貼付ｼｰﾄ!$A$3:$W$201,2))","v":""},{"$f":"IF($C30=\"\",\"\",VLOOKUP($C30,女子ﾃﾞｰﾀ貼付ｼｰﾄ!$A$3:$W$201,3))","v":""},"女",{"$f":"IF($C30=\"\",\"\",VLOOKUP($C30,女子ﾃﾞｰﾀ貼付ｼｰﾄ!$A$3:$W$201,22))","v":""},{"$f":"IF($C30=\"\",\"\",VLOOKUP($C30,女子ﾃﾞｰﾀ貼付ｼｰﾄ!$A$3:$W$201,18))","v":""},{"$f":"IF($C30=\"\",\"\",VLOOKUP($C30,女子ﾃﾞｰﾀ貼付ｼｰﾄ!$A$3:$W$201,16))","v":""},{"$f":"IF($C30=\"\",\"\",VLOOKUP($C30,女子ﾃﾞｰﾀ貼付ｼｰﾄ!$A$3:$W$201,12))","v":""},{"$f":"IF($C30=\"\",\"\",VLOOKUP($C30,女子ﾃﾞｰﾀ貼付ｼｰﾄ!$A$3:$W$201,9))","v":""}]
[24,null,null,{"$f":"IF($C31=\"\",\"\",VLOOKUP($C31,女子ﾃﾞｰﾀ貼付ｼｰﾄ!$A$3:$W$201,5))","v":""},{"$f":"IF($C31=\"\",\"\",VLOOKUP($C31,女子ﾃﾞｰﾀ貼付ｼｰﾄ!$A$3:$W$201,2))","v":""},{"$f":"IF($C31=\"\",\"\",VLOOKUP($C31,女子ﾃﾞｰﾀ貼付ｼｰﾄ!$A$3:$W$201,3))","v":""},"女",{"$f":"IF($C31=\"\",\"\",VLOOKUP($C31,女子ﾃﾞｰﾀ貼付ｼｰﾄ!$A$3:$W$201,22))","v":""},{"$f":"IF($C31=\"\",\"\",VLOOKUP($C31,女子ﾃﾞｰﾀ貼付ｼｰﾄ!$A$3:$W$201,18))","v":""},{"$f":"IF($C31=\"\",\"\",VLOOKUP($C31,女子ﾃﾞｰﾀ貼付ｼｰﾄ!$A$3:$W$201,16))","v":""},{"$f":"IF($C31=\"\",\"\",VLOOKUP($C31,女子ﾃﾞｰﾀ貼付ｼｰﾄ!$A$3:$W$201,12))","v":""},{"$f":"IF($C31=\"\",\"\",VLOOKUP($C31,女子ﾃﾞｰﾀ貼付ｼｰﾄ!$A$3:$W$201,9))","v":""}]
[25,null,null,{"$f":"IF($C32=\"\",\"\",VLOOKUP($C32,女子ﾃﾞｰﾀ貼付ｼｰﾄ!$A$3:$W$201,5))","v":""},{"$f":"IF($C32=\"\",\"\",VLOOKUP($C32,女子ﾃﾞｰﾀ貼付ｼｰﾄ!$A$3:$W$201,2))","v":""},{"$f":"IF($C32=\"\",\"\",VLOOKUP($C32,女子ﾃﾞｰﾀ貼付ｼｰﾄ!$A$3:$W$201,3))","v":""},"女",{"$f":"IF($C32=\"\",\"\",VLOOKUP($C32,女子ﾃﾞｰﾀ貼付ｼｰﾄ!$A$3:$W$201,22))","v":""},{"$f":"IF($C32=\"\",\"\",VLOOKUP($C32,女子ﾃﾞｰﾀ貼付ｼｰﾄ!$A$3:$W$201,18))","v":""},{"$f":"IF($C32=\"\",\"\",VLOOKUP($C32,女子ﾃﾞｰﾀ貼付ｼｰﾄ!$A$3:$W$201,16))","v":""},{"$f":"IF($C32=\"\",\"\",VLOOKUP($C32,女子ﾃﾞｰﾀ貼付ｼｰﾄ!$A$3:$W$201,12))","v":""},{"$f":"IF($C32=\"\",\"\",VLOOKUP($C32,女子ﾃﾞｰﾀ貼付ｼｰﾄ!$A$3:$W$201,9))","v":""}]
[26,null,null,{"$f":"IF($C33=\"\",\"\",VLOOKUP($C33,女子ﾃﾞｰﾀ貼付ｼｰﾄ!$A$3:$W$201,5))","v":""},{"$f":"IF($C33=\"\",\"\",VLOOKUP($C33,女子ﾃﾞｰﾀ貼付ｼｰﾄ!$A$3:$W$201,2))","v":""},{"$f":"IF($C33=\"\",\"\",VLOOKUP($C33,女子ﾃﾞｰﾀ貼付ｼｰﾄ!$A$3:$W$201,3))","v":""},"女",{"$f":"IF($C33=\"\",\"\",VLOOKUP($C33,女子ﾃﾞｰﾀ貼付ｼｰﾄ!$A$3:$W$201,22))","v":""},{"$f":"IF($C33=\"\",\"\",VLOOKUP($C33,女子ﾃﾞｰﾀ貼付ｼｰﾄ!$A$3:$W$201,18))","v":""},{"$f":"IF($C33=\"\",\"\",VLOOKUP($C33,女子ﾃﾞｰﾀ貼付ｼｰﾄ!$A$3:$W$201,16))","v":""},{"$f":"IF($C33=\"\",\"\",VLOOKUP($C33,女子ﾃﾞｰﾀ貼付ｼｰﾄ!$A$3:$W$201,12))","v":""},{"$f":"IF($C33=\"\",\"\",VLOOKUP($C33,女子ﾃﾞｰﾀ貼付ｼｰﾄ!$A$3:$W$201,9))","v":""}]
[27,null,null,{"$f":"IF($C34=\"\",\"\",VLOOKUP($C34,女子ﾃﾞｰﾀ貼付ｼｰﾄ!$A$3:$W$201,5))","v":""},{"$f":"IF($C34=\"\",\"\",VLOOKUP($C34,女子ﾃﾞｰﾀ貼付ｼｰﾄ!$A$3:$W$201,2))","v":""},{"$f":"IF($C34=\"\",\"\",VLOOKUP($C34,女子ﾃﾞｰﾀ貼付ｼｰﾄ!$A$3:$W$201,3))","v":""},"女",{"$f":"IF($C34=\"\",\"\",VLOOKUP($C34,女子ﾃﾞｰﾀ貼付ｼｰﾄ!$A$3:$W$201,22))","v":""},{"$f":"IF($C34=\"\",\"\",VLOOKUP($C34,女子ﾃﾞｰﾀ貼付ｼｰﾄ!$A$3:$W$201,18))","v":""},{"$f":"IF($C34=\"\",\"\",VLOOKUP($C34,女子ﾃﾞｰﾀ貼付ｼｰﾄ!$A$3:$W$201,16))","v":""},{"$f":"IF($C34=\"\",\"\",VLOOKUP($C34,女子ﾃﾞｰﾀ貼付ｼｰﾄ!$A$3:$W$201,12))","v":""},{"$f":"IF($C34=\"\",\"\",VLOOKUP($C34,女子ﾃﾞｰﾀ貼付ｼｰﾄ!$A$3:$W$201,9))","v":""}]
[28,null,null,{"$f":"IF($C35=\"\",\"\",VLOOKUP($C35,女子ﾃﾞｰﾀ貼付ｼｰﾄ!$A$3:$W$201,5))","v":""},{"$f":"IF($C35=\"\",\"\",VLOOKUP($C35,女子ﾃﾞｰﾀ貼付ｼｰﾄ!$A$3:$W$201,2))","v":""},{"$f":"IF($C35=\"\",\"\",VLOOKUP($C35,女子ﾃﾞｰﾀ貼付ｼｰﾄ!$A$3:$W$201,3))","v":""},"女",{"$f":"IF($C35=\"\",\"\",VLOOKUP($C35,女子ﾃﾞｰﾀ貼付ｼｰﾄ!$A$3:$W$201,22))","v":""},{"$f":"IF($C35=\"\",\"\",VLOOKUP($C35,女子ﾃﾞｰﾀ貼付ｼｰﾄ!$A$3:$W$201,18))","v":""},{"$f":"IF($C35=\"\",\"\",VLOOKUP($C35,女子ﾃﾞｰﾀ貼付ｼｰﾄ!$A$3:$W$201,16))","v":""},{"$f":"IF($C35=\"\",\"\",VLOOKUP($C35,女子ﾃﾞｰﾀ貼付ｼｰﾄ!$A$3:$W$201,12))","v":""},{"$f":"IF($C35=\"\",\"\",VLOOKUP($C35,女子ﾃﾞｰﾀ貼付ｼｰﾄ!$A$3:$W$201,9))","v":""}]
[29,null,null,{"$f":"IF($C36=\"\",\"\",VLOOKUP($C36,女子ﾃﾞｰﾀ貼付ｼｰﾄ!$A$3:$W$201,5))","v":""},{"$f":"IF($C36=\"\",\"\",VLOOKUP($C36,女子ﾃﾞｰﾀ貼付ｼｰﾄ!$A$3:$W$201,2))","v":""},{"$f":"IF($C36=\"\",\"\",VLOOKUP($C36,女子ﾃﾞｰﾀ貼付ｼｰﾄ!$A$3:$W$201,3))","v":""},"女",{"$f":"IF($C36=\"\",\"\",VLOOKUP($C36,女子ﾃﾞｰﾀ貼付ｼｰﾄ!$A$3:$W$201,22))","v":""},{"$f":"IF($C36=\"\",\"\",VLOOKUP($C36,女子ﾃﾞｰﾀ貼付ｼｰﾄ!$A$3:$W$201,18))","v":""},{"$f":"IF($C36=\"\",\"\",VLOOKUP($C36,女子ﾃﾞｰﾀ貼付ｼｰﾄ!$A$3:$W$201,16))","v":""},{"$f":"IF($C36=\"\",\"\",VLOOKUP($C36,女子ﾃﾞｰﾀ貼付ｼｰﾄ!$A$3:$W$201,12))","v":""},{"$f":"IF($C36=\"\",\"\",VLOOKUP($C36,女子ﾃﾞｰﾀ貼付ｼｰﾄ!$A$3:$W$201,9))","v":""}]
[30,null,null,{"$f":"IF($C37=\"\",\"\",VLOOKUP($C37,女子ﾃﾞｰﾀ貼付ｼｰﾄ!$A$3:$W$201,5))","v":""},{"$f":"IF($C37=\"\",\"\",VLOOKUP($C37,女子ﾃﾞｰﾀ貼付ｼｰﾄ!$A$3:$W$201,2))","v":""},{"$f":"IF($C37=\"\",\"\",VLOOKUP($C37,女子ﾃﾞｰﾀ貼付ｼｰﾄ!$A$3:$W$201,3))","v":""},"女",{"$f":"IF($C37=\"\",\"\",VLOOKUP($C37,女子ﾃﾞｰﾀ貼付ｼｰﾄ!$A$3:$W$201,22))","v":""},{"$f":"IF($C37=\"\",\"\",VLOOKUP($C37,女子ﾃﾞｰﾀ貼付ｼｰﾄ!$A$3:$W$201,18))","v":""},{"$f":"IF($C37=\"\",\"\",VLOOKUP($C37,女子ﾃﾞｰﾀ貼付ｼｰﾄ!$A$3:$W$201,16))","v":""},{"$f":"IF($C37=\"\",\"\",VLOOKUP($C37,女子ﾃﾞｰﾀ貼付ｼｰﾄ!$A$3:$W$201,12))","v":""},{"$f":"IF($C37=\"\",\"\",VLOOKUP($C37,女子ﾃﾞｰﾀ貼付ｼｰﾄ!$A$3:$W$201,9))","v":""}]
[31,null,null,{"$f":"IF($C38=\"\",\"\",VLOOKUP($C38,女子ﾃﾞｰﾀ貼付ｼｰﾄ!$A$3:$W$201,5))","v":""},{"$f":"IF($C38=\"\",\"\",VLOOKUP($C38,女子ﾃﾞｰﾀ貼付ｼｰﾄ!$A$3:$W$201,2))","v":""},{"$f":"IF($C38=\"\",\"\",VLOOKUP($C38,女子ﾃﾞｰﾀ貼付ｼｰﾄ!$A$3:$W$201,3))","v":""},"女",{"$f":"IF($C38=\"\",\"\",VLOOKUP($C38,女子ﾃﾞｰﾀ貼付ｼｰﾄ!$A$3:$W$201,22))","v":""},{"$f":"IF($C38=\"\",\"\",VLOOKUP($C38,女子ﾃﾞｰﾀ貼付ｼｰﾄ!$A$3:$W$201,18))","v":""},{"$f":"IF($C38=\"\",\"\",VLOOKUP($C38,女子ﾃﾞｰﾀ貼付ｼｰﾄ!$A$3:$W$201,16))","v":""},{"$f":"IF($C38=\"\",\"\",VLOOKUP($C38,女子ﾃﾞｰﾀ貼付ｼｰﾄ!$A$3:$W$201,12))","v":""},{"$f":"IF($C38=\"\",\"\",VLOOKUP($C38,女子ﾃﾞｰﾀ貼付ｼｰﾄ!$A$3:$W$201,9))","v":""}]
[32,null,null,{"$f":"IF($C39=\"\",\"\",VLOOKUP($C39,女子ﾃﾞｰﾀ貼付ｼｰﾄ!$A$3:$W$201,5))","v":""},{"$f":"IF($C39=\"\",\"\",VLOOKUP($C39,女子ﾃﾞｰﾀ貼付ｼｰﾄ!$A$3:$W$201,2))","v":""},{"$f":"IF($C39=\"\",\"\",VLOOKUP($C39,女子ﾃﾞｰﾀ貼付ｼｰﾄ!$A$3:$W$201,3))","v":""},"女",{"$f":"IF($C39=\"\",\"\",VLOOKUP($C39,女子ﾃﾞｰﾀ貼付ｼｰﾄ!$A$3:$W$201,22))","v":""},{"$f":"IF($C39=\"\",\"\",VLOOKUP($C39,女子ﾃﾞｰﾀ貼付ｼｰﾄ!$A$3:$W$201,18))","v":""},{"$f":"IF($C39=\"\",\"\",VLOOKUP($C39,女子ﾃﾞｰﾀ貼付ｼｰﾄ!$A$3:$W$201,16))","v":""},{"$f":"IF($C39=\"\",\"\",VLOOKUP($C39,女子ﾃﾞｰﾀ貼付ｼｰﾄ!$A$3:$W$201,12))","v":""},{"$f":"IF($C39=\"\",\"\",VLOOKUP($C39,女子ﾃﾞｰﾀ貼付ｼｰﾄ!$A$3:$W$201,9))","v":""}]
[33,null,null,{"$f":"IF($C40=\"\",\"\",VLOOKUP($C40,女子ﾃﾞｰﾀ貼付ｼｰﾄ!$A$3:$W$201,5))","v":""},{"$f":"IF($C40=\"\",\"\",VLOOKUP($C40,女子ﾃﾞｰﾀ貼付ｼｰﾄ!$A$3:$W$201,2))","v":""},{"$f":"IF($C40=\"\",\"\",VLOOKUP($C40,女子ﾃﾞｰﾀ貼付ｼｰﾄ!$A$3:$W$201,3))","v":""},"女",{"$f":"IF($C40=\"\",\"\",VLOOKUP($C40,女子ﾃﾞｰﾀ貼付ｼｰﾄ!$A$3:$W$201,22))","v":""},{"$f":"IF($C40=\"\",\"\",VLOOKUP($C40,女子ﾃﾞｰﾀ貼付ｼｰﾄ!$A$3:$W$201,18))","v":""},{"$f":"IF($C40=\"\",\"\",VLOOKUP($C40,女子ﾃﾞｰﾀ貼付ｼｰﾄ!$A$3:$W$201,16))","v":""},{"$f":"IF($C40=\"\",\"\",VLOOKUP($C40,女子ﾃﾞｰﾀ貼付ｼｰﾄ!$A$3:$W$201,12))","v":""},{"$f":"IF($C40=\"\",\"\",VLOOKUP($C40,女子ﾃﾞｰﾀ貼付ｼｰﾄ!$A$3:$W$201,9))","v":""}]
[34,null,null,{"$f":"IF($C41=\"\",\"\",VLOOKUP($C41,女子ﾃﾞｰﾀ貼付ｼｰﾄ!$A$3:$W$201,5))","v":""},{"$f":"IF($C41=\"\",\"\",VLOOKUP($C41,女子ﾃﾞｰﾀ貼付ｼｰﾄ!$A$3:$W$201,2))","v":""},{"$f":"IF($C41=\"\",\"\",VLOOKUP($C41,女子ﾃﾞｰﾀ貼付ｼｰﾄ!$A$3:$W$201,3))","v":""},"女",{"$f":"IF($C41=\"\",\"\",VLOOKUP($C41,女子ﾃﾞｰﾀ貼付ｼｰﾄ!$A$3:$W$201,22))","v":""},{"$f":"IF($C41=\"\",\"\",VLOOKUP($C41,女子ﾃﾞｰﾀ貼付ｼｰﾄ!$A$3:$W$201,18))","v":""},{"$f":"IF($C41=\"\",\"\",VLOOKUP($C41,女子ﾃﾞｰﾀ貼付ｼｰﾄ!$A$3:$W$201,16))","v":""},{"$f":"IF($C41=\"\",\"\",VLOOKUP($C41,女子ﾃﾞｰﾀ貼付ｼｰﾄ!$A$3:$W$201,12))","v":""},{"$f":"IF($C41=\"\",\"\",VLOOKUP($C41,女子ﾃﾞｰﾀ貼付ｼｰﾄ!$A$3:$W$201,9))","v":""}]
[35,null,null,{"$f":"IF($C42=\"\",\"\",VLOOKUP($C42,女子ﾃﾞｰﾀ貼付ｼｰﾄ!$A$3:$W$201,5))","v":""},{"$f":"IF($C42=\"\",\"\",VLOOKUP($C42,女子ﾃﾞｰﾀ貼付ｼｰﾄ!$A$3:$W$201,2))","v":""},{"$f":"IF($C42=\"\",\"\",VLOOKUP($C42,女子ﾃﾞｰﾀ貼付ｼｰﾄ!$A$3:$W$201,3))","v":""},"女",{"$f":"IF($C42=\"\",\"\",VLOOKUP($C42,女子ﾃﾞｰﾀ貼付ｼｰﾄ!$A$3:$W$201,22))","v":""},{"$f":"IF($C42=\"\",\"\",VLOOKUP($C42,女子ﾃﾞｰﾀ貼付ｼｰﾄ!$A$3:$W$201,18))","v":""},{"$f":"IF($C42=\"\",\"\",VLOOKUP($C42,女子ﾃﾞｰﾀ貼付ｼｰﾄ!$A$3:$W$201,16))","v":""},{"$f":"IF($C42=\"\",\"\",VLOOKUP($C42,女子ﾃﾞｰﾀ貼付ｼｰﾄ!$A$3:$W$201,12))","v":""},{"$f":"IF($C42=\"\",\"\",VLOOKUP($C42,女子ﾃﾞｰﾀ貼付ｼｰﾄ!$A$3:$W$201,9))","v":""}]
[36,null,null,{"$f":"IF($C43=\"\",\"\",VLOOKUP($C43,女子ﾃﾞｰﾀ貼付ｼｰﾄ!$A$3:$W$201,5))","v":""},{"$f":"IF($C43=\"\",\"\",VLOOKUP($C43,女子ﾃﾞｰﾀ貼付ｼｰﾄ!$A$3:$W$201,2))","v":""},{"$f":"IF($C43=\"\",\"\",VLOOKUP($C43,女子ﾃﾞｰﾀ貼付ｼｰﾄ!$A$3:$W$201,3))","v":""},"女",{"$f":"IF($C43=\"\",\"\",VLOOKUP($C43,女子ﾃﾞｰﾀ貼付ｼｰﾄ!$A$3:$W$201,22))","v":""},{"$f":"IF($C43=\"\",\"\",VLOOKUP($C43,女子ﾃﾞｰﾀ貼付ｼｰﾄ!$A$3:$W$201,18))","v":""},{"$f":"IF($C43=\"\",\"\",VLOOKUP($C43,女子ﾃﾞｰﾀ貼付ｼｰﾄ!$A$3:$W$201,16))","v":""},{"$f":"IF($C43=\"\",\"\",VLOOKUP($C43,女子ﾃﾞｰﾀ貼付ｼｰﾄ!$A$3:$W$201,12))","v":""},{"$f":"IF($C43=\"\",\"\",VLOOKUP($C43,女子ﾃﾞｰﾀ貼付ｼｰﾄ!$A$3:$W$201,9))","v":""}]
[37,null,null,{"$f":"IF($C44=\"\",\"\",VLOOKUP($C44,女子ﾃﾞｰﾀ貼付ｼｰﾄ!$A$3:$W$201,5))","v":""},{"$f":"IF($C44=\"\",\"\",VLOOKUP($C44,女子ﾃﾞｰﾀ貼付ｼｰﾄ!$A$3:$W$201,2))","v":""},{"$f":"IF($C44=\"\",\"\",VLOOKUP($C44,女子ﾃﾞｰﾀ貼付ｼｰﾄ!$A$3:$W$201,3))","v":""},"女",{"$f":"IF($C44=\"\",\"\",VLOOKUP($C44,女子ﾃﾞｰﾀ貼付ｼｰﾄ!$A$3:$W$201,22))","v":""},{"$f":"IF($C44=\"\",\"\",VLOOKUP($C44,女子ﾃﾞｰﾀ貼付ｼｰﾄ!$A$3:$W$201,18))","v":""},{"$f":"IF($C44=\"\",\"\",VLOOKUP($C44,女子ﾃﾞｰﾀ貼付ｼｰﾄ!$A$3:$W$201,16))","v":""},{"$f":"IF($C44=\"\",\"\",VLOOKUP($C44,女子ﾃﾞｰﾀ貼付ｼｰﾄ!$A$3:$W$201,12))","v":""},{"$f":"IF($C44=\"\",\"\",VLOOKUP($C44,女子ﾃﾞｰﾀ貼付ｼｰﾄ!$A$3:$W$201,9))","v":""}]
[38,null,null,{"$f":"IF($C45=\"\",\"\",VLOOKUP($C45,女子ﾃﾞｰﾀ貼付ｼｰﾄ!$A$3:$W$201,5))","v":""},{"$f":"IF($C45=\"\",\"\",VLOOKUP($C45,女子ﾃﾞｰﾀ貼付ｼｰﾄ!$A$3:$W$201,2))","v":""},{"$f":"IF($C45=\"\",\"\",VLOOKUP($C45,女子ﾃﾞｰﾀ貼付ｼｰﾄ!$A$3:$W$201,3))","v":""},"女",{"$f":"IF($C45=\"\",\"\",VLOOKUP($C45,女子ﾃﾞｰﾀ貼付ｼｰﾄ!$A$3:$W$201,22))","v":""},{"$f":"IF($C45=\"\",\"\",VLOOKUP($C45,女子ﾃﾞｰﾀ貼付ｼｰﾄ!$A$3:$W$201,18))","v":""},{"$f":"IF($C45=\"\",\"\",VLOOKUP($C45,女子ﾃﾞｰﾀ貼付ｼｰﾄ!$A$3:$W$201,16))","v":""},{"$f":"IF($C45=\"\",\"\",VLOOKUP($C45,女子ﾃﾞｰﾀ貼付ｼｰﾄ!$A$3:$W$201,12))","v":""},{"$f":"IF($C45=\"\",\"\",VLOOKUP($C45,女子ﾃﾞｰﾀ貼付ｼｰﾄ!$A$3:$W$201,9))","v":""}]
[39,null,null,{"$f":"IF($C46=\"\",\"\",VLOOKUP($C46,女子ﾃﾞｰﾀ貼付ｼｰﾄ!$A$3:$W$201,5))","v":""},{"$f":"IF($C46=\"\",\"\",VLOOKUP($C46,女子ﾃﾞｰﾀ貼付ｼｰﾄ!$A$3:$W$201,2))","v":""},{"$f":"IF($C46=\"\",\"\",VLOOKUP($C46,女子ﾃﾞｰﾀ貼付ｼｰﾄ!$A$3:$W$201,3))","v":""},"女",{"$f":"IF($C46=\"\",\"\",VLOOKUP($C46,女子ﾃﾞｰﾀ貼付ｼｰﾄ!$A$3:$W$201,22))","v":""},{"$f":"IF($C46=\"\",\"\",VLOOKUP($C46,女子ﾃﾞｰﾀ貼付ｼｰﾄ!$A$3:$W$201,18))","v":""},{"$f":"IF($C46=\"\",\"\",VLOOKUP($C46,女子ﾃﾞｰﾀ貼付ｼｰﾄ!$A$3:$W$201,16))","v":""},{"$f":"IF($C46=\"\",\"\",VLOOKUP($C46,女子ﾃﾞｰﾀ貼付ｼｰﾄ!$A$3:$W$201,12))","v":""},{"$f":"IF($C46=\"\",\"\",VLOOKUP($C46,女子ﾃﾞｰﾀ貼付ｼｰﾄ!$A$3:$W$201,9))","v":""}]
[40,null,null,{"$f":"IF($C47=\"\",\"\",VLOOKUP($C47,女子ﾃﾞｰﾀ貼付ｼｰﾄ!$A$3:$W$201,5))","v":""},{"$f":"IF($C47=\"\",\"\",VLOOKUP($C47,女子ﾃﾞｰﾀ貼付ｼｰﾄ!$A$3:$W$201,2))","v":""},{"$f":"IF($C47=\"\",\"\",VLOOKUP($C47,女子ﾃﾞｰﾀ貼付ｼｰﾄ!$A$3:$W$201,3))","v":""},"女",{"$f":"IF($C47=\"\",\"\",VLOOKUP($C47,女子ﾃﾞｰﾀ貼付ｼｰﾄ!$A$3:$W$201,22))","v":""},{"$f":"IF($C47=\"\",\"\",VLOOKUP($C47,女子ﾃﾞｰﾀ貼付ｼｰﾄ!$A$3:$W$201,18))","v":""},{"$f":"IF($C47=\"\",\"\",VLOOKUP($C47,女子ﾃﾞｰﾀ貼付ｼｰﾄ!$A$3:$W$201,16))","v":""},{"$f":"IF($C47=\"\",\"\",VLOOKUP($C47,女子ﾃﾞｰﾀ貼付ｼｰﾄ!$A$3:$W$201,12))","v":""},{"$f":"IF($C47=\"\",\"\",VLOOKUP($C47,女子ﾃﾞｰﾀ貼付ｼｰﾄ!$A$3:$W$201,9))","v":""}]
[]
["※記入方法について",null,null,null,null,null,null,"※ＩＤカードの発行枚数について",null,null,null,"一般",2000,null,"（種目）",null,{"$f":"N49*M49","v":0}]
["１．ナンバーの県欄には、各県登録ナンバーを入力する。"]
["　　北ナンバーは、各県陸協で割り振るので入力しない。",null,null,null,null,null,null,null,"監督・コーチ(ﾏﾈｰｼﾞｬｰ含む)について",null,null,"高校生",1500,null,"（種目）",null,{"$f":"N51*M51","v":0}]
["２．自己最高記録は2020.1.1～大会申込締切までの最高記録を記入",null,null,null,null,null,null,null,"以下のように配布します。"]
["　　標準記録突破者は、この欄に記入する。",null,null,null,null,null,null,null,null,null,null,"中学生",1000,null,"（種目）",null,{"$f":"N53*M53","v":0}]
["３．種目の年、月は記録を出した年を西暦下二けた(20or21)と月の４桁で記入",null,null,null,null,null,null,null,"参加選手数","発行枚数"]
["４．不足する場合は、行を挿入してください。",null,null,null,null,null,null,null,"１～２名","２枚",null,"混成",3000,null,"（種目）",null,{"$f":"N55*M55","v":0}]
["５．申込書記入例を参考に種目等を記入してください。","個人情報保護について",null,null,null,null,null,null,"３～６名","３枚",null,"　"]
[null,"　※","ここに書かれている内容については本大会の運営だけに利用し、",null,null,null,null,null,"７～１５名","４枚",null,"リレー",3000,null,"（種目）",null,{"$f":"N57*M57","v":0}]
[null,null,"その他、外部への情報供与は一切行いません。",null,null,null,null,null,"１６名～","５枚"]
[null,null,null,null,null,null,null,null,null,null,null,null,null,null,null,"合計",{"$f":"Q49+Q51+Q53+Q55+Q57","v":0}]
[]
[null,null,null,null,null,null,null,null,null,null,null,null,"記載責任者（携帯電話番号）"]
[null,"所属団体",null,null,null,null,null,null,null,null,null,null,"氏名"]
[null,null,null,null,null,null,null,null,null,null,null,null,"（",null,null,null,null,"）"]
[]
[null,"住所","〒",null,null,null,null,null,null,null,null,null,"学校の場合は、学校長出場承認印"]
[]
[null,"電話",null,null,null,null,null,null,null,null,null,null,null,null,null,null,null,"印"]
[null,"FAX"]