{"text_format":"1","workbook":"xlsx","n_sheets":8,"sheets":["大会要項（新潟県用）","各団体(個人）申込書記入例(必読)","男子ﾃﾞｰﾀ貼付ｼｰﾄ","【様式1-1】男子団体（個人）申込書","女子ﾃﾞｰﾀ貼付ｼｰﾄ","【様式1-2】女子団体（個人）申込書","【様式5-1】2020年宿泊要項","【様式5-2】2020年宿泊申込書"],"not_rendered":{"charts":0,"images":3,"macros":1,"external_links":1,"defined_names":15,"comments":4,"pivot_tables":0},"unopened":[],"bounds":{"document_bytes":16777216,"sheet_cells":100000,"rows_first":2000,"rows_last":500,"rows_between":2000,"halvings":0,"cell_chars":16384,"cell_head_chars":4096},"cells_cut":0,"cells_raw":0,"read":"whole","date_system":"1900"}

{"sheet":"大会要項（新潟県用）","index":0,"n_rows":85,"n_cols":15,"rows_kept":85,"cut":false,"hidden":false,"merged":[[0,0,0,14],[1,0,1,14],[27,2,28,15],[38,2,39,16],[48,2,49,16],[45,2,45,16],[40,2,43,16]]}
["第６４回 北 陸 陸 上 競 技 選 手 権 大 会 要 項"]
["兼 第１０５回日本陸上競技選手権大会北陸地域予選会"]
[]
["１主　　催",null,"北陸陸上競技協会"]
[]
["２後　　援",null,"新潟県　新潟県教育委員会　長岡市　長岡市教育委員会　公益財団法人新潟県スポーツ協会　各県高等学校体育連盟"]
[]
["３主　　管",null,"一般財団法人新潟陸上競技協会"]
[]
["４期　　日",null,"２０２０年８月２２日（土）９時００分：競技開始　　２３日（日）９時００分：競技開始"]
[]
["５会　　場",null,"長岡市営陸上競技場（〒940-2105　長岡市緑町１丁目５番地１　℡0258-27-6300）"]
[]
["６競技種目",null,"男子　８月２２日（土）２００ｍ、８００ｍ、５０００ｍ、４００ｍＨ，３０００ｍＳＣ、５０００ｍＷ"]
["　・実施日",null,"　　　（１１種目）　　棒高跳、走幅跳、ハンマー投、やり投、十種競技（第一日目）"]
[null,null,"　　　８月２３日（日）１００ｍ、４００ｍ、１５００ｍ、１００００ｍ、１１０ｍＨ"]
[null,null,"　　　（１０種目）　　走高跳、三段跳、砲丸投、円盤投、十種競技（第二日目）"]
[null,null,"女子　８月２２日（土）２００ｍ、８００ｍ、５０００ｍ、４００ｍＨ、３０００ｍＳＣ、５０００ｍＷ"]
[null,null,"　　　（１１種目）　　走高跳、三段跳、円盤投、やり投、七種競技（第一日目）"]
[null,null,"　　　８月２３日（日）１００ｍ、４００ｍ、１５００ｍ、１００００ｍ、１００ｍＨ"]
[null,null,"　　　（１０種目）　　棒高跳、走幅跳、砲丸投、ハンマー投、七種競技（第二日目）"]
[]
["７競技規則",null,"２０２０年度日本陸上競技連盟競技規則および本大会申し合わせ事項による。"]
[]
["８表　　彰",null,"（１）各種目優勝者には選手権賞を、また第３位までに賞状を贈る。"]
[null,null,"（２）男女各１名に優秀選手賞を贈る。"]
[]
["９出場資格",null,"２０２０年度日本陸上競技連盟登録者で、下記に該当する競技者。但し、本連盟の登録者であっても、正式参加資格は、日本国籍を有する競技者のみとし、外国籍を有する競技者は順位の対象にならないオープン参加とする。"]
[]
[null,null,"（１）標準記録を突破した競技者（2019年１月１日～申込締切日まで）"]
[null,null,"（２）標準記録のない種目は、各県が推薦する競技者で各県記録上位者より８名以内とする。"]
[null,null,"　　　混成競技は記録上位者より各県４名以内とする。"]
[null,null,"（３）規格外の競技種目の場合については、参加標準記録を参考にして各県陸協が推薦する競技者（該当競技種目で３名以内）"]
[null,null,"　　　該当種目は男子１１０ｍＨ、女子１００ｍＨ、男女５０００ｍＷ、投てき種目とする（中学生対象）"]
[]
["10参 加 料",null,"一般は１種目２,０００円、・高校生は１種目１,５００円、中学生は１種目１,０００円、混成は３,０００円"]
[null,null,"※　ただし、高校生が混成に出場する場合は３，０００円とする。"]
[null,null,"※　混成競技に申し込んだ個人およびチームは、出場の可否を事務局から連絡をするので、確認後に振り込むこと。　"]
[null,null,"　　＜振込先＞　　第四銀行　姥ケ山支店　普通預金　口座番号1385230    口座名　北陸陸上競技協会 代表 大橋 誠五"]
[]
["11申込み方法",null,"（一財）新潟陸上競技協会ＨＰよりエクセルファイル「第６４回北陸選手権要項等（新潟県用）」をダウンロードし、下記のとおりデータと書類で申込むこと。　\n　　＜申込受付期間＞２０２０年７月７日（火）～２７日(月)　１７：００必着（データ、書類、参加料、全て）\n　　（注）ハンマー投に出場の選手は左右どちら利きか、必ず記入すること。"]
[]
[]
[]
[null,null,"　　①　メールまたはメディアで（一財）新潟陸上競技協会にデータ(上記エクセルファイル)を送る。"]
[null,null,"　　　　ファイル名は、団体：2020北陸選手権（○○高校）　個人：2020北陸選手権（ジョウエツ　ジロウ）とする。"]
[null,null,"　　②　①のデータ(エクセルファイル)から一覧表を印刷して所属長印を押印したものを（一財）新潟陸上競技協会に郵送する。"]
[]
["12各県申込先",null,"　　＜書類郵送先＞　〒950-0933　新潟県新潟市中央区清五郎67-12　デンカビッグスワンスタジアム内\n                           一般財団法人新潟陸上競技協会　事務局"]
[]
[]
["13標準記録",null," 種 目 ","100ｍ","200ｍ","400ｍ","800ｍ","1500ｍ","5000ｍ","10000ｍ","100ｍH","110ｍH","400ｍH","3000ｍSC","5000ｍW"]
[null,null," 男 子 ","11\"00","22\"50","50\"80","2'00\"00","4'09\"00","15'40\"00","33'30\"00","×","15\"50","56\"10","10'00\"00","25'00\"00"]
[null,null," 女 子 ","12\"60","26\"10","59\"80","2'21\"00","4'55\"00","18'30\"00","38'00\"00","15\"20","×","1'04\"50","－","28'00\"00"]
[]
[null,null," 種 目 ","走高跳","棒高跳","走幅跳","三段跳","砲丸投","円盤投","ﾊﾝﾏｰ投","やり投"]
[null,null," 男 子 ","1ｍ90","4ｍ00","6ｍ80","13ｍ90","11ｍ25","36ｍ00","41ｍ00","53ｍ00",null,"×は、競技がありません"]
[null,null," 女 子 ","1ｍ55","2ｍ80","5ｍ35","10ｍ70","10ｍ00","32ｍ00","30ｍ00","35ｍ00",null,"―は、標準記録がありません"]
[]
["14競技開始",null,"競技開始時のバーの高さ（参加者レベル、当日の天候などにより若干変更することがある）"]
[null,null,"男子　走高跳（練習1ｍ75、競技1ｍ80、混成1ｍ60）、棒高跳（練習3ｍ60、競技3ｍ80、混成2ｍ50）"]
[null,null,"女子　走高跳（練習1ｍ45、競技1ｍ50、混成1ｍ35）、棒高跳（練習2ｍ20、競技2ｍ40）"]
[]
["15宿泊昼食",null,"希望者は、宿泊要項に基づいて申し込みを行うこと。"]
[]
["16そ の 他",null,"（１）ナンバーカードは主催者で作成し、会場受付でプログラムと共に配布する。"]
[null,null,"（２）４００ｍまでのトラックレースについて、予選ラウンドで＋１を確保できない場合は準決勝ラウンドを取り入れる。"]
[null,null,"（３）棒高跳びのポールは、上記会場へ送付すること。"]
[null,null,"（４）前日の練習時間：１２時３０分～１７時までとする。"]
[null,null,"　　　※競技会当日については、補助競技場がないため競技に支障のない範囲においてバックストレートでの練習を認める。"]
[null,null,"（５）受付時間：前日は１２時から１７時までとする。当日は８時から行う。"]
[null,null,"　　　場所：長岡市営陸上競技場　　正面玄関ロビー内"]
[null,null,"（６）競技注意事項や競技日程等は作成後、（一財）新潟陸上競技協会のホームページ(http://www.nrkk.net/)に掲載する。"]
[null,null,"（７）競技中に発生した疾病・傷害については、応急処置を主催側で行うが、以後の責任は負わない。"]
[null,null,"（８）個人情報の取り扱いについては、大会出場中の映像、写真、記事、記録等のテレビ、新聞、インターネット等"]
[null,null,"　　　の掲載権は主催側に属する。主催者は個人情報保護法を厳守し、参加者の個人情報を取り扱う。"]
[null,null,"（９）本大会は、ワールドランキング制度に対応するため、申込書類記入の際、氏名のふりがなのアルファベット表記"]
[null,null,"　　　（ヘボン式）や西暦の生年月日の記入等に留意すること。"]
[null,null,"（10）申込みは、選手が登録している県協会に申し込むこと。他県の協会に申し込んだ場合受け付けられない。"]
[null,null,"（11) 自然災害（台風等）により大会が開催できない場合は、（一財）新潟陸上競技協会のホームページにて案内する。"]
[null,null,"　　　参加料は返金しない。"]
[null,null,"（12）新型コロナウイルス感染拡大防止の観点から大会を中止・延期する場合は、（一財）新潟陸上競技協会のホームページにて案内する。"]
[null,null,"　　　大会を中止する場合は、７月７日（火）までにホームページに掲載する。参加料は返金する予定である。"]
[null,null,"（13）宿泊については７月７日（火）以降に申し込むこと。"]
[null,null,"（14）競技注意事項、競技用具、宿泊要項等は（一財）新潟陸上競技協会ホームページで案内する。"]

{"sheet":"各団体(個人）申込書記入例(必読)","index":1,"n_rows":73,"n_cols":22,"rows_kept":73,"cut":false,"hidden":false,"merged":[[58,16,58,18],[53,16,53,18],[54,16,54,18],[55,16,55,18],[56,16,56,18],[57,16,57,18],[70,14,70,15],[62,14,62,15],[64,14,64,15],[66,14,66,15],[68,14,68,15],[59,16,59,18],[60,16,60,18],[50,21,51,21],[50,0,51,0],[50,3,51,3],[50,1,50,2],[57,19,57,20],[58,19,58,20],[59,19,59,20],[60,19,60,20],[52,16,52,18],[52,19,52,20],[53,19,53,20],[54,19,54,20],[55,19,55,20],[56,19,56,20],[47,3,47,10],[47,17,47,20],[48,4,48,15],[50,6,51,6],[50,11,51,11],[50,12,51,12],[50,4,50,5],[50,7,51,7],[50,9,51,9],[51,16,51,18],[50,13,50,20],[51,19,51,20]]}
["競技会参加申込の入力方法"]
[]
[null,"０．","この申込ファイルはマクロを含んでいます。以下の警告が出た場合は、「コンテンツの有効化」をクリックしてください。"]
[]
[]
[]
[]
[]
[]
[]
[null,"１．","「JAAF START」 のページにおいて、「閲覧」 メニューの 「生徒情報確認/変更」 から 「CSVS(新形式2018以降)作成」 をクリックし、CSVファイルを作成する。"]
[null,null,"作成したCSVデータを貼り付ける。その際、男子のデータは 「男子ﾃﾞｰﾀ貼付ｼｰﾄ」 に、女子のデータは 「女子ﾃﾞｰﾀ貼付ｼｰﾄ」 に貼り付ける。"]
[null,null,"「都道府県(学連)登録番号」 (もしくはＡ列) が昇順になるように並べ替える。 ( 「ナンバー順に並び替え」 ボタンで並び替えてください。)"]
[]
[]
[]
[]
[]
[]
[]
["↓",null,null,null,null,"↓","(氏名で五十音順に並んでいる状態から、登録ナンバーで昇順になるように)",null,null,null,null,null,null,null,null,null,null,null,null,"↓"]
[]
[]
[]
[]
[]
[]
[]
[null,"２．","「 【様式1-1】男子申込書」 「 【様式1-2】女子申込書」 のそれぞれに、所属名・学校名、記載責任者、電話番号などを記入する。"]
[null,null,"所属については、「 ○○大 」、「 ○○高 」 などのように、校種区分が分かるようにしておくこと。"]
[]
[null,"３．","登録ナンバーを｢県ナンバー｣列に記入する。そうすると、その右側に氏名から国籍まで、登録情報が自動入力されます。"]
[null,null,"「 県ナンバー 」 は各県で使用しているナンバーを記入する。 「 北ナンバー 」 は空欄にしておくこと。"]
[null,null,"なお、氏名以下を直接手入力するは、苗字と名前の間は全角文字1つ分のスペースを入れておくこと。"]
[null,null,"　　　　　　　　　　　　　　　　ﾌﾘｶﾞﾅについて、半角ｶﾀｶﾅ、ｱﾙﾌｧﾍﾞｯﾄともに半角文字で入力し、姓名の間は半角文字1つ分のスペースを入力。"]
[null,null,"　　　　　　　　　　　　　　　　さらにｱﾙﾌｧﾍﾞｯﾄについては姓は全て大文字、名は最初の１文字のみ大文字で他は小文字で入力し、"]
[null,null,"　　　　　　　　　　　　　　　　数字は半角で記入。生年月日の欄は西暦8桁を記入すること。"]
[]
[null,"４．","種目はリストから選択すること。"]
[]
[null,"５．","記録は分・秒、小数点、ｍ (ﾒｰﾄﾙ) は省略する。　　　11\"45→1145,　　　4'28\"35→42835,　　　11'35\"6→113560,　　　1m45→145,　　　48m32→4832　など"]
[]
[null,"６．","標準記録突破者は、自己最高記録の欄のみ記入。"]
[null,null,"ハンマーの左投げ、ハードル・投擲の規格外の記録、陸協推薦　に該当する場合は、「備考」 欄のリストから選んで入力すること。"]
[]
[]
["＜記入例＞"]
["大会名",null,null,"第６４回北陸地域陸上競技選手権大会",null,null,null,null,null,null,null,null,null,null,null,null,null,"参加申込一覧表（ 男子 ）"]
["所属学校・団体名 ",null,null,null,"新潟RC"]
[]
[null,"ﾅﾝﾊﾞｰ",null,"氏　名","ﾌﾘｶﾞﾅ",null,"性別","学年","生年月日","所属","登録","国籍","種目","自己最高記録",null,null,null,null,null,null,null,"備考"]
[null,"北","県",null,"半角ｶﾀｶﾅ","ｱﾙﾌｧﾍﾞｯﾄ",null,null,"西暦8桁の数字",null,"都道府県",null,null,"記録","順位","年月(4桁)","大会名",null,null,"場所"]
[1,null,1,"新潟　一郎","ﾆｲｶﾞﾀ ﾀﾛｳ","NIIGATA  Ichiro","男",3,20030501,"新潟RC","新潟県","JPN 日本","100m",1044,null,2007,"新潟医療福祉大記録会",null,null,"新潟医療福祉大"]
[2,null,1,"新潟　一郎","ﾆｲｶﾞﾀ ﾀﾛｳ","NIIGATA  Ichiro","男",3,20030501,"新潟RC","新潟県","JPN 日本","200m",2122,1,1905,"柏崎選手権",null,null,"柏崎"]
[3,null,2,"長岡　二郎","ﾅｶﾞｵｶ ﾀﾛｳ","NAGAOKA Jiro","男",3,20030502,"新潟RC","新潟県","JPN 日本","走高跳",220,1,1905,"新潟市選手権",null,null,"新潟"]
[4,null,2,"長岡　二郎","ﾅｶﾞｵｶ ﾀﾛｳ","NAGAOKA Jiro","男",3,20030502,"新潟RC","新潟県","JPN 日本","三段跳",1610,3,1908,"北陸選手権",null,null,"福井"]
[5,null,3,"高田　三郎","ﾀｶﾀﾞ ｻﾌﾞﾛｳ","TAKADA Saburo","男",3,20030503,"新潟RC","新潟県","JPN 日本","ハンマー投",4618,12,1906,"上越選手権",null,null,"高田",null,"ﾊﾝﾏｰ左投"]
[6,null,3,"高田　三郎","ﾀｶﾀﾞ ｻﾌﾞﾛｳ","TAKADA Saburo","男",3,20030503,"新潟RC","新潟県","JPN 日本","砲丸投",1450,1,1906,"上越選手権",null,null,"高田"]
[7,null,4,"三条　四郎","ｻﾝｼﾞｮｳ ｼﾛｳ","SANJO Shiro","男",3,20030504,"新潟RC","新潟県","JPN 日本","110mH",1602,1,1907,"通信陸上",null,null,"ビッグスワン",null,"規格外"]
[8,null,4,"三条　四郎","ｻﾝｼﾞｮｳ ｼﾛｳ","SANJO Shiro","男",3,20030504,"新潟RC","新潟県","JPN 日本","400mH",5221,8,2007,"新潟県選手権",null,null,"ビッグスワン"]
[9,null,5,"佐渡　五郎","ｻｺﾞｺﾞ ﾛｳ","SADOO Goro","男",3,20030505,"新潟RC","新潟県","JPN 日本","10種競技",7010,5,2009,"日本学生陸上競技対校選手権",null,null,"岐阜ﾒﾓﾘｱﾙｾﾝﾀｰ",null,"陸協推薦"]
[]
["※記入方法について",null,null,null,null,null,null,null,null,null,null,null,null,"一般",2000,null,8,"（種目）",null,{"$f":"Q63*O63","v":16000}]
["１．ナンバーの県欄には、各県登録ナンバーを記入　北欄の記載は不要"]
["２．最高記録は2019.1.1～大会申込締切までの最高記録を記入",null,null,null,null,null,null,null,null,null,null,null,null,"高校生",1500,null,null,"（種目）",null,{"$f":"Q65*O65","v":0}]
["３．種目の年、月は記録を出した年を西暦下二けた(19or20)と月の４桁で記入"]
["４．不足する場合は、行を挿入してください。",null,null,null,null,null,null,null,null,null,null,null,null,"中学生",1000,null,null,"（種目）",null,{"$f":"Q67*O67","v":0}]
["５．申込書記入例を参考に種目等を記入してください。","個人情報保護について"]
["※","ここに書かれている内容については本大会の運営だけに利用し、",null,null,null,null,null,null,null,null,null,null,null,"混成",3000,null,1,"（種目）",null,{"$f":"Q69*O69","v":3000}]
[null,"その他、外部への情報供与は一切行いません。",null,null,null,null,null,null,null,null,null,null,null,"　"]
[null,null,null,null,null,null,null,null,null,null,null,null,null,"リレー",3000,null,null,"（種目）",null,{"$f":"Q71*O71","v":0}]
[]
[null,null,null,null,null,null,null,null,null,null,null,null,null,null,null,"合計",null,null,"合計",{"$f":"T63+T65+T67+T69+T71","v":19000}]

{"sheet":"男子ﾃﾞｰﾀ貼付ｼｰﾄ","index":2,"n_rows":201,"n_cols":22,"rows_kept":201,"cut":false,"hidden":false,"merged":[[1,0,1,2]]}
[]
["↓この3列には貼り付けないで！↓",null,null,"JAAF ID","会員名","会員名\nカナ","会員名\n英字(姓)","会員名\n英字(名)","国籍","性\n別","登録都道\n府県コード","登録       都道府    県名","団体ID","団体名","団体名\nカナ","団体名\n略称","団体名\n略称カナ","生年月日","都道府県 (学連)     登録番号","旧団体\nコード","備考","学年"]
[{"$f":"IF(S3=\"\",\"\",S3)","v":""},{"$f":"IF(F3=\"\",\"\",ASC(F3))","v":""},{"$f":"IF(G3=\"\",\"\",G3&\" \"&H3)","v":""}]
["","",""]
["","",""]
["","",""]
["","",""]
["","",""]
["","",""]
["","",""]
["","",""]
["","",""]
["","",""]
["","",""]
["","",""]
["","",""]
["","",""]
["","",""]
["","",""]
["","",""]
["","",""]
["","",""]
["","",""]
["","",""]
["","",""]
["","",""]
["","",""]
["","",""]
["","",""]
["","",""]
["","",""]
["","",""]
["","",""]
["","",""]
[{"$f":"IF(S35=\"\",\"\",S35)","v":""},{"$f":"IF(F35=\"\",\"\",ASC(F35))","v":""},{"$f":"IF(G35=\"\",\"\",G35&\" \"&H35)","v":""}]
["","",""]
["","",""]
["","",""]
["","",""]
["","",""]
["","",""]
["","",""]
["","",""]
["","",""]
["","",""]
["","",""]
["","",""]
["","",""]
["","",""]
["","",""]
["","",""]
["","",""]
["","",""]
["","",""]
["","",""]
["","",""]
["","",""]
["","",""]
["","",""]
["","",""]
["","",""]
["","",""]
["","",""]
["","",""]
["","",""]
["","",""]
[{"$f":"IF(S67=\"\",\"\",S67)","v":""},{"$f":"IF(F67=\"\",\"\",ASC(F67))","v":""},{"$f":"IF(G67=\"\",\"\",G67&\" \"&H67)","v":""}]
["","",""]
["","",""]
["","",""]
["","",""]
["","",""]
["","",""]
["","",""]
["","",""]
["","",""]
["","",""]
["","",""]
["","",""]
["","",""]
["","",""]
["","",""]
["","",""]
["","",""]
["","",""]
["","",""]
["","",""]
["","",""]
["","",""]
["","",""]
["","",""]
["","",""]
["","",""]
["","",""]
["","",""]
["","",""]
["","",""]
["","",""]
[{"$f":"IF(S99=\"\",\"\",S99)","v":""},{"$f":"IF(F99=\"\",\"\",ASC(F99))","v":""},{"$f":"IF(G99=\"\",\"\",G99&\" \"&H99)","v":""}]
["","",""]
["","",""]
["","",""]
["","",""]
["","",""]
["","",""]
["","",""]
["","",""]
["","",""]
["","",""]
["","",""]
["","",""]
["","",""]
["","",""]
["","",""]
["","",""]
["","",""]
["","",""]
["","",""]
["","",""]
["","",""]
["","",""]
["","",""]
["","",""]
["","",""]
["","",""]
["","",""]
["","",""]
["","",""]
["","",""]
["","",""]
[{"$f":"IF(S131=\"\",\"\",S131)","v":""},{"$f":"IF(F131=\"\",\"\",ASC(F131))","v":""},{"$f":"IF(G131=\"\",\"\",G131&\" \"&H131)","v":""}]
["","",""]
["","",""]
["","",""]
["","",""]
["","",""]
["","",""]
["","",""]
["","",""]
["","",""]
["","",""]
["","",""]
["","",""]
["","",""]
["","",""]
["","",""]
["","",""]
["","",""]
["","",""]
["","",""]
["","",""]
["","",""]
["","",""]
["","",""]
["","",""]
["","",""]
["","",""]
["","",""]
["","",""]
["","",""]
["","",""]
["","",""]
[{"$f":"IF(S163=\"\",\"\",S163)","v":""},{"$f":"IF(F163=\"\",\"\",ASC(F163))","v":""},{"$f":"IF(G163=\"\",\"\",G163&\" \"&H163)","v":""}]
["","",""]
["","",""]
["","",""]
["","",""]
["","",""]
["","",""]
["","",""]
["","",""]
["","",""]
["","",""]
["","",""]
["","",""]
["","",""]
["","",""]
["","",""]
["","",""]
["","",""]
["","",""]
["","",""]
["","",""]
["","",""]
["","",""]
["","",""]
["","",""]
["","",""]
["","",""]
["","",""]
["","",""]
["","",""]
["","",""]
["","",""]
[{"$f":"IF(S195=\"\",\"\",S195)","v":""},{"$f":"IF(F195=\"\",\"\",ASC(F195))","v":""},{"$f":"IF(G195=\"\",\"\",G195&\" \"&H195)","v":""}]
["","",""]
["","",""]
["","",""]
["","",""]
["","",""]
["","",""]

{"sheet":"【様式1-1】男子団体（個人）申込書","index":3,"n_rows":67,"n_cols":19,"rows_kept":67,"cut":false,"hidden":false,"merged":[[5,0,6,0],[5,1,5,2],[5,3,6,3],[5,5,6,5],[5,6,6,6],[5,4,6,4],[0,17,0,18],[65,3,65,8],[66,3,66,8],[5,12,6,12],[63,3,63,5],[64,3,64,8],[5,18,6,18],[1,15,1,17],[5,13,5,17],[61,13,61,16],[62,13,62,16],[1,5,1,12],[3,5,3,12],[5,7,6,7],[5,9,6,9],[5,11,6,11]]}
[null,null,null,null,null,null,null,null,null,null,null,null,null,null,null,null,null,"【様式1-1】"]
[null,null,null,"大会名",null,"第６４回北陸地域陸上競技選手権大会",null,null,null,null,null,null,null,null,null,"参加申込一覧表（　男子　）"]
[]
[null,null,null,"所属学校・団体名 ",null,null,null,null,null,null,null,null,null,{"$f":"IF(F4=\"\",\"\",男子ﾃﾞｰﾀ貼付ｼｰﾄ!T3)","v":""}]
[]
[null,"ﾅﾝﾊﾞｰ",null,"氏　名","ﾌﾘｶﾞﾅ\n(半角ｶﾀｶﾅ)","ｱﾙﾌｧﾍﾞｯﾄ表記","性別","学年","生年月日","所属","登録","国籍","種目","参加標準記録",null,null,null,null,"備考"]
[null,"北","県",null,null,null,null,null,"西暦8桁の数字",null,"都道府県",null,null,"記録","順位","年月(4桁)","大会名","場所"]
[1,null,null,{"$f":"IF($C8=\"\",\"\",VLOOKUP($C8,男子ﾃﾞｰﾀ貼付ｼｰﾄ!$A$3:$V$201,5))","v":""},{"$f":"IF($C8=\"\",\"\",VLOOKUP($C8,男子ﾃﾞｰﾀ貼付ｼｰﾄ!$A$3:$V$201,2))","v":""},{"$f":"IF($C8=\"\",\"\",VLOOKUP($C8,男子ﾃﾞｰﾀ貼付ｼｰﾄ!$A$3:$V$201,3))","v":""},"男",{"$f":"IF($C8=\"\",\"\",VLOOKUP($C8,男子ﾃﾞｰﾀ貼付ｼｰﾄ!$A$3:$V$201,22))","v":""},{"$f":"IF($C8=\"\",\"\",VLOOKUP($C8,男子ﾃﾞｰﾀ貼付ｼｰﾄ!$A$3:$V$201,18))","v":""},{"$f":"IF($C8=\"\",\"\",VLOOKUP($C8,男子ﾃﾞｰﾀ貼付ｼｰﾄ!$A$3:$V$201,16))","v":""},{"$f":"IF($C8=\"\",\"\",VLOOKUP($C8,男子ﾃﾞｰﾀ貼付ｼｰﾄ!$A$3:$V$201,12))","v":""},{"$f":"IF($C8=\"\",\"\",VLOOKUP($C8,男子ﾃﾞｰﾀ貼付ｼｰﾄ!$A$3:$V$201,9))","v":""}]
[2,null,null,{"$f":"IF($C9=\"\",\"\",VLOOKUP($C9,男子ﾃﾞｰﾀ貼付ｼｰﾄ!$A$3:$V$201,5))","v":""},{"$f":"IF($C9=\"\",\"\",VLOOKUP($C9,男子ﾃﾞｰﾀ貼付ｼｰﾄ!$A$3:$V$201,2))","v":""},{"$f":"IF($C9=\"\",\"\",VLOOKUP($C9,男子ﾃﾞｰﾀ貼付ｼｰﾄ!$A$3:$V$201,3))","v":""},"男",{"$f":"IF($C9=\"\",\"\",VLOOKUP($C9,男子ﾃﾞｰﾀ貼付ｼｰﾄ!$A$3:$V$201,22))","v":""},{"$f":"IF($C9=\"\",\"\",VLOOKUP($C9,男子ﾃﾞｰﾀ貼付ｼｰﾄ!$A$3:$V$201,18))","v":""},{"$f":"IF($C9=\"\",\"\",VLOOKUP($C9,男子ﾃﾞｰﾀ貼付ｼｰﾄ!$A$3:$V$201,16))","v":""},{"$f":"IF($C9=\"\",\"\",VLOOKUP($C9,男子ﾃﾞｰﾀ貼付ｼｰﾄ!$A$3:$V$201,12))","v":""},{"$f":"IF($C9=\"\",\"\",VLOOKUP($C9,男子ﾃﾞｰﾀ貼付ｼｰﾄ!$A$3:$V$201,9))","v":""}]
[3,null,null,{"$f":"IF($C10=\"\",\"\",VLOOKUP($C10,男子ﾃﾞｰﾀ貼付ｼｰﾄ!$A$3:$V$201,5))","v":""},{"$f":"IF($C10=\"\",\"\",VLOOKUP($C10,男子ﾃﾞｰﾀ貼付ｼｰﾄ!$A$3:$V$201,2))","v":""},{"$f":"IF($C10=\"\",\"\",VLOOKUP($C10,男子ﾃﾞｰﾀ貼付ｼｰﾄ!$A$3:$V$201,3))","v":""},"男",{"$f":"IF($C10=\"\",\"\",VLOOKUP($C10,男子ﾃﾞｰﾀ貼付ｼｰﾄ!$A$3:$V$201,22))","v":""},{"$f":"IF($C10=\"\",\"\",VLOOKUP($C10,男子ﾃﾞｰﾀ貼付ｼｰﾄ!$A$3:$V$201,18))","v":""},{"$f":"IF($C10=\"\",\"\",VLOOKUP($C10,男子ﾃﾞｰﾀ貼付ｼｰﾄ!$A$3:$V$201,16))","v":""},{"$f":"IF($C10=\"\",\"\",VLOOKUP($C10,男子ﾃﾞｰﾀ貼付ｼｰﾄ!$A$3:$V$201,12))","v":""},{"$f":"IF($C10=\"\",\"\",VLOOKUP($C10,男子ﾃﾞｰﾀ貼付ｼｰﾄ!$A$3:$V$201,9))","v":""}]
[4,null,null,{"$f":"IF($C11=\"\",\"\",VLOOKUP($C11,男子ﾃﾞｰﾀ貼付ｼｰﾄ!$A$3:$V$201,5))","v":""},{"$f":"IF($C11=\"\",\"\",VLOOKUP($C11,男子ﾃﾞｰﾀ貼付ｼｰﾄ!$A$3:$V$201,2))","v":""},{"$f":"IF($C11=\"\",\"\",VLOOKUP($C11,男子ﾃﾞｰﾀ貼付ｼｰﾄ!$A$3:$V$201,3))","v":""},"男",{"$f":"IF($C11=\"\",\"\",VLOOKUP($C11,男子ﾃﾞｰﾀ貼付ｼｰﾄ!$A$3:$V$201,22))","v":""},{"$f":"IF($C11=\"\",\"\",VLOOKUP($C11,男子ﾃﾞｰﾀ貼付ｼｰﾄ!$A$3:$V$201,18))","v":""},{"$f":"IF($C11=\"\",\"\",VLOOKUP($C11,男子ﾃﾞｰﾀ貼付ｼｰﾄ!$A$3:$V$201,16))","v":""},{"$f":"IF($C11=\"\",\"\",VLOOKUP($C11,男子ﾃﾞｰﾀ貼付ｼｰﾄ!$A$3:$V$201,12))","v":""},{"$f":"IF($C11=\"\",\"\",VLOOKUP($C11,男子ﾃﾞｰﾀ貼付ｼｰﾄ!$A$3:$V$201,9))","v":""}]
[5,null,null,{"$f":"IF($C12=\"\",\"\",VLOOKUP($C12,男子ﾃﾞｰﾀ貼付ｼｰﾄ!$A$3:$V$201,5))","v":""},{"$f":"IF($C12=\"\",\"\",VLOOKUP($C12,男子ﾃﾞｰﾀ貼付ｼｰﾄ!$A$3:$V$201,2))","v":""},{"$f":"IF($C12=\"\",\"\",VLOOKUP($C12,男子ﾃﾞｰﾀ貼付ｼｰﾄ!$A$3:$V$201,3))","v":""},"男",{"$f":"IF($C12=\"\",\"\",VLOOKUP($C12,男子ﾃﾞｰﾀ貼付ｼｰﾄ!$A$3:$V$201,22))","v":""},{"$f":"IF($C12=\"\",\"\",VLOOKUP($C12,男子ﾃﾞｰﾀ貼付ｼｰﾄ!$A$3:$V$201,18))","v":""},{"$f":"IF($C12=\"\",\"\",VLOOKUP($C12,男子ﾃﾞｰﾀ貼付ｼｰﾄ!$A$3:$V$201,16))","v":""},{"$f":"IF($C12=\"\",\"\",VLOOKUP($C12,男子ﾃﾞｰﾀ貼付ｼｰﾄ!$A$3:$V$201,12))","v":""},{"$f":"IF($C12=\"\",\"\",VLOOKUP($C12,男子ﾃﾞｰﾀ貼付ｼｰﾄ!$A$3:$V$201,9))","v":""}]
[6,null,null,{"$f":"IF($C13=\"\",\"\",VLOOKUP($C13,男子ﾃﾞｰﾀ貼付ｼｰﾄ!$A$3:$V$201,5))","v":""},{"$f":"IF($C13=\"\",\"\",VLOOKUP($C13,男子ﾃﾞｰﾀ貼付ｼｰﾄ!$A$3:$V$201,2))","v":""},{"$f":"IF($C13=\"\",\"\",VLOOKUP($C13,男子ﾃﾞｰﾀ貼付ｼｰﾄ!$A$3:$V$201,3))","v":""},"男",{"$f":"IF($C13=\"\",\"\",VLOOKUP($C13,男子ﾃﾞｰﾀ貼付ｼｰﾄ!$A$3:$V$201,22))","v":""},{"$f":"IF($C13=\"\",\"\",VLOOKUP($C13,男子ﾃﾞｰﾀ貼付ｼｰﾄ!$A$3:$V$201,18))","v":""},{"$f":"IF($C13=\"\",\"\",VLOOKUP($C13,男子ﾃﾞｰﾀ貼付ｼｰﾄ!$A$3:$V$201,16))","v":""},{"$f":"IF($C13=\"\",\"\",VLOOKUP($C13,男子ﾃﾞｰﾀ貼付ｼｰﾄ!$A$3:$V$201,12))","v":""},{"$f":"IF($C13=\"\",\"\",VLOOKUP($C13,男子ﾃﾞｰﾀ貼付ｼｰﾄ!$A$3:$V$201,9))","v":""}]
[7,null,null,{"$f":"IF($C14=\"\",\"\",VLOOKUP($C14,男子ﾃﾞｰﾀ貼付ｼｰﾄ!$A$3:$V$201,5))","v":""},{"$f":"IF($C14=\"\",\"\",VLOOKUP($C14,男子ﾃﾞｰﾀ貼付ｼｰﾄ!$A$3:$V$201,2))","v":""},{"$f":"IF($C14=\"\",\"\",VLOOKUP($C14,男子ﾃﾞｰﾀ貼付ｼｰﾄ!$A$3:$V$201,3))","v":""},"男",{"$f":"IF($C14=\"\",\"\",VLOOKUP($C14,男子ﾃﾞｰﾀ貼付ｼｰﾄ!$A$3:$V$201,22))","v":""},{"$f":"IF($C14=\"\",\"\",VLOOKUP($C14,男子ﾃﾞｰﾀ貼付ｼｰﾄ!$A$3:$V$201,18))","v":""},{"$f":"IF($C14=\"\",\"\",VLOOKUP($C14,男子ﾃﾞｰﾀ貼付ｼｰﾄ!$A$3:$V$201,16))","v":""},{"$f":"IF($C14=\"\",\"\",VLOOKUP($C14,男子ﾃﾞｰﾀ貼付ｼｰﾄ!$A$3:$V$201,12))","v":""},{"$f":"IF($C14=\"\",\"\",VLOOKUP($C14,男子ﾃﾞｰﾀ貼付ｼｰﾄ!$A$3:$V$201,9))","v":""}]
[8,null,null,{"$f":"IF($C15=\"\",\"\",VLOOKUP($C15,男子ﾃﾞｰﾀ貼付ｼｰﾄ!$A$3:$V$201,5))","v":""},{"$f":"IF($C15=\"\",\"\",VLOOKUP($C15,男子ﾃﾞｰﾀ貼付ｼｰﾄ!$A$3:$V$201,2))","v":""},{"$f":"IF($C15=\"\",\"\",VLOOKUP($C15,男子ﾃﾞｰﾀ貼付ｼｰﾄ!$A$3:$V$201,3))","v":""},"男",{"$f":"IF($C15=\"\",\"\",VLOOKUP($C15,男子ﾃﾞｰﾀ貼付ｼｰﾄ!$A$3:$V$201,22))","v":""},{"$f":"IF($C15=\"\",\"\",VLOOKUP($C15,男子ﾃﾞｰﾀ貼付ｼｰﾄ!$A$3:$V$201,18))","v":""},{"$f":"IF($C15=\"\",\"\",VLOOKUP($C15,男子ﾃﾞｰﾀ貼付ｼｰﾄ!$A$3:$V$201,16))","v":""},{"$f":"IF($C15=\"\",\"\",VLOOKUP($C15,男子ﾃﾞｰﾀ貼付ｼｰﾄ!$A$3:$V$201,12))","v":""},{"$f":"IF($C15=\"\",\"\",VLOOKUP($C15,男子ﾃﾞｰﾀ貼付ｼｰﾄ!$A$3:$V$201,9))","v":""}]
[9,null,null,{"$f":"IF($C16=\"\",\"\",VLOOKUP($C16,男子ﾃﾞｰﾀ貼付ｼｰﾄ!$A$3:$V$201,5))","v":""},{"$f":"IF($C16=\"\",\"\",VLOOKUP($C16,男子ﾃﾞｰﾀ貼付ｼｰﾄ!$A$3:$V$201,2))","v":""},{"$f":"IF($C16=\"\",\"\",VLOOKUP($C16,男子ﾃﾞｰﾀ貼付ｼｰﾄ!$A$3:$V$201,3))","v":""},"男",{"$f":"IF($C16=\"\",\"\",VLOOKUP($C16,男子ﾃﾞｰﾀ貼付ｼｰﾄ!$A$3:$V$201,22))","v":""},{"$f":"IF($C16=\"\",\"\",VLOOKUP($C16,男子ﾃﾞｰﾀ貼付ｼｰﾄ!$A$3:$V$201,18))","v":""},{"$f":"IF($C16=\"\",\"\",VLOOKUP($C16,男子ﾃﾞｰﾀ貼付ｼｰﾄ!$A$3:$V$201,16))","v":""},{"$f":"IF($C16=\"\",\"\",VLOOKUP($C16,男子ﾃﾞｰﾀ貼付ｼｰﾄ!$A$3:$V$201,12))","v":""},{"$f":"IF($C16=\"\",\"\",VLOOKUP($C16,男子ﾃﾞｰﾀ貼付ｼｰﾄ!$A$3:$V$201,9))","v":""}]
[10,null,null,{"$f":"IF($C17=\"\",\"\",VLOOKUP($C17,男子ﾃﾞｰﾀ貼付ｼｰﾄ!$A$3:$V$201,5))","v":""},{"$f":"IF($C17=\"\",\"\",VLOOKUP($C17,男子ﾃﾞｰﾀ貼付ｼｰﾄ!$A$3:$V$201,2))","v":""},{"$f":"IF($C17=\"\",\"\",VLOOKUP($C17,男子ﾃﾞｰﾀ貼付ｼｰﾄ!$A$3:$V$201,3))","v":""},"男",{"$f":"IF($C17=\"\",\"\",VLOOKUP($C17,男子ﾃﾞｰﾀ貼付ｼｰﾄ!$A$3:$V$201,22))","v":""},{"$f":"IF($C17=\"\",\"\",VLOOKUP($C17,男子ﾃﾞｰﾀ貼付ｼｰﾄ!$A$3:$V$201,18))","v":""},{"$f":"IF($C17=\"\",\"\",VLOOKUP($C17,男子ﾃﾞｰﾀ貼付ｼｰﾄ!$A$3:$V$201,16))","v":""},{"$f":"IF($C17=\"\",\"\",VLOOKUP($C17,男子ﾃﾞｰﾀ貼付ｼｰﾄ!$A$3:$V$201,12))","v":""},{"$f":"IF($C17=\"\",\"\",VLOOKUP($C17,男子ﾃﾞｰﾀ貼付ｼｰﾄ!$A$3:$V$201,9))","v":""}]
[11,null,null,{"$f":"IF($C18=\"\",\"\",VLOOKUP($C18,男子ﾃﾞｰﾀ貼付ｼｰﾄ!$A$3:$V$201,5))","v":""},{"$f":"IF($C18=\"\",\"\",VLOOKUP($C18,男子ﾃﾞｰﾀ貼付ｼｰﾄ!$A$3:$V$201,2))","v":""},{"$f":"IF($C18=\"\",\"\",VLOOKUP($C18,男子ﾃﾞｰﾀ貼付ｼｰﾄ!$A$3:$V$201,3))","v":""},"男",{"$f":"IF($C18=\"\",\"\",VLOOKUP($C18,男子ﾃﾞｰﾀ貼付ｼｰﾄ!$A$3:$V$201,22))","v":""},{"$f":"IF($C18=\"\",\"\",VLOOKUP($C18,男子ﾃﾞｰﾀ貼付ｼｰﾄ!$A$3:$V$201,18))","v":""},{"$f":"IF($C18=\"\",\"\",VLOOKUP($C18,男子ﾃﾞｰﾀ貼付ｼｰﾄ!$A$3:$V$201,16))","v":""},{"$f":"IF($C18=\"\",\"\",VLOOKUP($C18,男子ﾃﾞｰﾀ貼付ｼｰﾄ!$A$3:$V$201,12))","v":""},{"$f":"IF($C18=\"\",\"\",VLOOKUP($C18,男子ﾃﾞｰﾀ貼付ｼｰﾄ!$A$3:$V$201,9))","v":""}]
[12,null,null,{"$f":"IF($C19=\"\",\"\",VLOOKUP($C19,男子ﾃﾞｰﾀ貼付ｼｰﾄ!$A$3:$V$201,5))","v":""},{"$f":"IF($C19=\"\",\"\",VLOOKUP($C19,男子ﾃﾞｰﾀ貼付ｼｰﾄ!$A$3:$V$201,2))","v":""},{"$f":"IF($C19=\"\",\"\",VLOOKUP($C19,男子ﾃﾞｰﾀ貼付ｼｰﾄ!$A$3:$V$201,3))","v":""},"男",{"$f":"IF($C19=\"\",\"\",VLOOKUP($C19,男子ﾃﾞｰﾀ貼付ｼｰﾄ!$A$3:$V$201,22))","v":""},{"$f":"IF($C19=\"\",\"\",VLOOKUP($C19,男子ﾃﾞｰﾀ貼付ｼｰﾄ!$A$3:$V$201,18))","v":""},{"$f":"IF($C19=\"\",\"\",VLOOKUP($C19,男子ﾃﾞｰﾀ貼付ｼｰﾄ!$A$3:$V$201,16))","v":""},{"$f":"IF($C19=\"\",\"\",VLOOKUP($C19,男子ﾃﾞｰﾀ貼付ｼｰﾄ!$A$3:$V$201,12))","v":""},{"$f":"IF($C19=\"\",\"\",VLOOKUP($C19,男子ﾃﾞｰﾀ貼付ｼｰﾄ!$A$3:$V$201,9))","v":""}]
[13,null,null,{"$f":"IF($C20=\"\",\"\",VLOOKUP($C20,男子ﾃﾞｰﾀ貼付ｼｰﾄ!$A$3:$V$201,5))","v":""},{"$f":"IF($C20=\"\",\"\",VLOOKUP($C20,男子ﾃﾞｰﾀ貼付ｼｰﾄ!$A$3:$V$201,2))","v":""},{"$f":"IF($C20=\"\",\"\",VLOOKUP($C20,男子ﾃﾞｰﾀ貼付ｼｰﾄ!$A$3:$V$201,3))","v":""},"男",{"$f":"IF($C20=\"\",\"\",VLOOKUP($C20,男子ﾃﾞｰﾀ貼付ｼｰﾄ!$A$3:$V$201,22))","v":""},{"$f":"IF($C20=\"\",\"\",VLOOKUP($C20,男子ﾃﾞｰﾀ貼付ｼｰﾄ!$A$3:$V$201,18))","v":""},{"$f":"IF($C20=\"\",\"\",VLOOKUP($C20,男子ﾃﾞｰﾀ貼付ｼｰﾄ!$A$3:$V$201,16))","v":""},{"$f":"IF($C20=\"\",\"\",VLOOKUP($C20,男子ﾃﾞｰﾀ貼付ｼｰﾄ!$A$3:$V$201,12))","v":""},{"$f":"IF($C20=\"\",\"\",VLOOKUP($C20,男子ﾃﾞｰﾀ貼付ｼｰﾄ!$A$3:$V$201,9))","v":""}]
[14,null,null,{"$f":"IF($C21=\"\",\"\",VLOOKUP($C21,男子ﾃﾞｰﾀ貼付ｼｰﾄ!$A$3:$V$201,5))","v":""},{"$f":"IF($C21=\"\",\"\",VLOOKUP($C21,男子ﾃﾞｰﾀ貼付ｼｰﾄ!$A$3:$V$201,2))","v":""},{"$f":"IF($C21=\"\",\"\",VLOOKUP($C21,男子ﾃﾞｰﾀ貼付ｼｰﾄ!$A$3:$V$201,3))","v":""},"男",{"$f":"IF($C21=\"\",\"\",VLOOKUP($C21,男子ﾃﾞｰﾀ貼付ｼｰﾄ!$A$3:$V$201,22))","v":""},{"$f":"IF($C21=\"\",\"\",VLOOKUP($C21,男子ﾃﾞｰﾀ貼付ｼｰﾄ!$A$3:$V$201,18))","v":""},{"$f":"IF($C21=\"\",\"\",VLOOKUP($C21,男子ﾃﾞｰﾀ貼付ｼｰﾄ!$A$3:$V$201,16))","v":""},{"$f":"IF($C21=\"\",\"\",VLOOKUP($C21,男子ﾃﾞｰﾀ貼付ｼｰﾄ!$A$3:$V$201,12))","v":""},{"$f":"IF($C21=\"\",\"\",VLOOKUP($C21,男子ﾃﾞｰﾀ貼付ｼｰﾄ!$A$3:$V$201,9))","v":""}]
[15,null,null,{"$f":"IF($C22=\"\",\"\",VLOOKUP($C22,男子ﾃﾞｰﾀ貼付ｼｰﾄ!$A$3:$V$201,5))","v":""},{"$f":"IF($C22=\"\",\"\",VLOOKUP($C22,男子ﾃﾞｰﾀ貼付ｼｰﾄ!$A$3:$V$201,2))","v":""},{"$f":"IF($C22=\"\",\"\",VLOOKUP($C22,男子ﾃﾞｰﾀ貼付ｼｰﾄ!$A$3:$V$201,3))","v":""},"男",{"$f":"IF($C22=\"\",\"\",VLOOKUP($C22,男子ﾃﾞｰﾀ貼付ｼｰﾄ!$A$3:$V$201,22))","v":""},{"$f":"IF($C22=\"\",\"\",VLOOKUP($C22,男子ﾃﾞｰﾀ貼付ｼｰﾄ!$A$3:$V$201,18))","v":""},{"$f":"IF($C22=\"\",\"\",VLOOKUP($C22,男子ﾃﾞｰﾀ貼付ｼｰﾄ!$A$3:$V$201,16))","v":""},{"$f":"IF($C22=\"\",\"\",VLOOKUP($C22,男子ﾃﾞｰﾀ貼付ｼｰﾄ!$A$3:$V$201,12))","v":""},{"$f":"IF($C22=\"\",\"\",VLOOKUP($C22,男子ﾃﾞｰﾀ貼付ｼｰﾄ!$A$3:$V$201,9))","v":""}]
[16,null,null,{"$f":"IF($C23=\"\",\"\",VLOOKUP($C23,男子ﾃﾞｰﾀ貼付ｼｰﾄ!$A$3:$V$201,5))","v":""},{"$f":"IF($C23=\"\",\"\",VLOOKUP($C23,男子ﾃﾞｰﾀ貼付ｼｰﾄ!$A$3:$V$201,2))","v":""},{"$f":"IF($C23=\"\",\"\",VLOOKUP($C23,男子ﾃﾞｰﾀ貼付ｼｰﾄ!$A$3:$V$201,3))","v":""},"男",{"$f":"IF($C23=\"\",\"\",VLOOKUP($C23,男子ﾃﾞｰﾀ貼付ｼｰﾄ!$A$3:$V$201,22))","v":""},{"$f":"IF($C23=\"\",\"\",VLOOKUP($C23,男子ﾃﾞｰﾀ貼付ｼｰﾄ!$A$3:$V$201,18))","v":""},{"$f":"IF($C23=\"\",\"\",VLOOKUP($C23,男子ﾃﾞｰﾀ貼付ｼｰﾄ!$A$3:$V$201,16))","v":""},{"$f":"IF($C23=\"\",\"\",VLOOKUP($C23,男子ﾃﾞｰﾀ貼付ｼｰﾄ!$A$3:$V$201,12))","v":""},{"$f":"IF($C23=\"\",\"\",VLOOKUP($C23,男子ﾃﾞｰﾀ貼付ｼｰﾄ!$A$3:$V$201,9))","v":""}]
[17,null,null,{"$f":"IF($C24=\"\",\"\",VLOOKUP($C24,男子ﾃﾞｰﾀ貼付ｼｰﾄ!$A$3:$V$201,5))","v":""},{"$f":"IF($C24=\"\",\"\",VLOOKUP($C24,男子ﾃﾞｰﾀ貼付ｼｰﾄ!$A$3:$V$201,2))","v":""},{"$f":"IF($C24=\"\",\"\",VLOOKUP($C24,男子ﾃﾞｰﾀ貼付ｼｰﾄ!$A$3:$V$201,3))","v":""},"男",{"$f":"IF($C24=\"\",\"\",VLOOKUP($C24,男子ﾃﾞｰﾀ貼付ｼｰﾄ!$A$3:$V$201,22))","v":""},{"$f":"IF($C24=\"\",\"\",VLOOKUP($C24,男子ﾃﾞｰﾀ貼付ｼｰﾄ!$A$3:$V$201,18))","v":""},{"$f":"IF($C24=\"\",\"\",VLOOKUP($C24,男子ﾃﾞｰﾀ貼付ｼｰﾄ!$A$3:$V$201,16))","v":""},{"$f":"IF($C24=\"\",\"\",VLOOKUP($C24,男子ﾃﾞｰﾀ貼付ｼｰﾄ!$A$3:$V$201,12))","v":""},{"$f":"IF($C24=\"\",\"\",VLOOKUP($C24,男子ﾃﾞｰﾀ貼付ｼｰﾄ!$A$3:$V$201,9))","v":""}]
[18,null,null,{"$f":"IF($C25=\"\",\"\",VLOOKUP($C25,男子ﾃﾞｰﾀ貼付ｼｰﾄ!$A$3:$V$201,5))","v":""},{"$f":"IF($C25=\"\",\"\",VLOOKUP($C25,男子ﾃﾞｰﾀ貼付ｼｰﾄ!$A$3:$V$201,2))","v":""},{"$f":"IF($C25=\"\",\"\",VLOOKUP($C25,男子ﾃﾞｰﾀ貼付ｼｰﾄ!$A$3:$V$201,3))","v":""},"男",{"$f":"IF($C25=\"\",\"\",VLOOKUP($C25,男子ﾃﾞｰﾀ貼付ｼｰﾄ!$A$3:$V$201,22))","v":""},{"$f":"IF($C25=\"\",\"\",VLOOKUP($C25,男子ﾃﾞｰﾀ貼付ｼｰﾄ!$A$3:$V$201,18))","v":""},{"$f":"IF($C25=\"\",\"\",VLOOKUP($C25,男子ﾃﾞｰﾀ貼付ｼｰﾄ!$A$3:$V$201,16))","v":""},{"$f":"IF($C25=\"\",\"\",VLOOKUP($C25,男子ﾃﾞｰﾀ貼付ｼｰﾄ!$A$3:$V$201,12))","v":""},{"$f":"IF($C25=\"\",\"\",VLOOKUP($C25,男子ﾃﾞｰﾀ貼付ｼｰﾄ!$A$3:$V$201,9))","v":""}]
[19,null,null,{"$f":"IF($C26=\"\",\"\",VLOOKUP($C26,男子ﾃﾞｰﾀ貼付ｼｰﾄ!$A$3:$V$201,5))","v":""},{"$f":"IF($C26=\"\",\"\",VLOOKUP($C26,男子ﾃﾞｰﾀ貼付ｼｰﾄ!$A$3:$V$201,2))","v":""},{"$f":"IF($C26=\"\",\"\",VLOOKUP($C26,男子ﾃﾞｰﾀ貼付ｼｰﾄ!$A$3:$V$201,3))","v":""},"男",{"$f":"IF($C26=\"\",\"\",VLOOKUP($C26,男子ﾃﾞｰﾀ貼付ｼｰﾄ!$A$3:$V$201,22))","v":""},{"$f":"IF($C26=\"\",\"\",VLOOKUP($C26,男子ﾃﾞｰﾀ貼付ｼｰﾄ!$A$3:$V$201,18))","v":""},{"$f":"IF($C26=\"\",\"\",VLOOKUP($C26,男子ﾃﾞｰﾀ貼付ｼｰﾄ!$A$3:$V$201,16))","v":""},{"$f":"IF($C26=\"\",\"\",VLOOKUP($C26,男子ﾃﾞｰﾀ貼付ｼｰﾄ!$A$3:$V$201,12))","v":""},{"$f":"IF($C26=\"\",\"\",VLOOKUP($C26,男子ﾃﾞｰﾀ貼付ｼｰﾄ!$A$3:$V$201,9))","v":""}]
[20,null,null,{"$f":"IF($C27=\"\",\"\",VLOOKUP($C27,男子ﾃﾞｰﾀ貼付ｼｰﾄ!$A$3:$V$201,5))","v":""},{"$f":"IF($C27=\"\",\"\",VLOOKUP($C27,男子ﾃﾞｰﾀ貼付ｼｰﾄ!$A$3:$V$201,2))","v":""},{"$f":"IF($C27=\"\",\"\",VLOOKUP($C27,男子ﾃﾞｰﾀ貼付ｼｰﾄ!$A$3:$V$201,3))","v":""},"男",{"$f":"IF($C27=\"\",\"\",VLOOKUP($C27,男子ﾃﾞｰﾀ貼付ｼｰﾄ!$A$3:$V$201,22))","v":""},{"$f":"IF($C27=\"\",\"\",VLOOKUP($C27,男子ﾃﾞｰﾀ貼付ｼｰﾄ!$A$3:$V$201,18))","v":""},{"$f":"IF($C27=\"\",\"\",VLOOKUP($C27,男子ﾃﾞｰﾀ貼付ｼｰﾄ!$A$3:$V$201,16))","v":""},{"$f":"IF($C27=\"\",\"\",VLOOKUP($C27,男子ﾃﾞｰﾀ貼付ｼｰﾄ!$A$3:$V$201,12))","v":""},{"$f":"IF($C27=\"\",\"\",VLOOKUP($C27,男子ﾃﾞｰﾀ貼付ｼｰﾄ!$A$3:$V$201,9))","v":""}]
[21,null,null,{"$f":"IF($C28=\"\",\"\",VLOOKUP($C28,男子ﾃﾞｰﾀ貼付ｼｰﾄ!$A$3:$V$201,5))","v":""},{"$f":"IF($C28=\"\",\"\",VLOOKUP($C28,男子ﾃﾞｰﾀ貼付ｼｰﾄ!$A$3:$V$201,2))","v":""},{"$f":"IF($C28=\"\",\"\",VLOOKUP($C28,男子ﾃﾞｰﾀ貼付ｼｰﾄ!$A$3:$V$201,3))","v":""},"男",{"$f":"IF($C28=\"\",\"\",VLOOKUP($C28,男子ﾃﾞｰﾀ貼付ｼｰﾄ!$A$3:$V$201,22))","v":""},{"$f":"IF($C28=\"\",\"\",VLOOKUP($C28,男子ﾃﾞｰﾀ貼付ｼｰﾄ!$A$3:$V$201,18))","v":""},{"$f":"IF($C28=\"\",\"\",VLOOKUP($C28,男子ﾃﾞｰﾀ貼付ｼｰﾄ!$A$3:$V$201,16))","v":""},{"$f":"IF($C28=\"\",\"\",VLOOKUP($C28,男子ﾃﾞｰﾀ貼付ｼｰﾄ!$A$3:$V$201,12))","v":""},{"$f":"IF($C28=\"\",\"\",VLOOKUP($C28,男子ﾃﾞｰﾀ貼付ｼｰﾄ!$A$3:$V$201,9))","v":""}]
[22,null,null,{"$f":"IF($C29=\"\",\"\",VLOOKUP($C29,男子ﾃﾞｰﾀ貼付ｼｰﾄ!$A$3:$V$201,5))","v":""},{"$f":"IF($C29=\"\",\"\",VLOOKUP($C29,男子ﾃﾞｰﾀ貼付ｼｰﾄ!$A$3:$V$201,2))","v":""},{"$f":"IF($C29=\"\",\"\",VLOOKUP($C29,男子ﾃﾞｰﾀ貼付ｼｰﾄ!$A$3:$V$201,3))","v":""},"男",{"$f":"IF($C29=\"\",\"\",VLOOKUP($C29,男子ﾃﾞｰﾀ貼付ｼｰﾄ!$A$3:$V$201,22))","v":""},{"$f":"IF($C29=\"\",\"\",VLOOKUP($C29,男子ﾃﾞｰﾀ貼付ｼｰﾄ!$A$3:$V$201,18))","v":""},{"$f":"IF($C29=\"\",\"\",VLOOKUP($C29,男子ﾃﾞｰﾀ貼付ｼｰﾄ!$A$3:$V$201,16))","v":""},{"$f":"IF($C29=\"\",\"\",VLOOKUP($C29,男子ﾃﾞｰﾀ貼付ｼｰﾄ!$A$3:$V$201,12))","v":""},{"$f":"IF($C29=\"\",\"\",VLOOKUP($C29,男子ﾃﾞｰﾀ貼付ｼｰﾄ!$A$3:$V$201,9))","v":""}]
[23,null,null,{"$f":"IF($C30=\"\",\"\",VLOOKUP($C30,男子ﾃﾞｰﾀ貼付ｼｰﾄ!$A$3:$V$201,5))","v":""},{"$f":"IF($C30=\"\",\"\",VLOOKUP($C30,男子ﾃﾞｰﾀ貼付ｼｰﾄ!$A$3:$V$201,2))","v":""},{"$f":"IF($C30=\"\",\"\",VLOOKUP($C30,男子ﾃﾞｰﾀ貼付ｼｰﾄ!$A$3:$V$201,3))","v":""},"男",{"$f":"IF($C30=\"\",\"\",VLOOKUP($C30,男子ﾃﾞｰﾀ貼付ｼｰﾄ!$A$3:$V$201,22))","v":""},{"$f":"IF($C30=\"\",\"\",VLOOKUP($C30,男子ﾃﾞｰﾀ貼付ｼｰﾄ!$A$3:$V$201,18))","v":""},{"$f":"IF($C30=\"\",\"\",VLOOKUP($C30,男子ﾃﾞｰﾀ貼付ｼｰﾄ!$A$3:$V$201,16))","v":""},{"$f":"IF($C30=\"\",\"\",VLOOKUP($C30,男子ﾃﾞｰﾀ貼付ｼｰﾄ!$A$3:$V$201,12))","v":""},{"$f":"IF($C30=\"\",\"\",VLOOKUP($C30,男子ﾃﾞｰﾀ貼付ｼｰﾄ!$A$3:$V$201,9))","v":""}]
[24,null,null,{"$f":"IF($C31=\"\",\"\",VLOOKUP($C31,男子ﾃﾞｰﾀ貼付ｼｰﾄ!$A$3:$V$201,5))","v":""},{"$f":"IF($C31=\"\",\"\",VLOOKUP($C31,男子ﾃﾞｰﾀ貼付ｼｰﾄ!$A$3:$V$201,2))","v":""},{"$f":"IF($C31=\"\",\"\",VLOOKUP($C31,男子ﾃﾞｰﾀ貼付ｼｰﾄ!$A$3:$V$201,3))","v":""},"男",{"$f":"IF($C31=\"\",\"\",VLOOKUP($C31,男子ﾃﾞｰﾀ貼付ｼｰﾄ!$A$3:$V$201,22))","v":""},{"$f":"IF($C31=\"\",\"\",VLOOKUP($C31,男子ﾃﾞｰﾀ貼付ｼｰﾄ!$A$3:$V$201,18))","v":""},{"$f":"IF($C31=\"\",\"\",VLOOKUP($C31,男子ﾃﾞｰﾀ貼付ｼｰﾄ!$A$3:$V$201,16))","v":""},{"$f":"IF($C31=\"\",\"\",VLOOKUP($C31,男子ﾃﾞｰﾀ貼付ｼｰﾄ!$A$3:$V$201,12))","v":""},{"$f":"IF($C31=\"\",\"\",VLOOKUP($C31,男子ﾃﾞｰﾀ貼付ｼｰﾄ!$A$3:$V$201,9))","v":""}]
[25,null,null,{"$f":"IF($C32=\"\",\"\",VLOOKUP($C32,男子ﾃﾞｰﾀ貼付ｼｰﾄ!$A$3:$V$201,5))","v":""},{"$f":"IF($C32=\"\",\"\",VLOOKUP($C32,男子ﾃﾞｰﾀ貼付ｼｰﾄ!$A$3:$V$201,2))","v":""},{"$f":"IF($C32=\"\",\"\",VLOOKUP($C32,男子ﾃﾞｰﾀ貼付ｼｰﾄ!$A$3:$V$201,3))","v":""},"男",{"$f":"IF($C32=\"\",\"\",VLOOKUP($C32,男子ﾃﾞｰﾀ貼付ｼｰﾄ!$A$3:$V$201,22))","v":""},{"$f":"IF($C32=\"\",\"\",VLOOKUP($C32,男子ﾃﾞｰﾀ貼付ｼｰﾄ!$A$3:$V$201,18))","v":""},{"$f":"IF($C32=\"\",\"\",VLOOKUP($C32,男子ﾃﾞｰﾀ貼付ｼｰﾄ!$A$3:$V$201,16))","v":""},{"$f":"IF($C32=\"\",\"\",VLOOKUP($C32,男子ﾃﾞｰﾀ貼付ｼｰﾄ!$A$3:$V$201,12))","v":""},{"$f":"IF($C32=\"\",\"\",VLOOKUP($C32,男子ﾃﾞｰﾀ貼付ｼｰﾄ!$A$3:$V$201,9))","v":""}]
[26,null,null,{"$f":"IF($C33=\"\",\"\",VLOOKUP($C33,男子ﾃﾞｰﾀ貼付ｼｰﾄ!$A$3:$V$201,5))","v":""},{"$f":"IF($C33=\"\",\"\",VLOOKUP($C33,男子ﾃﾞｰﾀ貼付ｼｰﾄ!$A$3:$V$201,2))","v":""},{"$f":"IF($C33=\"\",\"\",VLOOKUP($C33,男子ﾃﾞｰﾀ貼付ｼｰﾄ!$A$3:$V$201,3))","v":""},"男",{"$f":"IF($C33=\"\",\"\",VLOOKUP($C33,男子ﾃﾞｰﾀ貼付ｼｰﾄ!$A$3:$V$201,22))","v":""},{"$f":"IF($C33=\"\",\"\",VLOOKUP($C33,男子ﾃﾞｰﾀ貼付ｼｰﾄ!$A$3:$V$201,18))","v":""},{"$f":"IF($C33=\"\",\"\",VLOOKUP($C33,男子ﾃﾞｰﾀ貼付ｼｰﾄ!$A$3:$V$201,16))","v":""},{"$f":"IF($C33=\"\",\"\",VLOOKUP($C33,男子ﾃﾞｰﾀ貼付ｼｰﾄ!$A$3:$V$201,12))","v":""},{"$f":"IF($C33=\"\",\"\",VLOOKUP($C33,男子ﾃﾞｰﾀ貼付ｼｰﾄ!$A$3:$V$201,9))","v":""}]
[27,null,null,{"$f":"IF($C34=\"\",\"\",VLOOKUP($C34,男子ﾃﾞｰﾀ貼付ｼｰﾄ!$A$3:$V$201,5))","v":""},{"$f":"IF($C34=\"\",\"\",VLOOKUP($C34,男子ﾃﾞｰﾀ貼付ｼｰﾄ!$A$3:$V$201,2))","v":""},{"$f":"IF($C34=\"\",\"\",VLOOKUP($C34,男子ﾃﾞｰﾀ貼付ｼｰﾄ!$A$3:$V$201,3))","v":""},"男",{"$f":"IF($C34=\"\",\"\",VLOOKUP($C34,男子ﾃﾞｰﾀ貼付ｼｰﾄ!$A$3:$V$201,22))","v":""},{"$f":"IF($C34=\"\",\"\",VLOOKUP($C34,男子ﾃﾞｰﾀ貼付ｼｰﾄ!$A$3:$V$201,18))","v":""},{"$f":"IF($C34=\"\",\"\",VLOOKUP($C34,男子ﾃﾞｰﾀ貼付ｼｰﾄ!$A$3:$V$201,16))","v":""},{"$f":"IF($C34=\"\",\"\",VLOOKUP($C34,男子ﾃﾞｰﾀ貼付ｼｰﾄ!$A$3:$V$201,12))","v":""},{"$f":"IF($C34=\"\",\"\",VLOOKUP($C34,男子ﾃﾞｰﾀ貼付ｼｰﾄ!$A$3:$V$201,9))","v":""}]
[28,null,null,{"$f":"IF($C35=\"\",\"\",VLOOKUP($C35,男子ﾃﾞｰﾀ貼付ｼｰﾄ!$A$3:$V$201,5))","v":""},{"$f":"IF($C35=\"\",\"\",VLOOKUP($C35,男子ﾃﾞｰﾀ貼付ｼｰﾄ!$A$3:$V$201,2))","v":""},{"$f":"IF($C35=\"\",\"\",VLOOKUP($C35,男子ﾃﾞｰﾀ貼付ｼｰﾄ!$A$3:$V$201,3))","v":""},"男",{"$f":"IF($C35=\"\",\"\",VLOOKUP($C35,男子ﾃﾞｰﾀ貼付ｼｰﾄ!$A$3:$V$201,22))","v":""},{"$f":"IF($C35=\"\",\"\",VLOOKUP($C35,男子ﾃﾞｰﾀ貼付ｼｰﾄ!$A$3:$V$201,18))","v":""},{"$f":"IF($C35=\"\",\"\",VLOOKUP($C35,男子ﾃﾞｰﾀ貼付ｼｰﾄ!$A$3:$V$201,16))","v":""},{"$f":"IF($C35=\"\",\"\",VLOOKUP($C35,男子ﾃﾞｰﾀ貼付ｼｰﾄ!$A$3:$V$201,12))","v":""},{"$f":"IF($C35=\"\",\"\",VLOOKUP($C35,男子ﾃﾞｰﾀ貼付ｼｰﾄ!$A$3:$V$201,9))","v":""}]
[29,null,null,{"$f":"IF($C36=\"\",\"\",VLOOKUP($C36,男子ﾃﾞｰﾀ貼付ｼｰﾄ!$A$3:$V$201,5))","v":""},{"$f":"IF($C36=\"\",\"\",VLOOKUP($C36,男子ﾃﾞｰﾀ貼付ｼｰﾄ!$A$3:$V$201,2))","v":""},{"$f":"IF($C36=\"\",\"\",VLOOKUP($C36,男子ﾃﾞｰﾀ貼付ｼｰﾄ!$A$3:$V$201,3))","v":""},"男",{"$f":"IF($C36=\"\",\"\",VLOOKUP($C36,男子ﾃﾞｰﾀ貼付ｼｰﾄ!$A$3:$V$201,22))","v":""},{"$f":"IF($C36=\"\",\"\",VLOOKUP($C36,男子ﾃﾞｰﾀ貼付ｼｰﾄ!$A$3:$V$201,18))","v":""},{"$f":"IF($C36=\"\",\"\",VLOOKUP($C36,男子ﾃﾞｰﾀ貼付ｼｰﾄ!$A$3:$V$201,16))","v":""},{"$f":"IF($C36=\"\",\"\",VLOOKUP($C36,男子ﾃﾞｰﾀ貼付ｼｰﾄ!$A$3:$V$201,12))","v":""},{"$f":"IF($C36=\"\",\"\",VLOOKUP($C36,男子ﾃﾞｰﾀ貼付ｼｰﾄ!$A$3:$V$201,9))","v":""}]
[30,null,null,{"$f":"IF($C37=\"\",\"\",VLOOKUP($C37,男子ﾃﾞｰﾀ貼付ｼｰﾄ!$A$3:$V$201,5))","v":""},{"$f":"IF($C37=\"\",\"\",VLOOKUP($C37,男子ﾃﾞｰﾀ貼付ｼｰﾄ!$A$3:$V$201,2))","v":""},{"$f":"IF($C37=\"\",\"\",VLOOKUP($C37,男子ﾃﾞｰﾀ貼付ｼｰﾄ!$A$3:$V$201,3))","v":""},"男",{"$f":"IF($C37=\"\",\"\",VLOOKUP($C37,男子ﾃﾞｰﾀ貼付ｼｰﾄ!$A$3:$V$201,22))","v":""},{"$f":"IF($C37=\"\",\"\",VLOOKUP($C37,男子ﾃﾞｰﾀ貼付ｼｰﾄ!$A$3:$V$201,18))","v":""},{"$f":"IF($C37=\"\",\"\",VLOOKUP($C37,男子ﾃﾞｰﾀ貼付ｼｰﾄ!$A$3:$V$201,16))","v":""},{"$f":"IF($C37=\"\",\"\",VLOOKUP($C37,男子ﾃﾞｰﾀ貼付ｼｰﾄ!$A$3:$V$201,12))","v":""},{"$f":"IF($C37=\"\",\"\",VLOOKUP($C37,男子ﾃﾞｰﾀ貼付ｼｰﾄ!$A$3:$V$201,9))","v":""}]
[31,null,null,{"$f":"IF($C38=\"\",\"\",VLOOKUP($C38,男子ﾃﾞｰﾀ貼付ｼｰﾄ!$A$3:$V$201,5))","v":""},{"$f":"IF($C38=\"\",\"\",VLOOKUP($C38,男子ﾃﾞｰﾀ貼付ｼｰﾄ!$A$3:$V$201,2))","v":""},{"$f":"IF($C38=\"\",\"\",VLOOKUP($C38,男子ﾃﾞｰﾀ貼付ｼｰﾄ!$A$3:$V$201,3))","v":""},"男",{"$f":"IF($C38=\"\",\"\",VLOOKUP($C38,男子ﾃﾞｰﾀ貼付ｼｰﾄ!$A$3:$V$201,22))","v":""},{"$f":"IF($C38=\"\",\"\",VLOOKUP($C38,男子ﾃﾞｰﾀ貼付ｼｰﾄ!$A$3:$V$201,18))","v":""},{"$f":"IF($C38=\"\",\"\",VLOOKUP($C38,男子ﾃﾞｰﾀ貼付ｼｰﾄ!$A$3:$V$201,16))","v":""},{"$f":"IF($C38=\"\",\"\",VLOOKUP($C38,男子ﾃﾞｰﾀ貼付ｼｰﾄ!$A$3:$V$201,12))","v":""},{"$f":"IF($C38=\"\",\"\",VLOOKUP($C38,男子ﾃﾞｰﾀ貼付ｼｰﾄ!$A$3:$V$201,9))","v":""}]
[32,null,null,{"$f":"IF($C39=\"\",\"\",VLOOKUP($C39,男子ﾃﾞｰﾀ貼付ｼｰﾄ!$A$3:$V$201,5))","v":""},{"$f":"IF($C39=\"\",\"\",VLOOKUP($C39,男子ﾃﾞｰﾀ貼付ｼｰﾄ!$A$3:$V$201,2))","v":""},{"$f":"IF($C39=\"\",\"\",VLOOKUP($C39,男子ﾃﾞｰﾀ貼付ｼｰﾄ!$A$3:$V$201,3))","v":""},"男",{"$f":"IF($C39=\"\",\"\",VLOOKUP($C39,男子ﾃﾞｰﾀ貼付ｼｰﾄ!$A$3:$V$201,22))","v":""},{"$f":"IF($C39=\"\",\"\",VLOOKUP($C39,男子ﾃﾞｰﾀ貼付ｼｰﾄ!$A$3:$V$201,18))","v":""},{"$f":"IF($C39=\"\",\"\",VLOOKUP($C39,男子ﾃﾞｰﾀ貼付ｼｰﾄ!$A$3:$V$201,16))","v":""},{"$f":"IF($C39=\"\",\"\",VLOOKUP($C39,男子ﾃﾞｰﾀ貼付ｼｰﾄ!$A$3:$V$201,12))","v":""},{"$f":"IF($C39=\"\",\"\",VLOOKUP($C39,男子ﾃﾞｰﾀ貼付ｼｰﾄ!$A$3:$V$201,9))","v":""}]
[33,null,null,{"$f":"IF($C40=\"\",\"\",VLOOKUP($C40,男子ﾃﾞｰﾀ貼付ｼｰﾄ!$A$3:$V$201,5))","v":""},{"$f":"IF($C40=\"\",\"\",VLOOKUP($C40,男子ﾃﾞｰﾀ貼付ｼｰﾄ!$A$3:$V$201,2))","v":""},{"$f":"IF($C40=\"\",\"\",VLOOKUP($C40,男子ﾃﾞｰﾀ貼付ｼｰﾄ!$A$3:$V$201,3))","v":""},"男",{"$f":"IF($C40=\"\",\"\",VLOOKUP($C40,男子ﾃﾞｰﾀ貼付ｼｰﾄ!$A$3:$V$201,22))","v":""},{"$f":"IF($C40=\"\",\"\",VLOOKUP($C40,男子ﾃﾞｰﾀ貼付ｼｰﾄ!$A$3:$V$201,18))","v":""},{"$f":"IF($C40=\"\",\"\",VLOOKUP($C40,男子ﾃﾞｰﾀ貼付ｼｰﾄ!$A$3:$V$201,16))","v":""},{"$f":"IF($C40=\"\",\"\",VLOOKUP($C40,男子ﾃﾞｰﾀ貼付ｼｰﾄ!$A$3:$V$201,12))","v":""},{"$f":"IF($C40=\"\",\"\",VLOOKUP($C40,男子ﾃﾞｰﾀ貼付ｼｰﾄ!$A$3:$V$201,9))","v":""}]
[34,null,null,{"$f":"IF($C41=\"\",\"\",VLOOKUP($C41,男子ﾃﾞｰﾀ貼付ｼｰﾄ!$A$3:$V$201,5))","v":""},{"$f":"IF($C41=\"\",\"\",VLOOKUP($C41,男子ﾃﾞｰﾀ貼付ｼｰﾄ!$A$3:$V$201,2))","v":""},{"$f":"IF($C41=\"\",\"\",VLOOKUP($C41,男子ﾃﾞｰﾀ貼付ｼｰﾄ!$A$3:$V$201,3))","v":""},"男",{"$f":"IF($C41=\"\",\"\",VLOOKUP($C41,男子ﾃﾞｰﾀ貼付ｼｰﾄ!$A$3:$V$201,22))","v":""},{"$f":"IF($C41=\"\",\"\",VLOOKUP($C41,男子ﾃﾞｰﾀ貼付ｼｰﾄ!$A$3:$V$201,18))","v":""},{"$f":"IF($C41=\"\",\"\",VLOOKUP($C41,男子ﾃﾞｰﾀ貼付ｼｰﾄ!$A$3:$V$201,16))","v":""},{"$f":"IF($C41=\"\",\"\",VLOOKUP($C41,男子ﾃﾞｰﾀ貼付ｼｰﾄ!$A$3:$V$201,12))","v":""},{"$f":"IF($C41=\"\",\"\",VLOOKUP($C41,男子ﾃﾞｰﾀ貼付ｼｰﾄ!$A$3:$V$201,9))","v":""}]
[35,null,null,{"$f":"IF($C42=\"\",\"\",VLOOKUP($C42,男子ﾃﾞｰﾀ貼付ｼｰﾄ!$A$3:$V$201,5))","v":""},{"$f":"IF($C42=\"\",\"\",VLOOKUP($C42,男子ﾃﾞｰﾀ貼付ｼｰﾄ!$A$3:$V$201,2))","v":""},{"$f":"IF($C42=\"\",\"\",VLOOKUP($C42,男子ﾃﾞｰﾀ貼付ｼｰﾄ!$A$3:$V$201,3))","v":""},"男",{"$f":"IF($C42=\"\",\"\",VLOOKUP($C42,男子ﾃﾞｰﾀ貼付ｼｰﾄ!$A$3:$V$201,22))","v":""},{"$f":"IF($C42=\"\",\"\",VLOOKUP($C42,男子ﾃﾞｰﾀ貼付ｼｰﾄ!$A$3:$V$201,18))","v":""},{"$f":"IF($C42=\"\",\"\",VLOOKUP($C42,男子ﾃﾞｰﾀ貼付ｼｰﾄ!$A$3:$V$201,16))","v":""},{"$f":"IF($C42=\"\",\"\",VLOOKUP($C42,男子ﾃﾞｰﾀ貼付ｼｰﾄ!$A$3:$V$201,12))","v":""},{"$f":"IF($C42=\"\",\"\",VLOOKUP($C42,男子ﾃﾞｰﾀ貼付ｼｰﾄ!$A$3:$V$201,9))","v":""}]
[36,null,null,{"$f":"IF($C43=\"\",\"\",VLOOKUP($C43,男子ﾃﾞｰﾀ貼付ｼｰﾄ!$A$3:$V$201,5))","v":""},{"$f":"IF($C43=\"\",\"\",VLOOKUP($C43,男子ﾃﾞｰﾀ貼付ｼｰﾄ!$A$3:$V$201,2))","v":""},{"$f":"IF($C43=\"\",\"\",VLOOKUP($C43,男子ﾃﾞｰﾀ貼付ｼｰﾄ!$A$3:$V$201,3))","v":""},"男",{"$f":"IF($C43=\"\",\"\",VLOOKUP($C43,男子ﾃﾞｰﾀ貼付ｼｰﾄ!$A$3:$V$201,22))","v":""},{"$f":"IF($C43=\"\",\"\",VLOOKUP($C43,男子ﾃﾞｰﾀ貼付ｼｰﾄ!$A$3:$V$201,18))","v":""},{"$f":"IF($C43=\"\",\"\",VLOOKUP($C43,男子ﾃﾞｰﾀ貼付ｼｰﾄ!$A$3:$V$201,16))","v":""},{"$f":"IF($C43=\"\",\"\",VLOOKUP($C43,男子ﾃﾞｰﾀ貼付ｼｰﾄ!$A$3:$V$201,12))","v":""},{"$f":"IF($C43=\"\",\"\",VLOOKUP($C43,男子ﾃﾞｰﾀ貼付ｼｰﾄ!$A$3:$V$201,9))","v":""}]
[37,null,null,{"$f":"IF($C44=\"\",\"\",VLOOKUP($C44,男子ﾃﾞｰﾀ貼付ｼｰﾄ!$A$3:$V$201,5))","v":""},{"$f":"IF($C44=\"\",\"\",VLOOKUP($C44,男子ﾃﾞｰﾀ貼付ｼｰﾄ!$A$3:$V$201,2))","v":""},{"$f":"IF($C44=\"\",\"\",VLOOKUP($C44,男子ﾃﾞｰﾀ貼付ｼｰﾄ!$A$3:$V$201,3))","v":""},"男",{"$f":"IF($C44=\"\",\"\",VLOOKUP($C44,男子ﾃﾞｰﾀ貼付ｼｰﾄ!$A$3:$V$201,22))","v":""},{"$f":"IF($C44=\"\",\"\",VLOOKUP($C44,男子ﾃﾞｰﾀ貼付ｼｰﾄ!$A$3:$V$201,18))","v":""},{"$f":"IF($C44=\"\",\"\",VLOOKUP($C44,男子ﾃﾞｰﾀ貼付ｼｰﾄ!$A$3:$V$201,16))","v":""},{"$f":"IF($C44=\"\",\"\",VLOOKUP($C44,男子ﾃﾞｰﾀ貼付ｼｰﾄ!$A$3:$V$201,12))","v":""},{"$f":"IF($C44=\"\",\"\",VLOOKUP($C44,男子ﾃﾞｰﾀ貼付ｼｰﾄ!$A$3:$V$201,9))","v":""}]
[38,null,null,{"$f":"IF($C45=\"\",\"\",VLOOKUP($C45,男子ﾃﾞｰﾀ貼付ｼｰﾄ!$A$3:$V$201,5))","v":""},{"$f":"IF($C45=\"\",\"\",VLOOKUP($C45,男子ﾃﾞｰﾀ貼付ｼｰﾄ!$A$3:$V$201,2))","v":""},{"$f":"IF($C45=\"\",\"\",VLOOKUP($C45,男子ﾃﾞｰﾀ貼付ｼｰﾄ!$A$3:$V$201,3))","v":""},"男",{"$f":"IF($C45=\"\",\"\",VLOOKUP($C45,男子ﾃﾞｰﾀ貼付ｼｰﾄ!$A$3:$V$201,22))","v":""},{"$f":"IF($C45=\"\",\"\",VLOOKUP($C45,男子ﾃﾞｰﾀ貼付ｼｰﾄ!$A$3:$V$201,18))","v":""},{"$f":"IF($C45=\"\",\"\",VLOOKUP($C45,男子ﾃﾞｰﾀ貼付ｼｰﾄ!$A$3:$V$201,16))","v":""},{"$f":"IF($C45=\"\",\"\",VLOOKUP($C45,男子ﾃﾞｰﾀ貼付ｼｰﾄ!$A$3:$V$201,12))","v":""},{"$f":"IF($C45=\"\",\"\",VLOOKUP($C45,男子ﾃﾞｰﾀ貼付ｼｰﾄ!$A$3:$V$201,9))","v":""}]
[39,null,null,{"$f":"IF($C46=\"\",\"\",VLOOKUP($C46,男子ﾃﾞｰﾀ貼付ｼｰﾄ!$A$3:$V$201,5))","v":""},{"$f":"IF($C46=\"\",\"\",VLOOKUP($C46,男子ﾃﾞｰﾀ貼付ｼｰﾄ!$A$3:$V$201,2))","v":""},{"$f":"IF($C46=\"\",\"\",VLOOKUP($C46,男子ﾃﾞｰﾀ貼付ｼｰﾄ!$A$3:$V$201,3))","v":""},"男",{"$f":"IF($C46=\"\",\"\",VLOOKUP($C46,男子ﾃﾞｰﾀ貼付ｼｰﾄ!$A$3:$V$201,22))","v":""},{"$f":"IF($C46=\"\",\"\",VLOOKUP($C46,男子ﾃﾞｰﾀ貼付ｼｰﾄ!$A$3:$V$201,18))","v":""},{"$f":"IF($C46=\"\",\"\",VLOOKUP($C46,男子ﾃﾞｰﾀ貼付ｼｰﾄ!$A$3:$V$201,16))","v":""},{"$f":"IF($C46=\"\",\"\",VLOOKUP($C46,男子ﾃﾞｰﾀ貼付ｼｰﾄ!$A$3:$V$201,12))","v":""},{"$f":"IF($C46=\"\",\"\",VLOOKUP($C46,男子ﾃﾞｰﾀ貼付ｼｰﾄ!$A$3:$V$201,9))","v":""}]
[40,null,null,{"$f":"IF($C47=\"\",\"\",VLOOKUP($C47,男子ﾃﾞｰﾀ貼付ｼｰﾄ!$A$3:$V$201,5))","v":""},{"$f":"IF($C47=\"\",\"\",VLOOKUP($C47,男子ﾃﾞｰﾀ貼付ｼｰﾄ!$A$3:$V$201,2))","v":""},{"$f":"IF($C47=\"\",\"\",VLOOKUP($C47,男子ﾃﾞｰﾀ貼付ｼｰﾄ!$A$3:$V$201,3))","v":""},"男",{"$f":"IF($C47=\"\",\"\",VLOOKUP($C47,男子ﾃﾞｰﾀ貼付ｼｰﾄ!$A$3:$V$201,22))","v":""},{"$f":"IF($C47=\"\",\"\",VLOOKUP($C47,男子ﾃﾞｰﾀ貼付ｼｰﾄ!$A$3:$V$201,18))","v":""},{"$f":"IF($C47=\"\",\"\",VLOOKUP($C47,男子ﾃﾞｰﾀ貼付ｼｰﾄ!$A$3:$V$201,16))","v":""},{"$f":"IF($C47=\"\",\"\",VLOOKUP($C47,男子ﾃﾞｰﾀ貼付ｼｰﾄ!$A$3:$V$201,12))","v":""},{"$f":"IF($C47=\"\",\"\",VLOOKUP($C47,男子ﾃﾞｰﾀ貼付ｼｰﾄ!$A$3:$V$201,9))","v":""}]
[]
["※記入方法について",null,null,null,null,null,null,null,null,null,null,null,null,null,"（種目）",null,{"$f":"N49*#REF!","v":{"$error":"#REF!"}}]
["１．ナンバーの県欄には、各県登録ナンバーを記入　北欄の記載は不要"]
["２．最高記録は2019.1.1～大会申込締切までの最高記録を記入",null,null,null,null,null,null,null,null,null,null,null,null,null,"（種目）",null,{"$f":"N51*#REF!","v":{"$error":"#REF!"}}]
["３．種目の年、月は記録を出した年を西暦下二けた(19or20)と月の４桁で記入"]
["４．不足する場合は、27行と48行の間の行を再表示してください。",null,null,null,null,null,null,null,null,null,null,null,null,null,"（種目）",null,{"$f":"N53*#REF!","v":{"$error":"#REF!"}}]
["　　それでも足りない場合は、行をコピーして挿入してください。"]
["５．申込書記入例を参考に種目等を記入してください。","個人情報保護について",null,null,null,null,null,null,null,null,null,null,null,null,"（種目）",null,{"$f":"N55*#REF!","v":{"$error":"#REF!"}}]
["※","ここに書かれている内容については本大会の運営だけに利用し、"]
[null,"その他、外部への情報供与は一切行いません。",null,null,null,null,null,null,null,null,null,null,null,null,"（種目）",null,{"$f":"N57*#REF!","v":{"$error":"#REF!"}}]
[]
[null,null,null,null,null,null,null,null,null,null,null,null,null,null,null,"合計",{"$f":"Q49+Q51+Q53+Q55+Q57","v":{"$error":"#REF!"}}]
[]
[null,"所属団体",null,null,null,null,null,null,null,null,null,null,"記載責任者（携帯電話番号）"]
[null,null,null,null,null,null,null,null,null,null,null,null,"氏名"]
[null,null,null,null,null,null,null,null,null,null,null,null,"（",null,null,null,null,"）"]
[null,"住所","〒"]
[null,null,null,null,null,null,null,null,null,null,null,null,"学校の場合は、学校長出場承認印"]
[null,"電話"]
[null,"FAX",null,null,null,null,null,null,null,null,null,null,null,null,null,null,null,"印"]

{"sheet":"女子ﾃﾞｰﾀ貼付ｼｰﾄ","index":4,"n_rows":34,"n_cols":22,"rows_kept":34,"cut":false,"hidden":false,"merged":[[1,0,1,2]]}
[]
["↓この3列には貼り付けないで！↓",null,null,"JAAF ID","会員名","会員名\nカナ","会員名\n英字(姓)","会員名\n英字(名)","国籍","性\n別","登録都道\n府県コード","登録    都道府  県名","団体ID","団体名","団体名\nカナ","団体名\n略称","団体名\n略称カナ","生年月日","都道府県  (学連)      登録番号","旧団体\nコード","備考","学年"]
[{"$f":"IF(S3=\"\",\"\",S3)","v":""},{"$f":"IF(F3=\"\",\"\",ASC(F3))","v":""},{"$f":"IF(G3=\"\",\"\",G3&\" \"&H3)","v":""}]
["","",""]
["","",""]
["","",""]
["","",""]
["","",""]
["","",""]
["","",""]
["","",""]
["","",""]
["","",""]
["","",""]
["","",""]
["","",""]
["","",""]
["","",""]
["","",""]
["","",""]
["","",""]
["","",""]
["","",""]
["","",""]
["","",""]
["","",""]
["","",""]
["","",""]
["","",""]
["","",""]
["","",""]
["","",""]
["","",""]
["","",""]

{"sheet":"【様式1-2】女子団体（個人）申込書","index":5,"n_rows":68,"n_cols":19,"rows_kept":68,"cut":false,"hidden":false,"merged":[[61,13,61,16],[62,13,62,16],[66,3,66,8],[1,5,1,12],[3,5,3,12],[67,3,67,8],[5,12,6,12],[64,3,64,4],[65,3,65,8],[5,5,6,5],[5,11,6,11],[5,7,6,7],[5,9,6,9],[0,17,0,18],[5,18,6,18],[5,0,6,0],[5,1,5,2],[5,3,6,3],[5,4,6,4],[5,6,6,6],[1,15,1,17],[5,13,5,17]]}
[null,null,null,null,null,null,null,null,null,null,null,null,null,null,null,null,null,"【様式1-2】"]
[null,null,null,"大会名",null,"第６４回北陸地域陸上競技選手権大会",null,null,null,null,null,null,null,null,null,"参加申込一覧表（　女子　）"]
[]
[null,null,null,"所属学校・団体名 ",null,null,null,null,null,null,null,null,null,{"$f":"IF(F4=\"\",\"\",女子ﾃﾞｰﾀ貼付ｼｰﾄ!T3)","v":""}]
[]
[null,"ﾅﾝﾊﾞｰ",null,"氏　名","ﾌﾘｶﾞﾅ\n(半角ｶﾀｶﾅ)","ｱﾙﾌｧﾍﾞｯﾄ表記","性別","学年","生年月日","所属","登録","国籍","種目","参加標準記録",null,null,null,null,"備考"]
[null,"北","県",null,null,null,null,null,"西暦8桁の数字",null,"都道府県",null,null,"記録","順位","年月(4桁)","大会名","場所"]
[1,null,null,{"$f":"IF($C8=\"\",\"\",VLOOKUP($C8,女子ﾃﾞｰﾀ貼付ｼｰﾄ!$A$3:$V$34,5))","v":""},{"$f":"IF($C8=\"\",\"\",VLOOKUP($C8,女子ﾃﾞｰﾀ貼付ｼｰﾄ!$A$3:$V$34,2))","v":""},{"$f":"IF($C8=\"\",\"\",VLOOKUP($C8,女子ﾃﾞｰﾀ貼付ｼｰﾄ!$A$3:$V$34,3))","v":""},"女",{"$f":"IF($C8=\"\",\"\",VLOOKUP($C8,女子ﾃﾞｰﾀ貼付ｼｰﾄ!$A$3:$V$34,22))","v":""},{"$f":"IF($C8=\"\",\"\",VLOOKUP($C8,女子ﾃﾞｰﾀ貼付ｼｰﾄ!$A$3:$V$34,18))","v":""},{"$f":"IF($C8=\"\",\"\",VLOOKUP($C8,女子ﾃﾞｰﾀ貼付ｼｰﾄ!$A$3:$V$34,16))","v":""},{"$f":"IF($C8=\"\",\"\",VLOOKUP($C8,女子ﾃﾞｰﾀ貼付ｼｰﾄ!$A$3:$V$34,12))","v":""},{"$f":"IF($C8=\"\",\"\",VLOOKUP($C8,女子ﾃﾞｰﾀ貼付ｼｰﾄ!$A$3:$V$34,9))","v":""}]
[2,null,null,{"$f":"IF($C9=\"\",\"\",VLOOKUP($C9,女子ﾃﾞｰﾀ貼付ｼｰﾄ!$A$3:$V$34,5))","v":""},{"$f":"IF($C9=\"\",\"\",VLOOKUP($C9,女子ﾃﾞｰﾀ貼付ｼｰﾄ!$A$3:$V$34,2))","v":""},{"$f":"IF($C9=\"\",\"\",VLOOKUP($C9,女子ﾃﾞｰﾀ貼付ｼｰﾄ!$A$3:$V$34,3))","v":""},"女",{"$f":"IF($C9=\"\",\"\",VLOOKUP($C9,女子ﾃﾞｰﾀ貼付ｼｰﾄ!$A$3:$V$34,22))","v":""},{"$f":"IF($C9=\"\",\"\",VLOOKUP($C9,女子ﾃﾞｰﾀ貼付ｼｰﾄ!$A$3:$V$34,18))","v":""},{"$f":"IF($C9=\"\",\"\",VLOOKUP($C9,女子ﾃﾞｰﾀ貼付ｼｰﾄ!$A$3:$V$34,16))","v":""},{"$f":"IF($C9=\"\",\"\",VLOOKUP($C9,女子ﾃﾞｰﾀ貼付ｼｰﾄ!$A$3:$V$34,12))","v":""},{"$f":"IF($C9=\"\",\"\",VLOOKUP($C9,女子ﾃﾞｰﾀ貼付ｼｰﾄ!$A$3:$V$34,9))","v":""}]
[3,null,null,{"$f":"IF($C10=\"\",\"\",VLOOKUP($C10,女子ﾃﾞｰﾀ貼付ｼｰﾄ!$A$3:$V$34,5))","v":""},{"$f":"IF($C10=\"\",\"\",VLOOKUP($C10,女子ﾃﾞｰﾀ貼付ｼｰﾄ!$A$3:$V$34,2))","v":""},{"$f":"IF($C10=\"\",\"\",VLOOKUP($C10,女子ﾃﾞｰﾀ貼付ｼｰﾄ!$A$3:$V$34,3))","v":""},"女",{"$f":"IF($C10=\"\",\"\",VLOOKUP($C10,女子ﾃﾞｰﾀ貼付ｼｰﾄ!$A$3:$V$34,22))","v":""},{"$f":"IF($C10=\"\",\"\",VLOOKUP($C10,女子ﾃﾞｰﾀ貼付ｼｰﾄ!$A$3:$V$34,18))","v":""},{"$f":"IF($C10=\"\",\"\",VLOOKUP($C10,女子ﾃﾞｰﾀ貼付ｼｰﾄ!$A$3:$V$34,16))","v":""},{"$f":"IF($C10=\"\",\"\",VLOOKUP($C10,女子ﾃﾞｰﾀ貼付ｼｰﾄ!$A$3:$V$34,12))","v":""},{"$f":"IF($C10=\"\",\"\",VLOOKUP($C10,女子ﾃﾞｰﾀ貼付ｼｰﾄ!$A$3:$V$34,9))","v":""}]
[4,null,null,{"$f":"IF($C11=\"\",\"\",VLOOKUP($C11,女子ﾃﾞｰﾀ貼付ｼｰﾄ!$A$3:$V$34,5))","v":""},{"$f":"IF($C11=\"\",\"\",VLOOKUP($C11,女子ﾃﾞｰﾀ貼付ｼｰﾄ!$A$3:$V$34,2))","v":""},{"$f":"IF($C11=\"\",\"\",VLOOKUP($C11,女子ﾃﾞｰﾀ貼付ｼｰﾄ!$A$3:$V$34,3))","v":""},"女",{"$f":"IF($C11=\"\",\"\",VLOOKUP($C11,女子ﾃﾞｰﾀ貼付ｼｰﾄ!$A$3:$V$34,22))","v":""},{"$f":"IF($C11=\"\",\"\",VLOOKUP($C11,女子ﾃﾞｰﾀ貼付ｼｰﾄ!$A$3:$V$34,18))","v":""},{"$f":"IF($C11=\"\",\"\",VLOOKUP($C11,女子ﾃﾞｰﾀ貼付ｼｰﾄ!$A$3:$V$34,16))","v":""},{"$f":"IF($C11=\"\",\"\",VLOOKUP($C11,女子ﾃﾞｰﾀ貼付ｼｰﾄ!$A$3:$V$34,12))","v":""},{"$f":"IF($C11=\"\",\"\",VLOOKUP($C11,女子ﾃﾞｰﾀ貼付ｼｰﾄ!$A$3:$V$34,9))","v":""}]
[5,null,null,{"$f":"IF($C12=\"\",\"\",VLOOKUP($C12,女子ﾃﾞｰﾀ貼付ｼｰﾄ!$A$3:$V$34,5))","v":""},{"$f":"IF($C12=\"\",\"\",VLOOKUP($C12,女子ﾃﾞｰﾀ貼付ｼｰﾄ!$A$3:$V$34,2))","v":""},{"$f":"IF($C12=\"\",\"\",VLOOKUP($C12,女子ﾃﾞｰﾀ貼付ｼｰﾄ!$A$3:$V$34,3))","v":""},"女",{"$f":"IF($C12=\"\",\"\",VLOOKUP($C12,女子ﾃﾞｰﾀ貼付ｼｰﾄ!$A$3:$V$34,22))","v":""},{"$f":"IF($C12=\"\",\"\",VLOOKUP($C12,女子ﾃﾞｰﾀ貼付ｼｰﾄ!$A$3:$V$34,18))","v":""},{"$f":"IF($C12=\"\",\"\",VLOOKUP($C12,女子ﾃﾞｰﾀ貼付ｼｰﾄ!$A$3:$V$34,16))","v":""},{"$f":"IF($C12=\"\",\"\",VLOOKUP($C12,女子ﾃﾞｰﾀ貼付ｼｰﾄ!$A$3:$V$34,12))","v":""},{"$f":"IF($C12=\"\",\"\",VLOOKUP($C12,女子ﾃﾞｰﾀ貼付ｼｰﾄ!$A$3:$V$34,9))","v":""}]
[6,null,null,{"$f":"IF($C13=\"\",\"\",VLOOKUP($C13,女子ﾃﾞｰﾀ貼付ｼｰﾄ!$A$3:$V$34,5))","v":""},{"$f":"IF($C13=\"\",\"\",VLOOKUP($C13,女子ﾃﾞｰﾀ貼付ｼｰﾄ!$A$3:$V$34,2))","v":""},{"$f":"IF($C13=\"\",\"\",VLOOKUP($C13,女子ﾃﾞｰﾀ貼付ｼｰﾄ!$A$3:$V$34,3))","v":""},"女",{"$f":"IF($C13=\"\",\"\",VLOOKUP($C13,女子ﾃﾞｰﾀ貼付ｼｰﾄ!$A$3:$V$34,22))","v":""},{"$f":"IF($C13=\"\",\"\",VLOOKUP($C13,女子ﾃﾞｰﾀ貼付ｼｰﾄ!$A$3:$V$34,18))","v":""},{"$f":"IF($C13=\"\",\"\",VLOOKUP($C13,女子ﾃﾞｰﾀ貼付ｼｰﾄ!$A$3:$V$34,16))","v":""},{"$f":"IF($C13=\"\",\"\",VLOOKUP($C13,女子ﾃﾞｰﾀ貼付ｼｰﾄ!$A$3:$V$34,12))","v":""},{"$f":"IF($C13=\"\",\"\",VLOOKUP($C13,女子ﾃﾞｰﾀ貼付ｼｰﾄ!$A$3:$V$34,9))","v":""}]
[7,null,null,{"$f":"IF($C14=\"\",\"\",VLOOKUP($C14,女子ﾃﾞｰﾀ貼付ｼｰﾄ!$A$3:$V$34,5))","v":""},{"$f":"IF($C14=\"\",\"\",VLOOKUP($C14,女子ﾃﾞｰﾀ貼付ｼｰﾄ!$A$3:$V$34,2))","v":""},{"$f":"IF($C14=\"\",\"\",VLOOKUP($C14,女子ﾃﾞｰﾀ貼付ｼｰﾄ!$A$3:$V$34,3))","v":""},"女",{"$f":"IF($C14=\"\",\"\",VLOOKUP($C14,女子ﾃﾞｰﾀ貼付ｼｰﾄ!$A$3:$V$34,22))","v":""},{"$f":"IF($C14=\"\",\"\",VLOOKUP($C14,女子ﾃﾞｰﾀ貼付ｼｰﾄ!$A$3:$V$34,18))","v":""},{"$f":"IF($C14=\"\",\"\",VLOOKUP($C14,女子ﾃﾞｰﾀ貼付ｼｰﾄ!$A$3:$V$34,16))","v":""},{"$f":"IF($C14=\"\",\"\",VLOOKUP($C14,女子ﾃﾞｰﾀ貼付ｼｰﾄ!$A$3:$V$34,12))","v":""},{"$f":"IF($C14=\"\",\"\",VLOOKUP($C14,女子ﾃﾞｰﾀ貼付ｼｰﾄ!$A$3:$V$34,9))","v":""}]
[8,null,null,{"$f":"IF($C15=\"\",\"\",VLOOKUP($C15,女子ﾃﾞｰﾀ貼付ｼｰﾄ!$A$3:$V$34,5))","v":""},{"$f":"IF($C15=\"\",\"\",VLOOKUP($C15,女子ﾃﾞｰﾀ貼付ｼｰﾄ!$A$3:$V$34,2))","v":""},{"$f":"IF($C15=\"\",\"\",VLOOKUP($C15,女子ﾃﾞｰﾀ貼付ｼｰﾄ!$A$3:$V$34,3))","v":""},"女",{"$f":"IF($C15=\"\",\"\",VLOOKUP($C15,女子ﾃﾞｰﾀ貼付ｼｰﾄ!$A$3:$V$34,22))","v":""},{"$f":"IF($C15=\"\",\"\",VLOOKUP($C15,女子ﾃﾞｰﾀ貼付ｼｰﾄ!$A$3:$V$34,18))","v":""},{"$f":"IF($C15=\"\",\"\",VLOOKUP($C15,女子ﾃﾞｰﾀ貼付ｼｰﾄ!$A$3:$V$34,16))","v":""},{"$f":"IF($C15=\"\",\"\",VLOOKUP($C15,女子ﾃﾞｰﾀ貼付ｼｰﾄ!$A$3:$V$34,12))","v":""},{"$f":"IF($C15=\"\",\"\",VLOOKUP($C15,女子ﾃﾞｰﾀ貼付ｼｰﾄ!$A$3:$V$34,9))","v":""}]
[9,null,null,{"$f":"IF($C16=\"\",\"\",VLOOKUP($C16,女子ﾃﾞｰﾀ貼付ｼｰﾄ!$A$3:$V$34,5))","v":""},{"$f":"IF($C16=\"\",\"\",VLOOKUP($C16,女子ﾃﾞｰﾀ貼付ｼｰﾄ!$A$3:$V$34,2))","v":""},{"$f":"IF($C16=\"\",\"\",VLOOKUP($C16,女子ﾃﾞｰﾀ貼付ｼｰﾄ!$A$3:$V$34,3))","v":""},"女",{"$f":"IF($C16=\"\",\"\",VLOOKUP($C16,女子ﾃﾞｰﾀ貼付ｼｰﾄ!$A$3:$V$34,22))","v":""},{"$f":"IF($C16=\"\",\"\",VLOOKUP($C16,女子ﾃﾞｰﾀ貼付ｼｰﾄ!$A$3:$V$34,18))","v":""},{"$f":"IF($C16=\"\",\"\",VLOOKUP($C16,女子ﾃﾞｰﾀ貼付ｼｰﾄ!$A$3:$V$34,16))","v":""},{"$f":"IF($C16=\"\",\"\",VLOOKUP($C16,女子ﾃﾞｰﾀ貼付ｼｰﾄ!$A$3:$V$34,12))","v":""},{"$f":"IF($C16=\"\",\"\",VLOOKUP($C16,女子ﾃﾞｰﾀ貼付ｼｰﾄ!$A$3:$V$34,9))","v":""}]
[10,null,null,{"$f":"IF($C17=\"\",\"\",VLOOKUP($C17,女子ﾃﾞｰﾀ貼付ｼｰﾄ!$A$3:$V$34,5))","v":""},{"$f":"IF($C17=\"\",\"\",VLOOKUP($C17,女子ﾃﾞｰﾀ貼付ｼｰﾄ!$A$3:$V$34,2))","v":""},{"$f":"IF($C17=\"\",\"\",VLOOKUP($C17,女子ﾃﾞｰﾀ貼付ｼｰﾄ!$A$3:$V$34,3))","v":""},"女",{"$f":"IF($C17=\"\",\"\",VLOOKUP($C17,女子ﾃﾞｰﾀ貼付ｼｰﾄ!$A$3:$V$34,22))","v":""},{"$f":"IF($C17=\"\",\"\",VLOOKUP($C17,女子ﾃﾞｰﾀ貼付ｼｰﾄ!$A$3:$V$34,18))","v":""},{"$f":"IF($C17=\"\",\"\",VLOOKUP($C17,女子ﾃﾞｰﾀ貼付ｼｰﾄ!$A$3:$V$34,16))","v":""},{"$f":"IF($C17=\"\",\"\",VLOOKUP($C17,女子ﾃﾞｰﾀ貼付ｼｰﾄ!$A$3:$V$34,12))","v":""},{"$f":"IF($C17=\"\",\"\",VLOOKUP($C17,女子ﾃﾞｰﾀ貼付ｼｰﾄ!$A$3:$V$34,9))","v":""}]
[11,null,null,{"$f":"IF($C18=\"\",\"\",VLOOKUP($C18,女子ﾃﾞｰﾀ貼付ｼｰﾄ!$A$3:$V$34,5))","v":""},{"$f":"IF($C18=\"\",\"\",VLOOKUP($C18,女子ﾃﾞｰﾀ貼付ｼｰﾄ!$A$3:$V$34,2))","v":""},{"$f":"IF($C18=\"\",\"\",VLOOKUP($C18,女子ﾃﾞｰﾀ貼付ｼｰﾄ!$A$3:$V$34,3))","v":""},"女",{"$f":"IF($C18=\"\",\"\",VLOOKUP($C18,女子ﾃﾞｰﾀ貼付ｼｰﾄ!$A$3:$V$34,22))","v":""},{"$f":"IF($C18=\"\",\"\",VLOOKUP($C18,女子ﾃﾞｰﾀ貼付ｼｰﾄ!$A$3:$V$34,18))","v":""},{"$f":"IF($C18=\"\",\"\",VLOOKUP($C18,女子ﾃﾞｰﾀ貼付ｼｰﾄ!$A$3:$V$34,16))","v":""},{"$f":"IF($C18=\"\",\"\",VLOOKUP($C18,女子ﾃﾞｰﾀ貼付ｼｰﾄ!$A$3:$V$34,12))","v":""},{"$f":"IF($C18=\"\",\"\",VLOOKUP($C18,女子ﾃﾞｰﾀ貼付ｼｰﾄ!$A$3:$V$34,9))","v":""}]
[12,null,null,{"$f":"IF($C19=\"\",\"\",VLOOKUP($C19,女子ﾃﾞｰﾀ貼付ｼｰﾄ!$A$3:$V$34,5))","v":""},{"$f":"IF($C19=\"\",\"\",VLOOKUP($C19,女子ﾃﾞｰﾀ貼付ｼｰﾄ!$A$3:$V$34,2))","v":""},{"$f":"IF($C19=\"\",\"\",VLOOKUP($C19,女子ﾃﾞｰﾀ貼付ｼｰﾄ!$A$3:$V$34,3))","v":""},"女",{"$f":"IF($C19=\"\",\"\",VLOOKUP($C19,女子ﾃﾞｰﾀ貼付ｼｰﾄ!$A$3:$V$34,22))","v":""},{"$f":"IF($C19=\"\",\"\",VLOOKUP($C19,女子ﾃﾞｰﾀ貼付ｼｰﾄ!$A$3:$V$34,18))","v":""},{"$f":"IF($C19=\"\",\"\",VLOOKUP($C19,女子ﾃﾞｰﾀ貼付ｼｰﾄ!$A$3:$V$34,16))","v":""},{"$f":"IF($C19=\"\",\"\",VLOOKUP($C19,女子ﾃﾞｰﾀ貼付ｼｰﾄ!$A$3:$V$34,12))","v":""},{"$f":"IF($C19=\"\",\"\",VLOOKUP($C19,女子ﾃﾞｰﾀ貼付ｼｰﾄ!$A$3:$V$34,9))","v":""}]
[13,null,null,{"$f":"IF($C20=\"\",\"\",VLOOKUP($C20,女子ﾃﾞｰﾀ貼付ｼｰﾄ!$A$3:$V$34,5))","v":""},{"$f":"IF($C20=\"\",\"\",VLOOKUP($C20,女子ﾃﾞｰﾀ貼付ｼｰﾄ!$A$3:$V$34,2))","v":""},{"$f":"IF($C20=\"\",\"\",VLOOKUP($C20,女子ﾃﾞｰﾀ貼付ｼｰﾄ!$A$3:$V$34,3))","v":""},"女",{"$f":"IF($C20=\"\",\"\",VLOOKUP($C20,女子ﾃﾞｰﾀ貼付ｼｰﾄ!$A$3:$V$34,22))","v":""},{"$f":"IF($C20=\"\",\"\",VLOOKUP($C20,女子ﾃﾞｰﾀ貼付ｼｰﾄ!$A$3:$V$34,18))","v":""},{"$f":"IF($C20=\"\",\"\",VLOOKUP($C20,女子ﾃﾞｰﾀ貼付ｼｰﾄ!$A$3:$V$34,16))","v":""},{"$f":"IF($C20=\"\",\"\",VLOOKUP($C20,女子ﾃﾞｰﾀ貼付ｼｰﾄ!$A$3:$V$34,12))","v":""},{"$f":"IF($C20=\"\",\"\",VLOOKUP($C20,女子ﾃﾞｰﾀ貼付ｼｰﾄ!$A$3:$V$34,9))","v":""}]
[14,null,null,{"$f":"IF($C21=\"\",\"\",VLOOKUP($C21,女子ﾃﾞｰﾀ貼付ｼｰﾄ!$A$3:$V$34,5))","v":""},{"$f":"IF($C21=\"\",\"\",VLOOKUP($C21,女子ﾃﾞｰﾀ貼付ｼｰﾄ!$A$3:$V$34,2))","v":""},{"$f":"IF($C21=\"\",\"\",VLOOKUP($C21,女子ﾃﾞｰﾀ貼付ｼｰﾄ!$A$3:$V$34,3))","v":""},"女",{"$f":"IF($C21=\"\",\"\",VLOOKUP($C21,女子ﾃﾞｰﾀ貼付ｼｰﾄ!$A$3:$V$34,22))","v":""},{"$f":"IF($C21=\"\",\"\",VLOOKUP($C21,女子ﾃﾞｰﾀ貼付ｼｰﾄ!$A$3:$V$34,18))","v":""},{"$f":"IF($C21=\"\",\"\",VLOOKUP($C21,女子ﾃﾞｰﾀ貼付ｼｰﾄ!$A$3:$V$34,16))","v":""},{"$f":"IF($C21=\"\",\"\",VLOOKUP($C21,女子ﾃﾞｰﾀ貼付ｼｰﾄ!$A$3:$V$34,12))","v":""},{"$f":"IF($C21=\"\",\"\",VLOOKUP($C21,女子ﾃﾞｰﾀ貼付ｼｰﾄ!$A$3:$V$34,9))","v":""}]
[15,null,null,{"$f":"IF($C22=\"\",\"\",VLOOKUP($C22,女子ﾃﾞｰﾀ貼付ｼｰﾄ!$A$3:$V$34,5))","v":""},{"$f":"IF($C22=\"\",\"\",VLOOKUP($C22,女子ﾃﾞｰﾀ貼付ｼｰﾄ!$A$3:$V$34,2))","v":""},{"$f":"IF($C22=\"\",\"\",VLOOKUP($C22,女子ﾃﾞｰﾀ貼付ｼｰﾄ!$A$3:$V$34,3))","v":""},"女",{"$f":"IF($C22=\"\",\"\",VLOOKUP($C22,女子ﾃﾞｰﾀ貼付ｼｰﾄ!$A$3:$V$34,22))","v":""},{"$f":"IF($C22=\"\",\"\",VLOOKUP($C22,女子ﾃﾞｰﾀ貼付ｼｰﾄ!$A$3:$V$34,18))","v":""},{"$f":"IF($C22=\"\",\"\",VLOOKUP($C22,女子ﾃﾞｰﾀ貼付ｼｰﾄ!$A$3:$V$34,16))","v":""},{"$f":"IF($C22=\"\",\"\",VLOOKUP($C22,女子ﾃﾞｰﾀ貼付ｼｰﾄ!$A$3:$V$34,12))","v":""},{"$f":"IF($C22=\"\",\"\",VLOOKUP($C22,女子ﾃﾞｰﾀ貼付ｼｰﾄ!$A$3:$V$34,9))","v":""}]
[16,null,null,{"$f":"IF($C23=\"\",\"\",VLOOKUP($C23,女子ﾃﾞｰﾀ貼付ｼｰﾄ!$A$3:$V$34,5))","v":""},{"$f":"IF($C23=\"\",\"\",VLOOKUP($C23,女子ﾃﾞｰﾀ貼付ｼｰﾄ!$A$3:$V$34,2))","v":""},{"$f":"IF($C23=\"\",\"\",VLOOKUP($C23,女子ﾃﾞｰﾀ貼付ｼｰﾄ!$A$3:$V$34,3))","v":""},"女",{"$f":"IF($C23=\"\",\"\",VLOOKUP($C23,女子ﾃﾞｰﾀ貼付ｼｰﾄ!$A$3:$V$34,22))","v":""},{"$f":"IF($C23=\"\",\"\",VLOOKUP($C23,女子ﾃﾞｰﾀ貼付ｼｰﾄ!$A$3:$V$34,18))","v":""},{"$f":"IF($C23=\"\",\"\",VLOOKUP($C23,女子ﾃﾞｰﾀ貼付ｼｰﾄ!$A$3:$V$34,16))","v":""},{"$f":"IF($C23=\"\",\"\",VLOOKUP($C23,女子ﾃﾞｰﾀ貼付ｼｰﾄ!$A$3:$V$34,12))","v":""},{"$f":"IF($C23=\"\",\"\",VLOOKUP($C23,女子ﾃﾞｰﾀ貼付ｼｰﾄ!$A$3:$V$34,9))","v":""}]
[17,null,null,{"$f":"IF($C24=\"\",\"\",VLOOKUP($C24,女子ﾃﾞｰﾀ貼付ｼｰﾄ!$A$3:$V$34,5))","v":""},{"$f":"IF($C24=\"\",\"\",VLOOKUP($C24,女子ﾃﾞｰﾀ貼付ｼｰﾄ!$A$3:$V$34,2))","v":""},{"$f":"IF($C24=\"\",\"\",VLOOKUP($C24,女子ﾃﾞｰﾀ貼付ｼｰﾄ!$A$3:$V$34,3))","v":""},"女",{"$f":"IF($C24=\"\",\"\",VLOOKUP($C24,女子ﾃﾞｰﾀ貼付ｼｰﾄ!$A$3:$V$34,22))","v":""},{"$f":"IF($C24=\"\",\"\",VLOOKUP($C24,女子ﾃﾞｰﾀ貼付ｼｰﾄ!$A$3:$V$34,18))","v":""},{"$f":"IF($C24=\"\",\"\",VLOOKUP($C24,女子ﾃﾞｰﾀ貼付ｼｰﾄ!$A$3:$V$34,16))","v":""},{"$f":"IF($C24=\"\",\"\",VLOOKUP($C24,女子ﾃﾞｰﾀ貼付ｼｰﾄ!$A$3:$V$34,12))","v":""},{"$f":"IF($C24=\"\",\"\",VLOOKUP($C24,女子ﾃﾞｰﾀ貼付ｼｰﾄ!$A$3:$V$34,9))","v":""}]
[18,null,null,{"$f":"IF($C25=\"\",\"\",VLOOKUP($C25,女子ﾃﾞｰﾀ貼付ｼｰﾄ!$A$3:$V$34,5))","v":""},{"$f":"IF($C25=\"\",\"\",VLOOKUP($C25,女子ﾃﾞｰﾀ貼付ｼｰﾄ!$A$3:$V$34,2))","v":""},{"$f":"IF($C25=\"\",\"\",VLOOKUP($C25,女子ﾃﾞｰﾀ貼付ｼｰﾄ!$A$3:$V$34,3))","v":""},"女",{"$f":"IF($C25=\"\",\"\",VLOOKUP($C25,女子ﾃﾞｰﾀ貼付ｼｰﾄ!$A$3:$V$34,22))","v":""},{"$f":"IF($C25=\"\",\"\",VLOOKUP($C25,女子ﾃﾞｰﾀ貼付ｼｰﾄ!$A$3:$V$34,18))","v":""},{"$f":"IF($C25=\"\",\"\",VLOOKUP($C25,女子ﾃﾞｰﾀ貼付ｼｰﾄ!$A$3:$V$34,16))","v":""},{"$f":"IF($C25=\"\",\"\",VLOOKUP($C25,女子ﾃﾞｰﾀ貼付ｼｰﾄ!$A$3:$V$34,12))","v":""},{"$f":"IF($C25=\"\",\"\",VLOOKUP($C25,女子ﾃﾞｰﾀ貼付ｼｰﾄ!$A$3:$V$34,9))","v":""}]
[19,null,null,{"$f":"IF($C26=\"\",\"\",VLOOKUP($C26,女子ﾃﾞｰﾀ貼付ｼｰﾄ!$A$3:$V$34,5))","v":""},{"$f":"IF($C26=\"\",\"\",VLOOKUP($C26,女子ﾃﾞｰﾀ貼付ｼｰﾄ!$A$3:$V$34,2))","v":""},{"$f":"IF($C26=\"\",\"\",VLOOKUP($C26,女子ﾃﾞｰﾀ貼付ｼｰﾄ!$A$3:$V$34,3))","v":""},"女",{"$f":"IF($C26=\"\",\"\",VLOOKUP($C26,女子ﾃﾞｰﾀ貼付ｼｰﾄ!$A$3:$V$34,22))","v":""},{"$f":"IF($C26=\"\",\"\",VLOOKUP($C26,女子ﾃﾞｰﾀ貼付ｼｰﾄ!$A$3:$V$34,18))","v":""},{"$f":"IF($C26=\"\",\"\",VLOOKUP($C26,女子ﾃﾞｰﾀ貼付ｼｰﾄ!$A$3:$V$34,16))","v":""},{"$f":"IF($C26=\"\",\"\",VLOOKUP($C26,女子ﾃﾞｰﾀ貼付ｼｰﾄ!$A$3:$V$34,12))","v":""},{"$f":"IF($C26=\"\",\"\",VLOOKUP($C26,女子ﾃﾞｰﾀ貼付ｼｰﾄ!$A$3:$V$34,9))","v":""}]
[20,null,null,{"$f":"IF($C27=\"\",\"\",VLOOKUP($C27,女子ﾃﾞｰﾀ貼付ｼｰﾄ!$A$3:$V$34,5))","v":""},{"$f":"IF($C27=\"\",\"\",VLOOKUP($C27,女子ﾃﾞｰﾀ貼付ｼｰﾄ!$A$3:$V$34,2))","v":""},{"$f":"IF($C27=\"\",\"\",VLOOKUP($C27,女子ﾃﾞｰﾀ貼付ｼｰﾄ!$A$3:$V$34,3))","v":""},"女",{"$f":"IF($C27=\"\",\"\",VLOOKUP($C27,女子ﾃﾞｰﾀ貼付ｼｰﾄ!$A$3:$V$34,22))","v":""},{"$f":"IF($C27=\"\",\"\",VLOOKUP($C27,女子ﾃﾞｰﾀ貼付ｼｰﾄ!$A$3:$V$34,18))","v":""},{"$f":"IF($C27=\"\",\"\",VLOOKUP($C27,女子ﾃﾞｰﾀ貼付ｼｰﾄ!$A$3:$V$34,16))","v":""},{"$f":"IF($C27=\"\",\"\",VLOOKUP($C27,女子ﾃﾞｰﾀ貼付ｼｰﾄ!$A$3:$V$34,12))","v":""},{"$f":"IF($C27=\"\",\"\",VLOOKUP($C27,女子ﾃﾞｰﾀ貼付ｼｰﾄ!$A$3:$V$34,9))","v":""}]
[21,null,null,{"$f":"IF($C28=\"\",\"\",VLOOKUP($C28,女子ﾃﾞｰﾀ貼付ｼｰﾄ!$A$3:$V$34,5))","v":""},{"$f":"IF($C28=\"\",\"\",VLOOKUP($C28,女子ﾃﾞｰﾀ貼付ｼｰﾄ!$A$3:$V$34,2))","v":""},{"$f":"IF($C28=\"\",\"\",VLOOKUP($C28,女子ﾃﾞｰﾀ貼付ｼｰﾄ!$A$3:$V$34,3))","v":""},"女",{"$f":"IF($C28=\"\",\"\",VLOOKUP($C28,女子ﾃﾞｰﾀ貼付ｼｰﾄ!$A$3:$V$34,22))","v":""},{"$f":"IF($C28=\"\",\"\",VLOOKUP($C28,女子ﾃﾞｰﾀ貼付ｼｰﾄ!$A$3:$V$34,18))","v":""},{"$f":"IF($C28=\"\",\"\",VLOOKUP($C28,女子ﾃﾞｰﾀ貼付ｼｰﾄ!$A$3:$V$34,16))","v":""},{"$f":"IF($C28=\"\",\"\",VLOOKUP($C28,女子ﾃﾞｰﾀ貼付ｼｰﾄ!$A$3:$V$34,12))","v":""},{"$f":"IF($C28=\"\",\"\",VLOOKUP($C28,女子ﾃﾞｰﾀ貼付ｼｰﾄ!$A$3:$V$34,9))","v":""}]
[22,null,null,{"$f":"IF($C29=\"\",\"\",VLOOKUP($C29,女子ﾃﾞｰﾀ貼付ｼｰﾄ!$A$3:$V$34,5))","v":""},{"$f":"IF($C29=\"\",\"\",VLOOKUP($C29,女子ﾃﾞｰﾀ貼付ｼｰﾄ!$A$3:$V$34,2))","v":""},{"$f":"IF($C29=\"\",\"\",VLOOKUP($C29,女子ﾃﾞｰﾀ貼付ｼｰﾄ!$A$3:$V$34,3))","v":""},"女",{"$f":"IF($C29=\"\",\"\",VLOOKUP($C29,女子ﾃﾞｰﾀ貼付ｼｰﾄ!$A$3:$V$34,22))","v":""},{"$f":"IF($C29=\"\",\"\",VLOOKUP($C29,女子ﾃﾞｰﾀ貼付ｼｰﾄ!$A$3:$V$34,18))","v":""},{"$f":"IF($C29=\"\",\"\",VLOOKUP($C29,女子ﾃﾞｰﾀ貼付ｼｰﾄ!$A$3:$V$34,16))","v":""},{"$f":"IF($C29=\"\",\"\",VLOOKUP($C29,女子ﾃﾞｰﾀ貼付ｼｰﾄ!$A$3:$V$34,12))","v":""},{"$f":"IF($C29=\"\",\"\",VLOOKUP($C29,女子ﾃﾞｰﾀ貼付ｼｰﾄ!$A$3:$V$34,9))","v":""}]
[23,null,null,{"$f":"IF($C30=\"\",\"\",VLOOKUP($C30,女子ﾃﾞｰﾀ貼付ｼｰﾄ!$A$3:$V$34,5))","v":""},{"$f":"IF($C30=\"\",\"\",VLOOKUP($C30,女子ﾃﾞｰﾀ貼付ｼｰﾄ!$A$3:$V$34,2))","v":""},{"$f":"IF($C30=\"\",\"\",VLOOKUP($C30,女子ﾃﾞｰﾀ貼付ｼｰﾄ!$A$3:$V$34,3))","v":""},"女",{"$f":"IF($C30=\"\",\"\",VLOOKUP($C30,女子ﾃﾞｰﾀ貼付ｼｰﾄ!$A$3:$V$34,22))","v":""},{"$f":"IF($C30=\"\",\"\",VLOOKUP($C30,女子ﾃﾞｰﾀ貼付ｼｰﾄ!$A$3:$V$34,18))","v":""},{"$f":"IF($C30=\"\",\"\",VLOOKUP($C30,女子ﾃﾞｰﾀ貼付ｼｰﾄ!$A$3:$V$34,16))","v":""},{"$f":"IF($C30=\"\",\"\",VLOOKUP($C30,女子ﾃﾞｰﾀ貼付ｼｰﾄ!$A$3:$V$34,12))","v":""},{"$f":"IF($C30=\"\",\"\",VLOOKUP($C30,女子ﾃﾞｰﾀ貼付ｼｰﾄ!$A$3:$V$34,9))","v":""}]
[24,null,null,{"$f":"IF($C31=\"\",\"\",VLOOKUP($C31,女子ﾃﾞｰﾀ貼付ｼｰﾄ!$A$3:$V$34,5))","v":""},{"$f":"IF($C31=\"\",\"\",VLOOKUP($C31,女子ﾃﾞｰﾀ貼付ｼｰﾄ!$A$3:$V$34,2))","v":""},{"$f":"IF($C31=\"\",\"\",VLOOKUP($C31,女子ﾃﾞｰﾀ貼付ｼｰﾄ!$A$3:$V$34,3))","v":""},"女",{"$f":"IF($C31=\"\",\"\",VLOOKUP($C31,女子ﾃﾞｰﾀ貼付ｼｰﾄ!$A$3:$V$34,22))","v":""},{"$f":"IF($C31=\"\",\"\",VLOOKUP($C31,女子ﾃﾞｰﾀ貼付ｼｰﾄ!$A$3:$V$34,18))","v":""},{"$f":"IF($C31=\"\",\"\",VLOOKUP($C31,女子ﾃﾞｰﾀ貼付ｼｰﾄ!$A$3:$V$34,16))","v":""},{"$f":"IF($C31=\"\",\"\",VLOOKUP($C31,女子ﾃﾞｰﾀ貼付ｼｰﾄ!$A$3:$V$34,12))","v":""},{"$f":"IF($C31=\"\",\"\",VLOOKUP($C31,女子ﾃﾞｰﾀ貼付ｼｰﾄ!$A$3:$V$34,9))","v":""}]
[25,null,null,{"$f":"IF($C32=\"\",\"\",VLOOKUP($C32,女子ﾃﾞｰﾀ貼付ｼｰﾄ!$A$3:$V$34,5))","v":""},{"$f":"IF($C32=\"\",\"\",VLOOKUP($C32,女子ﾃﾞｰﾀ貼付ｼｰﾄ!$A$3:$V$34,2))","v":""},{"$f":"IF($C32=\"\",\"\",VLOOKUP($C32,女子ﾃﾞｰﾀ貼付ｼｰﾄ!$A$3:$V$34,3))","v":""},"女",{"$f":"IF($C32=\"\",\"\",VLOOKUP($C32,女子ﾃﾞｰﾀ貼付ｼｰﾄ!$A$3:$V$34,22))","v":""},{"$f":"IF($C32=\"\",\"\",VLOOKUP($C32,女子ﾃﾞｰﾀ貼付ｼｰﾄ!$A$3:$V$34,18))","v":""},{"$f":"IF($C32=\"\",\"\",VLOOKUP($C32,女子ﾃﾞｰﾀ貼付ｼｰﾄ!$A$3:$V$34,16))","v":""},{"$f":"IF($C32=\"\",\"\",VLOOKUP($C32,女子ﾃﾞｰﾀ貼付ｼｰﾄ!$A$3:$V$34,12))","v":""},{"$f":"IF($C32=\"\",\"\",VLOOKUP($C32,女子ﾃﾞｰﾀ貼付ｼｰﾄ!$A$3:$V$34,9))","v":""}]
[26,null,null,{"$f":"IF($C33=\"\",\"\",VLOOKUP($C33,女子ﾃﾞｰﾀ貼付ｼｰﾄ!$A$3:$V$34,5))","v":""},{"$f":"IF($C33=\"\",\"\",VLOOKUP($C33,女子ﾃﾞｰﾀ貼付ｼｰﾄ!$A$3:$V$34,2))","v":""},{"$f":"IF($C33=\"\",\"\",VLOOKUP($C33,女子ﾃﾞｰﾀ貼付ｼｰﾄ!$A$3:$V$34,3))","v":""},"女",{"$f":"IF($C33=\"\",\"\",VLOOKUP($C33,女子ﾃﾞｰﾀ貼付ｼｰﾄ!$A$3:$V$34,22))","v":""},{"$f":"IF($C33=\"\",\"\",VLOOKUP($C33,女子ﾃﾞｰﾀ貼付ｼｰﾄ!$A$3:$V$34,18))","v":""},{"$f":"IF($C33=\"\",\"\",VLOOKUP($C33,女子ﾃﾞｰﾀ貼付ｼｰﾄ!$A$3:$V$34,16))","v":""},{"$f":"IF($C33=\"\",\"\",VLOOKUP($C33,女子ﾃﾞｰﾀ貼付ｼｰﾄ!$A$3:$V$34,12))","v":""},{"$f":"IF($C33=\"\",\"\",VLOOKUP($C33,女子ﾃﾞｰﾀ貼付ｼｰﾄ!$A$3:$V$34,9))","v":""}]
[27,null,null,{"$f":"IF($C34=\"\",\"\",VLOOKUP($C34,女子ﾃﾞｰﾀ貼付ｼｰﾄ!$A$3:$V$34,5))","v":""},{"$f":"IF($C34=\"\",\"\",VLOOKUP($C34,女子ﾃﾞｰﾀ貼付ｼｰﾄ!$A$3:$V$34,2))","v":""},{"$f":"IF($C34=\"\",\"\",VLOOKUP($C34,女子ﾃﾞｰﾀ貼付ｼｰﾄ!$A$3:$V$34,3))","v":""},"女",{"$f":"IF($C34=\"\",\"\",VLOOKUP($C34,女子ﾃﾞｰﾀ貼付ｼｰﾄ!$A$3:$V$34,22))","v":""},{"$f":"IF($C34=\"\",\"\",VLOOKUP($C34,女子ﾃﾞｰﾀ貼付ｼｰﾄ!$A$3:$V$34,18))","v":""},{"$f":"IF($C34=\"\",\"\",VLOOKUP($C34,女子ﾃﾞｰﾀ貼付ｼｰﾄ!$A$3:$V$34,16))","v":""},{"$f":"IF($C34=\"\",\"\",VLOOKUP($C34,女子ﾃﾞｰﾀ貼付ｼｰﾄ!$A$3:$V$34,12))","v":""},{"$f":"IF($C34=\"\",\"\",VLOOKUP($C34,女子ﾃﾞｰﾀ貼付ｼｰﾄ!$A$3:$V$34,9))","v":""}]
[28,null,null,{"$f":"IF($C35=\"\",\"\",VLOOKUP($C35,女子ﾃﾞｰﾀ貼付ｼｰﾄ!$A$3:$V$34,5))","v":""},{"$f":"IF($C35=\"\",\"\",VLOOKUP($C35,女子ﾃﾞｰﾀ貼付ｼｰﾄ!$A$3:$V$34,2))","v":""},{"$f":"IF($C35=\"\",\"\",VLOOKUP($C35,女子ﾃﾞｰﾀ貼付ｼｰﾄ!$A$3:$V$34,3))","v":""},"女",{"$f":"IF($C35=\"\",\"\",VLOOKUP($C35,女子ﾃﾞｰﾀ貼付ｼｰﾄ!$A$3:$V$34,22))","v":""},{"$f":"IF($C35=\"\",\"\",VLOOKUP($C35,女子ﾃﾞｰﾀ貼付ｼｰﾄ!$A$3:$V$34,18))","v":""},{"$f":"IF($C35=\"\",\"\",VLOOKUP($C35,女子ﾃﾞｰﾀ貼付ｼｰﾄ!$A$3:$V$34,16))","v":""},{"$f":"IF($C35=\"\",\"\",VLOOKUP($C35,女子ﾃﾞｰﾀ貼付ｼｰﾄ!$A$3:$V$34,12))","v":""},{"$f":"IF($C35=\"\",\"\",VLOOKUP($C35,女子ﾃﾞｰﾀ貼付ｼｰﾄ!$A$3:$V$34,9))","v":""}]
[29,null,null,{"$f":"IF($C36=\"\",\"\",VLOOKUP($C36,女子ﾃﾞｰﾀ貼付ｼｰﾄ!$A$3:$V$34,5))","v":""},{"$f":"IF($C36=\"\",\"\",VLOOKUP($C36,女子ﾃﾞｰﾀ貼付ｼｰﾄ!$A$3:$V$34,2))","v":""},{"$f":"IF($C36=\"\",\"\",VLOOKUP($C36,女子ﾃﾞｰﾀ貼付ｼｰﾄ!$A$3:$V$34,3))","v":""},"女",{"$f":"IF($C36=\"\",\"\",VLOOKUP($C36,女子ﾃﾞｰﾀ貼付ｼｰﾄ!$A$3:$V$34,22))","v":""},{"$f":"IF($C36=\"\",\"\",VLOOKUP($C36,女子ﾃﾞｰﾀ貼付ｼｰﾄ!$A$3:$V$34,18))","v":""},{"$f":"IF($C36=\"\",\"\",VLOOKUP($C36,女子ﾃﾞｰﾀ貼付ｼｰﾄ!$A$3:$V$34,16))","v":""},{"$f":"IF($C36=\"\",\"\",VLOOKUP($C36,女子ﾃﾞｰﾀ貼付ｼｰﾄ!$A$3:$V$34,12))","v":""},{"$f":"IF($C36=\"\",\"\",VLOOKUP($C36,女子ﾃﾞｰﾀ貼付ｼｰﾄ!$A$3:$V$34,9))","v":""}]
[30,null,null,{"$f":"IF($C37=\"\",\"\",VLOOKUP($C37,女子ﾃﾞｰﾀ貼付ｼｰﾄ!$A$3:$V$34,5))","v":""},{"$f":"IF($C37=\"\",\"\",VLOOKUP($C37,女子ﾃﾞｰﾀ貼付ｼｰﾄ!$A$3:$V$34,2))","v":""},{"$f":"IF($C37=\"\",\"\",VLOOKUP($C37,女子ﾃﾞｰﾀ貼付ｼｰﾄ!$A$3:$V$34,3))","v":""},"女",{"$f":"IF($C37=\"\",\"\",VLOOKUP($C37,女子ﾃﾞｰﾀ貼付ｼｰﾄ!$A$3:$V$34,22))","v":""},{"$f":"IF($C37=\"\",\"\",VLOOKUP($C37,女子ﾃﾞｰﾀ貼付ｼｰﾄ!$A$3:$V$34,18))","v":""},{"$f":"IF($C37=\"\",\"\",VLOOKUP($C37,女子ﾃﾞｰﾀ貼付ｼｰﾄ!$A$3:$V$34,16))","v":""},{"$f":"IF($C37=\"\",\"\",VLOOKUP($C37,女子ﾃﾞｰﾀ貼付ｼｰﾄ!$A$3:$V$34,12))","v":""},{"$f":"IF($C37=\"\",\"\",VLOOKUP($C37,女子ﾃﾞｰﾀ貼付ｼｰﾄ!$A$3:$V$34,9))","v":""}]
[31,null,null,{"$f":"IF($C38=\"\",\"\",VLOOKUP($C38,女子ﾃﾞｰﾀ貼付ｼｰﾄ!$A$3:$V$34,5))","v":""},{"$f":"IF($C38=\"\",\"\",VLOOKUP($C38,女子ﾃﾞｰﾀ貼付ｼｰﾄ!$A$3:$V$34,2))","v":""},{"$f":"IF($C38=\"\",\"\",VLOOKUP($C38,女子ﾃﾞｰﾀ貼付ｼｰﾄ!$A$3:$V$34,3))","v":""},"女",{"$f":"IF($C38=\"\",\"\",VLOOKUP($C38,女子ﾃﾞｰﾀ貼付ｼｰﾄ!$A$3:$V$34,22))","v":""},{"$f":"IF($C38=\"\",\"\",VLOOKUP($C38,女子ﾃﾞｰﾀ貼付ｼｰﾄ!$A$3:$V$34,18))","v":""},{"$f":"IF($C38=\"\",\"\",VLOOKUP($C38,女子ﾃﾞｰﾀ貼付ｼｰﾄ!$A$3:$V$34,16))","v":""},{"$f":"IF($C38=\"\",\"\",VLOOKUP($C38,女子ﾃﾞｰﾀ貼付ｼｰﾄ!$A$3:$V$34,12))","v":""},{"$f":"IF($C38=\"\",\"\",VLOOKUP($C38,女子ﾃﾞｰﾀ貼付ｼｰﾄ!$A$3:$V$34,9))","v":""}]
[32,null,null,{"$f":"IF($C39=\"\",\"\",VLOOKUP($C39,女子ﾃﾞｰﾀ貼付ｼｰﾄ!$A$3:$V$34,5))","v":""},{"$f":"IF($C39=\"\",\"\",VLOOKUP($C39,女子ﾃﾞｰﾀ貼付ｼｰﾄ!$A$3:$V$34,2))","v":""},{"$f":"IF($C39=\"\",\"\",VLOOKUP($C39,女子ﾃﾞｰﾀ貼付ｼｰﾄ!$A$3:$V$34,3))","v":""},"女",{"$f":"IF($C39=\"\",\"\",VLOOKUP($C39,女子ﾃﾞｰﾀ貼付ｼｰﾄ!$A$3:$V$34,22))","v":""},{"$f":"IF($C39=\"\",\"\",VLOOKUP($C39,女子ﾃﾞｰﾀ貼付ｼｰﾄ!$A$3:$V$34,18))","v":""},{"$f":"IF($C39=\"\",\"\",VLOOKUP($C39,女子ﾃﾞｰﾀ貼付ｼｰﾄ!$A$3:$V$34,16))","v":""},{"$f":"IF($C39=\"\",\"\",VLOOKUP($C39,女子ﾃﾞｰﾀ貼付ｼｰﾄ!$A$3:$V$34,12))","v":""},{"$f":"IF($C39=\"\",\"\",VLOOKUP($C39,女子ﾃﾞｰﾀ貼付ｼｰﾄ!$A$3:$V$34,9))","v":""}]
[33,null,null,{"$f":"IF($C40=\"\",\"\",VLOOKUP($C40,女子ﾃﾞｰﾀ貼付ｼｰﾄ!$A$3:$V$34,5))","v":""},{"$f":"IF($C40=\"\",\"\",VLOOKUP($C40,女子ﾃﾞｰﾀ貼付ｼｰﾄ!$A$3:$V$34,2))","v":""},{"$f":"IF($C40=\"\",\"\",VLOOKUP($C40,女子ﾃﾞｰﾀ貼付ｼｰﾄ!$A$3:$V$34,3))","v":""},"女",{"$f":"IF($C40=\"\",\"\",VLOOKUP($C40,女子ﾃﾞｰﾀ貼付ｼｰﾄ!$A$3:$V$34,22))","v":""},{"$f":"IF($C40=\"\",\"\",VLOOKUP($C40,女子ﾃﾞｰﾀ貼付ｼｰﾄ!$A$3:$V$34,18))","v":""},{"$f":"IF($C40=\"\",\"\",VLOOKUP($C40,女子ﾃﾞｰﾀ貼付ｼｰﾄ!$A$3:$V$34,16))","v":""},{"$f":"IF($C40=\"\",\"\",VLOOKUP($C40,女子ﾃﾞｰﾀ貼付ｼｰﾄ!$A$3:$V$34,12))","v":""},{"$f":"IF($C40=\"\",\"\",VLOOKUP($C40,女子ﾃﾞｰﾀ貼付ｼｰﾄ!$A$3:$V$34,9))","v":""}]
[34,null,null,{"$f":"IF($C41=\"\",\"\",VLOOKUP($C41,女子ﾃﾞｰﾀ貼付ｼｰﾄ!$A$3:$V$34,5))","v":""},{"$f":"IF($C41=\"\",\"\",VLOOKUP($C41,女子ﾃﾞｰﾀ貼付ｼｰﾄ!$A$3:$V$34,2))","v":""},{"$f":"IF($C41=\"\",\"\",VLOOKUP($C41,女子ﾃﾞｰﾀ貼付ｼｰﾄ!$A$3:$V$34,3))","v":""},"女",{"$f":"IF($C41=\"\",\"\",VLOOKUP($C41,女子ﾃﾞｰﾀ貼付ｼｰﾄ!$A$3:$V$34,22))","v":""},{"$f":"IF($C41=\"\",\"\",VLOOKUP($C41,女子ﾃﾞｰﾀ貼付ｼｰﾄ!$A$3:$V$34,18))","v":""},{"$f":"IF($C41=\"\",\"\",VLOOKUP($C41,女子ﾃﾞｰﾀ貼付ｼｰﾄ!$A$3:$V$34,16))","v":""},{"$f":"IF($C41=\"\",\"\",VLOOKUP($C41,女子ﾃﾞｰﾀ貼付ｼｰﾄ!$A$3:$V$34,12))","v":""},{"$f":"IF($C41=\"\",\"\",VLOOKUP($C41,女子ﾃﾞｰﾀ貼付ｼｰﾄ!$A$3:$V$34,9))","v":""}]
[35,null,null,{"$f":"IF($C42=\"\",\"\",VLOOKUP($C42,女子ﾃﾞｰﾀ貼付ｼｰﾄ!$A$3:$V$34,5))","v":""},{"$f":"IF($C42=\"\",\"\",VLOOKUP($C42,女子ﾃﾞｰﾀ貼付ｼｰﾄ!$A$3:$V$34,2))","v":""},{"$f":"IF($C42=\"\",\"\",VLOOKUP($C42,女子ﾃﾞｰﾀ貼付ｼｰﾄ!$A$3:$V$34,3))","v":""},"女",{"$f":"IF($C42=\"\",\"\",VLOOKUP($C42,女子ﾃﾞｰﾀ貼付ｼｰﾄ!$A$3:$V$34,22))","v":""},{"$f":"IF($C42=\"\",\"\",VLOOKUP($C42,女子ﾃﾞｰﾀ貼付ｼｰﾄ!$A$3:$V$34,18))","v":""},{"$f":"IF($C42=\"\",\"\",VLOOKUP($C42,女子ﾃﾞｰﾀ貼付ｼｰﾄ!$A$3:$V$34,16))","v":""},{"$f":"IF($C42=\"\",\"\",VLOOKUP($C42,女子ﾃﾞｰﾀ貼付ｼｰﾄ!$A$3:$V$34,12))","v":""},{"$f":"IF($C42=\"\",\"\",VLOOKUP($C42,女子ﾃﾞｰﾀ貼付ｼｰﾄ!$A$3:$V$34,9))","v":""}]
[36,null,null,{"$f":"IF($C43=\"\",\"\",VLOOKUP($C43,女子ﾃﾞｰﾀ貼付ｼｰﾄ!$A$3:$V$34,5))","v":""},{"$f":"IF($C43=\"\",\"\",VLOOKUP($C43,女子ﾃﾞｰﾀ貼付ｼｰﾄ!$A$3:$V$34,2))","v":""},{"$f":"IF($C43=\"\",\"\",VLOOKUP($C43,女子ﾃﾞｰﾀ貼付ｼｰﾄ!$A$3:$V$34,3))","v":""},"女",{"$f":"IF($C43=\"\",\"\",VLOOKUP($C43,女子ﾃﾞｰﾀ貼付ｼｰﾄ!$A$3:$V$34,22))","v":""},{"$f":"IF($C43=\"\",\"\",VLOOKUP($C43,女子ﾃﾞｰﾀ貼付ｼｰﾄ!$A$3:$V$34,18))","v":""},{"$f":"IF($C43=\"\",\"\",VLOOKUP($C43,女子ﾃﾞｰﾀ貼付ｼｰﾄ!$A$3:$V$34,16))","v":""},{"$f":"IF($C43=\"\",\"\",VLOOKUP($C43,女子ﾃﾞｰﾀ貼付ｼｰﾄ!$A$3:$V$34,12))","v":""},{"$f":"IF($C43=\"\",\"\",VLOOKUP($C43,女子ﾃﾞｰﾀ貼付ｼｰﾄ!$A$3:$V$34,9))","v":""}]
[37,null,null,{"$f":"IF($C44=\"\",\"\",VLOOKUP($C44,女子ﾃﾞｰﾀ貼付ｼｰﾄ!$A$3:$V$34,5))","v":""},{"$f":"IF($C44=\"\",\"\",VLOOKUP($C44,女子ﾃﾞｰﾀ貼付ｼｰﾄ!$A$3:$V$34,2))","v":""},{"$f":"IF($C44=\"\",\"\",VLOOKUP($C44,女子ﾃﾞｰﾀ貼付ｼｰﾄ!$A$3:$V$34,3))","v":""},"女",{"$f":"IF($C44=\"\",\"\",VLOOKUP($C44,女子ﾃﾞｰﾀ貼付ｼｰﾄ!$A$3:$V$34,22))","v":""},{"$f":"IF($C44=\"\",\"\",VLOOKUP($C44,女子ﾃﾞｰﾀ貼付ｼｰﾄ!$A$3:$V$34,18))","v":""},{"$f":"IF($C44=\"\",\"\",VLOOKUP($C44,女子ﾃﾞｰﾀ貼付ｼｰﾄ!$A$3:$V$34,16))","v":""},{"$f":"IF($C44=\"\",\"\",VLOOKUP($C44,女子ﾃﾞｰﾀ貼付ｼｰﾄ!$A$3:$V$34,12))","v":""},{"$f":"IF($C44=\"\",\"\",VLOOKUP($C44,女子ﾃﾞｰﾀ貼付ｼｰﾄ!$A$3:$V$34,9))","v":""}]
[38,null,null,{"$f":"IF($C45=\"\",\"\",VLOOKUP($C45,女子ﾃﾞｰﾀ貼付ｼｰﾄ!$A$3:$V$34,5))","v":""},{"$f":"IF($C45=\"\",\"\",VLOOKUP($C45,女子ﾃﾞｰﾀ貼付ｼｰﾄ!$A$3:$V$34,2))","v":""},{"$f":"IF($C45=\"\",\"\",VLOOKUP($C45,女子ﾃﾞｰﾀ貼付ｼｰﾄ!$A$3:$V$34,3))","v":""},"女",{"$f":"IF($C45=\"\",\"\",VLOOKUP($C45,女子ﾃﾞｰﾀ貼付ｼｰﾄ!$A$3:$V$34,22))","v":""},{"$f":"IF($C45=\"\",\"\",VLOOKUP($C45,女子ﾃﾞｰﾀ貼付ｼｰﾄ!$A$3:$V$34,18))","v":""},{"$f":"IF($C45=\"\",\"\",VLOOKUP($C45,女子ﾃﾞｰﾀ貼付ｼｰﾄ!$A$3:$V$34,16))","v":""},{"$f":"IF($C45=\"\",\"\",VLOOKUP($C45,女子ﾃﾞｰﾀ貼付ｼｰﾄ!$A$3:$V$34,12))","v":""},{"$f":"IF($C45=\"\",\"\",VLOOKUP($C45,女子ﾃﾞｰﾀ貼付ｼｰﾄ!$A$3:$V$34,9))","v":""}]
[39,null,null,{"$f":"IF($C46=\"\",\"\",VLOOKUP($C46,女子ﾃﾞｰﾀ貼付ｼｰﾄ!$A$3:$V$34,5))","v":""},{"$f":"IF($C46=\"\",\"\",VLOOKUP($C46,女子ﾃﾞｰﾀ貼付ｼｰﾄ!$A$3:$V$34,2))","v":""},{"$f":"IF($C46=\"\",\"\",VLOOKUP($C46,女子ﾃﾞｰﾀ貼付ｼｰﾄ!$A$3:$V$34,3))","v":""},"女",{"$f":"IF($C46=\"\",\"\",VLOOKUP($C46,女子ﾃﾞｰﾀ貼付ｼｰﾄ!$A$3:$V$34,22))","v":""},{"$f":"IF($C46=\"\",\"\",VLOOKUP($C46,女子ﾃﾞｰﾀ貼付ｼｰﾄ!$A$3:$V$34,18))","v":""},{"$f":"IF($C46=\"\",\"\",VLOOKUP($C46,女子ﾃﾞｰﾀ貼付ｼｰﾄ!$A$3:$V$34,16))","v":""},{"$f":"IF($C46=\"\",\"\",VLOOKUP($C46,女子ﾃﾞｰﾀ貼付ｼｰﾄ!$A$3:$V$34,12))","v":""},{"$f":"IF($C46=\"\",\"\",VLOOKUP($C46,女子ﾃﾞｰﾀ貼付ｼｰﾄ!$A$3:$V$34,9))","v":""}]
[40,null,null,{"$f":"IF($C47=\"\",\"\",VLOOKUP($C47,女子ﾃﾞｰﾀ貼付ｼｰﾄ!$A$3:$V$34,5))","v":""},{"$f":"IF($C47=\"\",\"\",VLOOKUP($C47,女子ﾃﾞｰﾀ貼付ｼｰﾄ!$A$3:$V$34,2))","v":""},{"$f":"IF($C47=\"\",\"\",VLOOKUP($C47,女子ﾃﾞｰﾀ貼付ｼｰﾄ!$A$3:$V$34,3))","v":""},"女",{"$f":"IF($C47=\"\",\"\",VLOOKUP($C47,女子ﾃﾞｰﾀ貼付ｼｰﾄ!$A$3:$V$34,22))","v":""},{"$f":"IF($C47=\"\",\"\",VLOOKUP($C47,女子ﾃﾞｰﾀ貼付ｼｰﾄ!$A$3:$V$34,18))","v":""},{"$f":"IF($C47=\"\",\"\",VLOOKUP($C47,女子ﾃﾞｰﾀ貼付ｼｰﾄ!$A$3:$V$34,16))","v":""},{"$f":"IF($C47=\"\",\"\",VLOOKUP($C47,女子ﾃﾞｰﾀ貼付ｼｰﾄ!$A$3:$V$34,12))","v":""},{"$f":"IF($C47=\"\",\"\",VLOOKUP($C47,女子ﾃﾞｰﾀ貼付ｼｰﾄ!$A$3:$V$34,9))","v":""}]
[]
["※記入方法について",null,null,null,null,null,null,null,null,null,null,null,null,null,"（種目）",null,{"$f":"N49*#REF!","v":{"$error":"#REF!"}}]
["１．ナンバーの県欄には、各県登録ナンバーを記入　北欄の記載は不要"]
["２．最高記録は2019.1.1～大会申込締切までの最高記録を記入",null,null,null,null,null,null,null,null,null,null,null,null,null,"（種目）",null,{"$f":"N51*#REF!","v":{"$error":"#REF!"}}]
["３．種目の年、月は記録を出した年を西暦下二けた(19or20)と月の４桁で記入"]
["４．不足する場合は、27行と48行の間の行を再表示してください。",null,null,null,null,null,null,null,null,null,null,null,null,null,"（種目）",null,{"$f":"N53*#REF!","v":{"$error":"#REF!"}}]
["　　それでも足りない場合は、行をコピーして挿入してください。"]
["５．申込書記入例を参考に種目等を記入してください。","個人情報保護について",null,null,null,null,null,null,null,null,null,null,null,null,"（種目）",null,{"$f":"N55*#REF!","v":{"$error":"#REF!"}}]
["※","ここに書かれている内容については本大会の運営だけに利用し、"]
[null,"その他、外部への情報供与は一切行いません。",null,null,null,null,null,null,null,null,null,null,null,null,"（種目）",null,{"$f":"N57*#REF!","v":{"$error":"#REF!"}}]
[]
[null,null,null,null,null,null,null,null,null,null,null,null,null,null,null,"合計",{"$f":"Q49+Q51+Q53+Q55+Q57","v":{"$error":"#REF!"}}]
[]
[null,null,null,null,null,null,null,null,null,null,null,null,"記載責任者（携帯電話番号）"]
[null,"所属団体",null,null,null,null,null,null,null,null,null,null,"氏名"]
[null,null,null,null,null,null,null,null,null,null,null,null,"（",null,null,null,null,"）"]
[]
[null,"住所","〒",null,null,null,null,null,null,null,null,null,"学校の場合は、学校長出場承認印"]
[]
[null,"電話",null,null,null,null,null,null,null,null,null,null,null,null,null,null,null,"印"]
[null,"FAX"]

{"sheet":"【様式5-1】2020年宿泊要項","index":6,"n_rows":68,"n_cols":16,"rows_kept":68,"cut":false,"hidden":false,"merged":[[59,1,60,2],[59,3,59,5],[59,6,59,8],[59,9,60,17],[60,3,60,5],[60,6,60,8],[35,1,36,16],[57,1,58,2],[57,3,57,5],[57,6,57,8],[57,9,57,11],[57,12,57,14],[57,15,57,17],[58,3,58,5],[58,6,58,8],[58,9,58,11],[58,12,58,14],[58,15,58,17],[27,1,27,2],[28,1,28,3],[28,4,28,6],[28,7,28,16],[29,1,30,3],[29,4,30,6],[29,7,32,16],[31,1,32,3],[31,4,32,6],[24,15,26,16],[19,1,21,1],[19,2,21,3],[19,4,21,8],[19,9,21,11],[19,12,23,14],[19,15,23,16],[22,1,23,1],[22,2,23,3],[22,4,23,8],[22,9,23,11],[24,1,26,1],[24,2,26,3],[24,4,26,8],[24,9,26,11],[24,12,26,14],[16,15,18,16],[13,1,15,1],[13,2,15,3],[13,4,15,8],[13,9,15,11],[13,12,15,14],[13,15,15,16],[16,1,18,1],[16,2,18,3],[16,4,18,8],[16,9,18,11],[16,12,18,14],[0,0,2,17],[3,0,4,17],[12,2,12,3],[12,4,12,8],[12,9,12,11],[12,12,12,14],[12,15,12,16]]}
["第64回北陸陸上競技選手権大会\n兼 第105回日本陸上競技選手権大会北陸地域予選会"]
[]
[]
["宿泊・弁当　申込要項"]
[]
[null,"　第64回北陸陸上競技選手権大会　兼　第105回日本陸上競技選手権大会北陸地域予選会に参加される"]
[null,"選手ならびに引率の方の宿泊・弁当の申込につきまして、下記にてご案内申し上げます。"]
[]
[null,"１．宿泊施設、宿泊料金のご案内"]
[null,"　ご利用宿泊日　2020年8月21日（金）・8月22日（土）"]
[null,"　【宿泊施設】料金は税込表示、おひとり様あたり（1泊2食料金）"]
[null,"　欠食については夕食＠1,500円、朝食＠500円を差し引きさせていただきます（Aタイプの朝食欠食は不可）。"]
[null,"タイプ記号","地区",null,"施設名",null,null,null,null,"部屋タイプ",null,null,"料金",null,null,"申込可能人員"]
[null,"S","長岡駅前",null,"・長岡グランドホテル　　　　　　　　　　　　　　　　　　　　　　　　　　　　　　　",null,null,null,null,"洋室シングル・ツイン",null,null,12000,null,null,"５０名"]
[]
[]
[null,"A","長岡インター",null,"・ホテルルートイン長岡インター\n（朝食無料）",null,null,null,null,"洋室シングル",null,null,11000,null,null,"５０名"]
[]
[]
[null,"B","長岡駅前",null,"・ホテルニューグリーン長岡\n・ホテルニューグリーンプラザ\n・長岡ターミナルホテル（シングルのみ）",null,null,null,null,"洋室シングル・ツイン",null,null,9500,null,null,"３７０名"]
[]
[]
[null,"C","長岡インター",null,"・ホテルリバーイン",null,null,null,null,"洋室シングル・トリプル"]
[]
[null,"D","長岡インター",null,"・ホテルビジネスイン長岡",null,null,null,null,"洋室シングル",null,null,9000,null,null,"３０名"]
[]
[]
[null,"【弁当】",null,"※料金は、税込表示、お茶付き"]
[null,"日付",null,null,"料金",null,null,"受け渡し場所"]
[null,"8月22日（土）",null,null,"900円",null,null,"長岡市営陸上競技場（弁当引換所）"]
[]
[null,"8月23日（日）",null,null,"900円"]
[]
[]
[null,"２．申込方法"]
[null,"※必ずご一読の上、お申込をお願い致します。　【申込締切日：7月22日（水）17:30】"]
[]
[null,"　・お申込につきましては、宿泊希望タイプ記号（S・A・B・C・D）を希望順にご記入下さい。"]
[null,"　・ご利用いただくホテル名につきましては、予約確認書にて連絡させていただきます。"]
[null,"　　（同一の学校・所属を同じホテルでご利用いただくために、こちらで調整を行います。）"]
[null,"　･別紙申込用紙に必要事項をご記入の上、ＦＡＸにてお送り下さい。"]
[null,"　　または、右記申込サイトから申込も可能です。",null,null,null,null,null,null,"→","https://va.apollon.nta.co.jp/rikujo_64-hokuriku_105-nihon/"]
[null,null,"※配宿は選手・監督・コーチを優先いたします。ｼﾝｸﾞﾙ･ﾂｲﾝのご希望通りの手配ができない可能性もあります。"]
[null,null,"※宿泊施設の収容人員が満室に達した場合は、やむを得ず希望以外の宿泊施設または、"]
[null,null,"　利用予定宿泊施設以外の施設への配宿を行う場合があります。"]
[null,null,"※車・バスにてお越しの際、駐車料金が有料となります。大型・マイクロバス駐車場はホテルと別となりますので"]
[null,null,"　予めご了承下さい（事前に宿泊施設に連絡いただき、ご自身にて予約をお願い致します）。"]
[null,null,"※朝食は6：00開始が基本となります。一部6：30となる場合もございます。"]
[]
[null,"３．予約確認書及び請求書について"]
[null,null,"7月31日（金）以降に予約確認書・請求書をお送り致します。　※振込手数料はお客様負担とさせて頂きます。"]
[null,null,"お支払いにつきましては、8月14日（金）までに銀行振り込みにてお願い致します。"]
[null,null,"銀行振込みにてお願い致します（振込金受取書を領収書とさせていただきます）。"]
[]
[null,"４．変更・取消しについて"]
[null,"　・取消料につきましては、下記表の通りとなります。"]
[null,"　・取消・変更受付は、平日の営業時間内のみとなります（土日祝の連絡につきましては、翌営業日の受付扱いとなります）。"]
[null,"宿泊",null,"8/17（月）まで",null,null,"8/18（火）・19（水）",null,null,"8/20（木）前日",null,null,"8/21（金）正午12：00まで",null,null,"宿泊当日12：00以降、および無連絡不参加"]
[null,null,null,"無料",null,null,"宿泊代金の30%",null,null,"宿泊代金の40%",null,null,"宿泊代金の50%",null,null,"宿泊代金の100%"]
[null,"弁当",null,"8/19（水）17：00まで",null,null,"8/19（水）17：00以降"]
[null,null,null,"無料",null,null,"全額100%"]
[null,"　・お支払い後に変更・取消が生じた場合は、大会終了後、指定の銀行口座にご返金いたします。"]
[]
[null,"５．お申込み・お問い合わせについて"]
[null,"　（株）日本旅行　新潟支店　　担当：佐藤　豊・柴田　奈々"]
[null,"　　〒950-0087　　新潟県新潟市中央区東大通1-3-8 明治安田生命ビル1階"]
[null,"　　TEL：025-248-1013　FAX：025-248-6167"]
[null,"　営業時間：平日　9：30～17：30",null,null,null,null,null,"※土・日・祝日は休業です。"]

{"sheet":"【様式5-2】2020年宿泊申込書","index":7,"n_rows":67,"n_cols":20,"rows_kept":67,"cut":false,"hidden":false,"merged":[[63,1,64,2],[63,3,63,20],[66,1,67,20],[61,1,62,4],[61,5,61,9],[61,13,62,13],[61,15,61,16],[61,17,61,20],[62,5,62,9],[62,15,62,16],[62,17,62,20],[56,1,56,3],[56,4,56,8],[56,9,56,10],[56,11,56,13],[56,14,56,15],[57,1,57,3],[57,4,57,8],[57,9,57,10],[57,11,57,13],[57,14,57,15],[30,1,41,3],[52,11,53,16],[54,1,54,15],[55,1,55,3],[55,4,55,8],[55,9,55,10],[55,11,55,13],[55,14,55,15],[46,4,49,5],[46,6,47,6],[46,11,47,16],[48,6,49,6],[48,11,49,16],[50,4,53,4],[50,5,53,5],[50,6,51,6],[50,11,51,16],[52,6,53,6],[42,1,53,3],[42,4,45,4],[42,5,45,5],[42,6,43,6],[42,7,53,10],[42,11,43,16],[42,17,53,20],[44,6,45,6],[44,11,45,16],[38,4,41,4],[38,5,41,5],[38,6,39,6],[38,7,39,10],[38,11,39,16],[38,17,39,20],[40,6,41,6],[40,7,41,10],[40,11,41,16],[40,17,41,20],[28,6,29,6],[28,7,29,10],[28,17,29,20],[30,17,31,20],[32,6,33,6],[32,7,33,10],[32,11,33,16],[32,17,33,20],[34,4,37,5],[34,6,35,6],[34,7,35,10],[34,11,35,16],[34,17,35,20],[30,4,33,4],[30,5,33,5],[30,6,31,6],[30,7,31,10],[30,11,31,16],[36,6,37,6],[36,7,37,10],[36,11,37,16],[36,17,37,20],[16,1,17,3],[16,4,17,20],[18,1,29,3],[18,4,21,4],[18,5,21,5],[18,6,19,6],[18,7,19,10],[18,11,29,16],[18,17,19,20],[20,6,21,6],[20,7,21,10],[20,17,21,20],[22,4,25,5],[22,6,23,6],[22,7,23,10],[22,17,23,20],[24,6,25,6],[24,7,25,10],[24,17,25,20],[26,4,29,4],[26,5,29,5],[26,6,27,6],[26,7,27,10],[26,17,27,20],[0,19,1,20],[2,19,3,20],[3,1,4,6],[3,8,3,14],[4,8,4,14],[5,12,7,20],[7,1,7,2],[13,1,15,10],[13,11,15,20]]}
[null,"　第64回北陸陸上競技選手権大会",null,null,null,null,null,null,null,null,null,null,null,null,null,null,null,null,null,"県名"]
[null,"　兼　第105回日本陸上競技選手権大会北陸地域予選会"]
[]
[null,"FAX送信先：025-248-6167\n（株）日本旅行新潟支店　宛\n（TEL：025-248-1013）",null,null,null,null,null,null,"宿　泊　申　込　書"]
[null,null,null,null,null,null,null,null,"申込締切：7月22日（水）17：30"]
[null,"申込責任者名　",null,null,null,null,null,null,null,null,null,null,"　　　TEL：　　　　　　　　-　　　　　　　　　-　　　　　　　　　　.\n\n　　　FAX：　　　　　　　　-　　　　　　　　　-　　　　　　　　　　.\n\n　　E-mail：　　　　　　　　　　　　@　　　　　　　　　　　　　　　　　."]
[]
[null,"郵送先                                所在地",null,"〒　　　　-"]
[]
[null,"連絡責任者",null,null,null,null,null,null,null,null,null,null,"携帯電話",null,null,null," -",null,"-"]
[]
[]
[null,"下記の通り申し込みいたします。"]
[null,"宿泊希望施設タイプ記号",null,null,null,null,null,null,null,null,null,"第１希望【　　　　　　】　第２希望【　　　　　　】　第３希望【　　　　　　】"]
[]
[]
[null,"宿泊日",null,null,"　食事条件　/　人員をご記入下さい。"]
[]
[null,"8月21日（金）",null,null,"監督","コーチ","男","　宿　　泊　　　　　　　　　　名　",null,null,null,null,null,null,null,null,null,"　夕　　食　　　　　　　　　　名　"]
[]
[null,null,null,null,null,null,"女","　宿　　泊　　　　　　　　　　名　",null,null,null,null,null,null,null,null,null,"　夕　　食　　　　　　　　　　名　"]
[]
[null,null,null,null,"選手",null,"男","　宿　　泊　　　　　　　　　　名　",null,null,null,null,null,null,null,null,null,"　夕　　食　　　　　　　　　　名　"]
[]
[null,null,null,null,null,null,"女","　宿　　泊　　　　　　　　　　名　",null,null,null,null,null,null,null,null,null,"　夕　　食　　　　　　　　　　名　"]
[]
[null,null,null,null,"付添","その他","男","　宿　　泊　　　　　　　　　　名　",null,null,null,null,null,null,null,null,null,"　夕　　食　　　　　　　　　　名　"]
[]
[null,null,null,null,null,null,"女","　宿　　泊　　　　　　　　　　名　",null,null,null,null,null,null,null,null,null,"　夕　　食　　　　　　　　　　名　"]
[]
[null,"8月22日（土）",null,null,"監督","コーチ","男","　宿　　泊　　　　　　　　　　名　",null,null,null,"　朝　　食　　　　　　　　　　名　",null,null,null,null,null,"　夕　　食　　　　　　　　　　名　"]
[]
[null,null,null,null,null,null,"女","　宿　　泊　　　　　　　　　　名　",null,null,null,"　朝　　食　　　　　　　　　　名　",null,null,null,null,null,"　夕　　食　　　　　　　　　　名　"]
[]
[null,null,null,null,"選手",null,"男","　宿　　泊　　　　　　　　　　名　",null,null,null,"　朝　　食　　　　　　　　　　名　",null,null,null,null,null,"　夕　　食　　　　　　　　　　名　"]
[]
[null,null,null,null,null,null,"女","　宿　　泊　　　　　　　　　　名　",null,null,null,"　朝　　食　　　　　　　　　　名　",null,null,null,null,null,"　夕　　食　　　　　　　　　　名　"]
[]
[null,null,null,null,"付添","その他","男","　宿　　泊　　　　　　　　　　名　",null,null,null,"　朝　　食　　　　　　　　　　名　",null,null,null,null,null,"　夕　　食　　　　　　　　　　名　"]
[]
[null,null,null,null,null,null,"女","　宿　　泊　　　　　　　　　　名　",null,null,null,"　朝　　食　　　　　　　　　　名　",null,null,null,null,null,"　夕　　食　　　　　　　　　　名　"]
[]
[null,"8月23日（日）",null,null,"監督","コーチ","男",null,null,null,null,"　朝　　食　　　　　　　　　　名　"]
[]
[null,null,null,null,null,null,"女",null,null,null,null,"　朝　　食　　　　　　　　　　名　"]
[]
[null,null,null,null,"選手",null,"男",null,null,null,null,"　朝　　食　　　　　　　　　　名　"]
[]
[null,null,null,null,null,null,"女",null,null,null,null,"　朝　　食　　　　　　　　　　名　"]
[]
[null,null,null,null,"付添","その他","男",null,null,null,null,"　朝　　食　　　　　　　　　　名　"]
[]
[null,null,null,null,null,null,"女",null,null,null,null,"　朝　　食　　　　　　　　　　名　"]
[]
[null,"欠食について：夕食＠1,500円、朝食＠500円を差し引きさせていただきます。"]
[]
[null,"　　8月22日（土）",null,null,"弁当代金",null,null,null,null,900,null,"円（消費税込）",null,null,null,null,null,null,null,"個"]
[null,"　　8月23日（日）",null,null,"弁当代金",null,null,null,null,900,null,"円（消費税込）",null,null,null,null,null,null,null,"個"]
[]
[null,"　　到着予定時刻",null,null,null,null,"2020年　　8月　　　　日　（　　）　　　　　　午前　・　午後　　　　　　　　　時　　　　　　　　　分　頃"]
[null,"　　来車の有無",null,null,null,null,"　有　　（大型バス　　　　　台　　・　　マイクロバス　　　　　台　　・　　自家用車　　　　　　台）　　　　無"]
[null,"　　ご返金先",null,null,null,null,null,null,null,null,null,"銀行",null,"普通\n・\n当座",null,"口座番号"]
[null,null,null,null,null,null,null,null,null,null,null,"支店",null,null,null,"口座名"]
[null,"　　備考",null,"※車・バスにてお越しの際、駐車料金が有料となります。大型・マイクロバス駐車場はホテルと別となりますので、事前に宿泊施設に連絡ください。\n　また、ホテルによって駐車場の設備がない場合もございます。その場合はお客様にて駐車場の手配・確保を行っていただきますので予めご了承くださいませ。"]
[]
[null,"【個人情報の取扱について】"]
[null,"  当社は、旅行申込の際に提出された申込書等に記載された個人情報について、お客様との間の連絡の為に利用させていただくほか、お客様がお申込頂いた旅行において宿泊施設などの提供するサービスの手配及びそれらのサービスの受領のために手続に必要な範囲内で利用させていただきます。その他の目的で利用することはございません。"]